{"text_format":"1","workbook":"xlsx","n_sheets":42,"sheets":["АР АПТЛ","Т Ак.л","Т №6","Т № 55","Т №14","Т №16","Т №33","Т № 37","Т ПК","Стр ЦДОД","ЗС Сам","ЗС №86-87","ЗС №80","ЗС №87","ЗС №196","ЗС №197","АР  №2","АР №4","АР Нов","АР ДДТ","БР Выс","БР Бак","ЗР Зыр","ЗР Зыр Выс"," КР Кож №1","КР Кож №2","КР Вол Крив","КР Крив"," МР Мол","ПР Пар. ДДТ","ПР Куян"," ПР Пер","ТР  Вор","ТР Мал","ТР Тур","ТР Чер"," ТР Кал","ТР ДДТ","ТР Корн","ЧР Нов","ШР Поб","Лист1"],"not_rendered":{"charts":0,"images":0,"macros":1,"external_links":0,"defined_names":0,"comments":0,"pivot_tables":0},"unopened":[],"bounds":{"document_bytes":16777216,"sheet_cells":100000,"rows_first":2000,"rows_last":500,"rows_between":2000,"halvings":0,"cell_chars":16384,"cell_head_chars":4096},"cells_cut":0,"cells_raw":0,"read":"whole","date_system":"1900"}

{"sheet":"АР АПТЛ","index":0,"n_rows":68,"n_cols":9,"rows_kept":68,"cut":false,"hidden":false,"merged":[[65,4,65,5],[57,4,57,5],[46,3,46,8],[66,4,66,5],[58,2,66,2],[62,3,62,8],[61,4,61,5],[63,4,63,5],[59,4,59,5],[58,4,58,5],[46,2,57,2],[64,4,64,5],[60,4,60,5],[44,4,44,5],[56,4,56,5],[55,4,55,5],[51,3,51,8],[48,4,48,5],[49,4,49,5],[54,4,54,5],[13,4,13,5],[22,2,25,2],[9,0,9,6],[12,4,12,5],[14,4,14,5],[16,4,16,5],[12,2,15,2],[10,0,10,6],[15,4,15,5],[11,2,11,3],[23,4,23,5],[12,1,21,1],[21,4,21,5],[16,2,19,2],[22,1,37,1],[17,4,17,5],[18,4,18,5],[20,4,20,5],[20,2,21,2],[19,4,19,5],[26,4,26,5],[25,4,25,5],[37,4,37,5],[26,2,28,2],[27,4,27,5],[29,4,29,5],[31,4,31,5],[32,4,32,5],[30,4,30,5],[35,4,35,5],[1,0,1,1],[2,0,2,1],[6,0,6,6],[7,0,7,6],[8,0,8,6],[3,0,3,1],[0,3,2,8],[0,0,0,2],[46,0,50,0],[36,2,37,2],[53,4,53,5],[41,0,45,0],[43,4,43,5],[47,4,47,5],[36,4,36,5],[41,2,45,2],[45,4,45,5],[38,4,38,5],[39,4,39,5],[41,3,41,8],[42,4,42,5],[38,2,40,2],[38,1,66,1],[40,4,40,5],[67,0,67,7],[3,3,3,8],[29,2,35,2],[28,4,28,5],[50,4,50,5],[52,4,52,5],[33,4,33,5],[34,4,34,5],[4,0,4,1],[5,0,5,1],[4,3,4,8],[5,3,5,8],[22,4,22,5],[62,0,66,0],[24,4,24,5],[51,0,54,0]]}
["РЕЙТИНГ",null,null,"ОЦЕНОЧНЫЙ ЛИСТ РЕЙТИНГА РЕЗУЛЬТАТИВНОСТИ ОБРАЗОВАТЕЛЬНЫХ ПРОГРАММ ЦЕНТРОВ ГРАЖДАНСКОГО ОБРАЗОВАНИЯ 2012-2013  "]
["первый",null,{"$f":"SUM(I13:I22)","v":11}]
["второй",null,{"$f":"SUM(I23:I38)","v":16.3}]
["третий",null,{"$f":"SUM(I39:I41,I43:I46,I48:I51,I53:I62,I64:I67)","v":16.100000000000001},"Сокращенное наименование образовательного учреждения ОГБОУ СПО \"АТПромИс\""]
["общее",null,{"$f":"SUM(C2:C4)","v":43.400000000000006},"Центр гражданского образования \"Содружество\""]
[1.04,null,{"$f":"C5*A6","v":45.13600000000001},"Образовательная Программа \"Социальное проектирование\"\""]
["Общее количество слушателей образовательной Программы",null,null,null,null,null,null,15,"человек"]
["Количество педагогических работников ",null,null,null,null,null,null,3,"человек"]
["Количество консультантов из числа опытных старшеклассников, выпускников Центра",null,null,null,null,null,null,0,"человек"]
["Количество привлеченных специалистов",null,null,null,null,null,null,0,"человек"]
["Продолжительность образовательной Программы",null,null,null,null,null,null,32,"часов"]
["№","Направ-ление","Критерии",null,"Значение критерия","Единица измерения","Значение в единицах измерения","Система оценки","Рейтинговое значение"]
[1,"Образовательная программа","адаптированность","продолжительность образовательной Программы","количество часов",null,{"$f":"H11","v":32},"18-24 + 1б,\n25-48 + 2б,  \nболее 48 + 3б",{"$f":"IF($G$13>17,1,0)+IF($G$13>24,1,0)+IF($G$13>48,1,0)","v":2}]
[2,null,null,"наличие модулей в образовательной Программе для разновозрастных групп","для обучающихся = 1,\n для обучающихся и взрослых = 2",null,1,"1 + 1б,\n2 + 2б",{"$f":"IF(G14=1,1,0)+IF(G14=2,2,0)","v":1}]
[3,null,null,"наличие в образовательной Программе активных и интерактивных форм обучения","менее 50% занятий = 1,\n более 50% занятий = 2",null,2,"1 + 1б,\n2 + 2б",{"$f":"IF(G15=1,1,0)+IF(G15=2,2,0)","v":2}]
[4,null,null,"преемственность образовательных Программ из года в год","если существует = 1",null,1,"да + 1б",{"$f":"IF(G16=1,1,0)","v":1}]
[5,null,"доступность","наличие модулей, предложенных слушателям на выбор","если 2 модуля = 1,\n3 и более модулей = 2",null,0,"1 + 1б,\n2 + 2б",{"$f":"IF(G17=1,1,0)+IF(G17=2,2,0)","v":0}]
[6,null,null,"проведение мониторинга уровня сформированности ключевых компетентностей","если да = 1",null,1,"да + 3б",{"$f":"IF(G18=1,3,0)","v":3}]
[7,null,null,"программа реализуется в сетевом взаимодействии с другими Центрами","если да = 1",null,0,"да + 2б",{"$f":"IF(G19=1,2,0)","v":0}]
[8,null,null,"доля слушателей, привлеченных из других ОУ","количество",null,0,"100% + 3б",{"$f":"ROUND((G20/H7*3),1)","v":0}]
[9,null,"полнота реализации","Программа реализуется в полном объеме","если да = 1",null,1,"да + 1,5б,\nнет + 1б",{"$f":"IF(G21=1,1.5,1)","v":1.5}]
[10,null,null,"Программа изменилась при лучших условиях","если да = 1",null,1,"да + 0,5б",{"$f":"IF(G22=1,0.5,0)","v":0.5}]
[11,"Организация образовательного процесса","кадровое обеспечение","укомплектованность преподавательского состава в соответствии с Программой","состав полностью укомплектован = 1",null,1,"да + 2б,\nнет + 1б",{"$f":"IF(G23=1,2,1)","v":2}]
[12,null,null,"подготовка преподавателей по теме Программы","количество",null,2,"100% + 2б",{"$f":"ROUND((G24/(H8+H9+H10)*2),1)","v":1.3}]
[13,null,null,"привлечение специалистов из профессионального сообщества","количество",null,{"$f":"H10","v":0},"100% + 2б",{"$f":"ROUND((G25/(H9+H10+H8)*2),1)","v":0}]
[14,null,null,"привлечение консультантов из числа обучающихся, выпускников","количество",null,{"$f":"H9","v":0},"100% + 2б",{"$f":"ROUND((G26/(H10+H9+H8)*2),1)","v":0}]
[15,null,"материально-техническое обеспечение","наличие достаточной материальной базы для проведения знаний","если да = 1",null,1,"да + 2б,\nнет + 1б",{"$f":"IF(G27=1,2,1)","v":2}]
[16,null,null,"использование материальной базы иных организаций","если да = 1",null,1,"да + 2б",{"$f":"IF(G28=1,2,0)","v":2}]
[17,null,null,"наличие оборудованных рабочих мест для слушателей и преподавателей","если да = 1, \nтолько преподавателей = 2",null,2,"1 + 1б, \n2 + 0,5б",{"$f":"IF(G29=1,1,0)+IF(G29=2,0.5,0)","v":0.5}]
[18,null,"информационно-технологическое обеспечение","наличие страницы Центра на сайте образовательного учреждения  ","если да = 1",null,1,"да + 1б",{"$f":"IF(G30=1,1,0)","v":1}]
[19,null,null,"регулярность обновления страницы Центра на сайте","более 1 раза в месяц = 1, \nреже = 2",null,2,"1 + 1б, \n2 + 0,5б",{"$f":"IF(G31=1,1,0)+IF(G31=2,0.5,0)","v":0.5}]
[20,null,null,"использование доступа в интернет преподавателями и слушателями","если да = 1,  только преподавателями = 2",null,1,"1 + 1б, \n2 + 0,5б",{"$f":"IF(G32=1,1,0)+IF(G32=2,0.5,0)","v":1}]
[21,null,null,"наличие методических материалов Центра на сайте ОУ","если да = 1",null,1,"да + 1б",{"$f":"IF(G33=1,1,0)","v":1}]
[22,null,null,"наличие Совета Центра","если да = 1",null,1,"да + 0,5б",{"$f":"IF(G34=1,0.5,0)","v":0.5}]
[23,null,null,"наличие утвержденного положения о деятельности Центра","если да = 1",null,1,"да + 0,5б",{"$f":"IF(G35=1,0.5,0)","v":0.5}]
[24,null,null,"наличие оформленных договоров с социальными партнерами","если да = 1",null,1,"да + 1б",{"$f":"IF(G36=1,1,0)","v":1}]
[25,null,"учебно-методическое обеспечение","обеспеченность слушателей учебниками, справочной литературой","полное обеспечение = 1,\nчастичное = 2",null,2,"1 + 2б, \n2 + 1б",{"$f":"IF(G37=1,2,0)+IF(G37=2,1,0)","v":1}]
[26,null,null,"обеспеченность преподавателей методической литературой, программными средствами обучения","полное обеспечение = 1,\nчастичное = 2",null,1,"1 + 2б, \n2 + 1б",{"$f":"IF(G38=1,2,0)+IF(G38=2,1,0)","v":2}]
[27,"Результаты образовательной деятельности","уровень и качество общеобразовательной подготовки слушателей","слушатели, применившие полученную информацию на практике","количество",null,16,"100% + 2б",{"$f":"ROUND(G39/H7*2,1)","v":2.1}]
[28,null,null,"слушатели, освоившие программу и получившие удостоверение","количество",null,16,"100% + 4б",{"$f":"ROUND(G40/$H$7*4,1)","v":4.3}]
[29,null,null,"слушатели, получившие сертификат","количество",null,0,"100% + 1б",{"$f":"ROUND(G41/H7*1,1)","v":0}]
[30,null,"сформированность ключевых компетентностей слушателей","слушатели, имеющие документально подтвержденные достижения по теме Программы:"]
[null,null,null," - на школьном уровне","количество",null,9,"100% + 2б",{"$f":"ROUND(G43/$H$7*2,1)","v":1.2}]
[null,null,null," - на муниципальном уровне","количество",null,0,"100% + 3б",{"$f":"ROUND(G44/$H$7*3,1)","v":0}]
[null,null,null," - на региональном уровне","количество",null,15,"100% + 4б",{"$f":"ROUND(G45/$H$7*4,1)","v":4}]
[null,null,null," - на федеральном  и международном уровнях","количество",null,0,"100% + 5б",{"$f":"ROUND(G46/$H$7*5,1)","v":0}]
[31,null,"уровень обобщения и представления опыта деятельности Центра по теме Программы","публичное представление промежуточных результатов реализации образовательной Программы:"]
[null,null,null," - на школьном уровне","количество",null,0,"за 1 + 0,1б",{"$f":"G48*0.1","v":0}]
[null,null,null," - на муниципальном уровне","количество",null,0,"за 1 + 0,2б",{"$f":"G49*0.2","v":0}]
[null,null,null," - на региональном уровне","количество",null,0,"за 1 + 0,3б",{"$f":"G50*0.3","v":0}]
[null,null,null," - на федеральном  и международном уровнях","количество",null,null,"за 1 + 0,5б",{"$f":"G51*0.4","v":0}]
[32,null,null,"организация мероприятий, семинаров различного уровня по теме образовательной Программы:"]
[null,null,null," - на муниципальном уровне","количество",null,0,"за 1 + 0,3б",{"$f":"G53*0.3","v":0}]
[null,null,null," - на региональном уровне","количество",null,1,"за 1 + 0,5б",{"$f":"G54*0.5","v":0.5}]
[null,null,null," - на федеральном  и международном уровнях","количество",null,null,"за 1 + 0,7б",{"$f":"G55*0.7","v":0}]
[33,null,null,"внешкольная экспертная деятельность преподавателей Центра по теме Программы","количество часов",null,null,"за 100ч + 2б",{"$f":"G56*0.02","v":0}]
[34,null,null,"наличие публикаций в методических изданиях по теме Программы","количество страниц А4, интервал 1,5, шрифт 14 ",null,null,"за 24 стр. + 2б",{"$f":"ROUND(G57*2/24,1)","v":0}]
[35,null,null,"количество публикаций в СМИ муниципального и регионального уровня по теме Программы","количество статей",null,0,"за 1 ст. + 0,1б",{"$f":"G58*0.1","v":0}]
[36,null,"уровень организации и степень достижения целей и задач инновационной деятельности","наличие рецензии на образовательную Программу","если да = 1",null,1,"да + 2б",{"$f":"IF(G59=1,2,0)","v":2}]
[37,null,null,"Программа Центра является частью программы развития ОУ","если да = 1",null,1,"да + 1б",{"$f":"IF(G60=1,1,0)","v":1}]
[38,null,null,"Программа Центра является частью муниципальной программы развития","если да = 1",null,null,"да + 2б",{"$f":"IF(G61=1,2,0)","v":0}]
[39,null,null,"наличие общественной экспертизы результатов реализации образовательной Программы","если да = 1",null,null,"да + 1б",{"$f":"IF(G62=1,1,0)","v":0}]
[40,null,null,"публичное представление результатов инновационной деятельности на научно-практических конференциях"]
[null,null,null," - на школьном уровне","если да = 1",null,0,"да + 0,3б",{"$f":"IF(G64=1,0.3,0)","v":0}]
[null,null,null," - на муниципальном уровне","если да = 1",null,0,"да + 0,5б",{"$f":"IF(G65=1,0.5,0)","v":0}]
[null,null,null," - на региональном уровне","если да = 1",null,1,"да + 1б",{"$f":"IF(G66=1,1,0)","v":1}]
[null,null,null," - на федеральном  и международном уровнях","если да = 1",null,null,"да + 2б",{"$f":"IF(G67=1,2,0)","v":0}]
["Общее рейтинговое значение ",null,null,null,null,null,null,null,{"$f":"SUM(I13:I41,I43:I46,I48:I51,I53:I62,I64:I67)","v":43.400000000000006}]

{"sheet":"Т Ак.л","index":1,"n_rows":68,"n_cols":9,"rows_kept":68,"cut":false,"hidden":false,"merged":[[60,4,60,5],[65,4,65,5],[38,1,66,1],[45,4,45,5],[40,4,40,5],[38,4,38,5],[39,4,39,5],[41,3,41,8],[64,4,64,5],[54,4,54,5],[46,3,46,8],[66,4,66,5],[58,2,66,2],[62,3,62,8],[61,4,61,5],[63,4,63,5],[59,4,59,5],[58,4,58,5],[44,4,44,5],[11,2,11,3],[38,2,40,2],[56,4,56,5],[55,4,55,5],[42,4,42,5],[46,2,57,2],[51,3,51,8],[48,4,48,5],[49,4,49,5],[41,2,45,2],[57,4,57,5],[32,4,32,5],[30,4,30,5],[0,3,2,8],[13,4,13,5],[22,2,25,2],[22,1,37,1],[17,4,17,5],[18,4,18,5],[20,4,20,5],[20,2,21,2],[1,0,1,1],[2,0,2,1],[6,0,6,6],[7,0,7,6],[8,0,8,6],[9,0,9,6],[19,4,19,5],[36,4,36,5],[3,0,3,1],[12,4,12,5],[14,4,14,5],[16,4,16,5],[12,2,15,2],[10,0,10,6],[15,4,15,5],[12,1,21,1],[21,4,21,5],[16,2,19,2],[23,4,23,5],[27,4,27,5],[29,4,29,5],[31,4,31,5],[62,0,66,0],[24,4,24,5],[25,4,25,5],[37,4,37,5],[26,2,28,2],[51,0,54,0],[26,4,26,5],[46,0,50,0],[36,2,37,2],[53,4,53,5],[41,0,45,0],[43,4,43,5],[35,4,35,5],[47,4,47,5],[0,0,0,2],[67,0,67,7],[3,3,3,8],[29,2,35,2],[28,4,28,5],[50,4,50,5],[52,4,52,5],[33,4,33,5],[34,4,34,5],[4,0,4,1],[5,0,5,1],[4,3,4,8],[5,3,5,8],[22,4,22,5]]}
["РЕЙТИНГ",null,null,"ОЦЕНОЧНЫЙ ЛИСТ РЕЙТИНГА РЕЗУЛЬТАТИВНОСТИ ОБРАЗОВАТЕЛЬНЫХ ПРОГРАММ ЦЕНТРОВ ГРАЖДАНСКОГО ОБРАЗОВАНИЯ 2012-2013  "]
["первый",null,{"$f":"SUM(I13:I22)","v":14}]
["второй",null,{"$f":"SUM(I23:I38)","v":18.5}]
["третий",null,{"$f":"SUM(I39:I41,I43:I46,I48:I51,I53:I62,I64:I67)","v":25.38},"МБОУ Академический лицей"]
["общее",null,{"$f":"SUM(C2:C4)","v":57.879999999999995},"Центр Гражданского образования \"Я - Гражданин\""]
[1.04,null,{"$f":"C5*A6","v":60.1952},"Программа \"Путь к успеху\" (3 модуль, \"Учимся управлять вместе\")"]
["Общее количество слушателей образовательной Программы",null,null,null,null,null,null,41,"человек"]
["Количество педагогических работников ",null,null,null,null,null,null,5,"человек"]
["Количество консультантов из числа опытных старшеклассников, выпускников Центра",null,null,null,null,null,null,5,"человек"]
["Количество привлеченных специалистов",null,null,null,null,null,null,1,"человек"]
["Продолжительность образовательной Программы",null,null,null,null,null,null,54,"часов"]
["№","Направ-ление","Критерии",null,"Значение критерия","Единица измерения","Значение в единицах измерения","Система оценки","Рейтинговое значение"]
[1,"Образовательная программа","адаптированность","продолжительность образовательной Программы","количество часов",null,{"$f":"H11","v":54},"18-24 + 1б,\n25-48 + 2б,  \nболее 48 + 3б",{"$f":"IF($G$13>17,1,0)+IF($G$13>24,1,0)+IF($G$13>48,1,0)","v":3}]
[2,null,null,"наличие модулей в образовательной Программе для разновозрастных групп","для обучающихся = 1,\n для обучающихся и взрослых = 2",null,1,"1 + 1б,\n2 + 2б",{"$f":"IF(G14=1,1,0)+IF(G14=2,2,0)","v":1}]
[3,null,null,"наличие в образовательной Программе активных и интерактивных форм обучения","менее 50% занятий = 1,\n более 50% занятий = 2",null,2,"1 + 1б,\n2 + 2б",{"$f":"IF(G15=1,1,0)+IF(G15=2,2,0)","v":2}]
[4,null,null,"преемственность образовательных Программ из года в год","если существует = 1",null,1,"да + 1б",{"$f":"IF(G16=1,1,0)","v":1}]
[5,null,"доступность","наличие модулей, предложенных слушателям на выбор","если 2 модуля = 1,\n3 и более модулей = 2",null,0,"1 + 1б,\n2 + 2б",{"$f":"IF(G17=1,1,0)+IF(G17=2,2,0)","v":0}]
[6,null,null,"проведение мониторинга уровня сформированности ключевых компетентностей","если да = 1",null,1,"да + 3б",{"$f":"IF(G18=1,3,0)","v":3}]
[7,null,null,"программа реализуется в сетевом взаимодействии с другими Центрами","если да = 1",null,1,"да + 2б",{"$f":"IF(G19=1,2,0)","v":2}]
[8,null,null,"доля слушателей, привлеченных из других ОУ","количество",null,0,"100% + 3б",{"$f":"ROUND((G20/H7*3),1)","v":0}]
[9,null,"полнота реализации","Программа реализуется в полном объеме","если да = 1",null,1,"да + 1,5б,\nнет + 1б",{"$f":"IF(G21=1,1.5,1)","v":1.5}]
[10,null,null,"Программа изменилась при лучших условиях","если да = 1",null,1,"да + 0,5б",{"$f":"IF(G22=1,0.5,0)","v":0.5}]
[11,"Организация образовательного процесса","кадровое обеспечение","укомплектованность преподавательского состава в соответствии с Программой","состав полностью укомплектован = 1",null,1,"да + 2б,\nнет + 1б",{"$f":"IF(G23=1,2,1)","v":2}]
[12,null,null,"подготовка преподавателей по теме Программы","количество",null,2,"100% + 2б",{"$f":"ROUND((G24/(H8+H9+H10)*2),1)","v":0.4}]
[13,null,null,"привлечение специалистов из профессионального сообщества","количество",null,{"$f":"H10","v":1},"100% + 2б",{"$f":"ROUND((G25/(H9+H10+H8)*2),1)","v":0.2}]
[14,null,null,"привлечение консультантов из числа обучающихся, выпускников","количество",null,{"$f":"H9","v":5},"100% + 2б",{"$f":"ROUND((G26/(H10+H9+H8)*2),1)","v":0.9}]
[15,null,"материально-техническое обеспечение","наличие достаточной материальной базы для проведения знаний","если да = 1",null,1,"да + 2б,\nнет + 1б",{"$f":"IF(G27=1,2,1)","v":2}]
[16,null,null,"использование материальной базы иных организаций","если да = 1",null,1,"да + 2б",{"$f":"IF(G28=1,2,0)","v":2}]
[17,null,null,"наличие оборудованных рабочих мест для слушателей и преподавателей","если да = 1, \nтолько преподавателей = 2",null,1,"1 + 1б, \n2 + 0,5б",{"$f":"IF(G29=1,1,0)+IF(G29=2,0.5,0)","v":1}]
[18,null,"информационно-технологическое обеспечение","наличие страницы Центра на сайте образовательного учреждения  ","если да = 1",null,1,"да + 1б",{"$f":"IF(G30=1,1,0)","v":1}]
[19,null,null,"регулярность обновления страницы Центра на сайте","более 1 раза в месяц = 1, \nреже = 2",null,1,"1 + 1б, \n2 + 0,5б",{"$f":"IF(G31=1,1,0)+IF(G31=2,0.5,0)","v":1}]
[20,null,null,"использование доступа в интернет преподавателями и слушателями","если да = 1,  только преподавателями = 2",null,1,"1 + 1б, \n2 + 0,5б",{"$f":"IF(G32=1,1,0)+IF(G32=2,0.5,0)","v":1}]
[21,null,null,"наличие методических материалов Центра на сайте ОУ","если да = 1",null,1,"да + 1б",{"$f":"IF(G33=1,1,0)","v":1}]
[22,null,null,"наличие Совета Центра","если да = 1",null,1,"да + 0,5б",{"$f":"IF(G34=1,0.5,0)","v":0.5}]
[23,null,null,"наличие утвержденного положения о деятельности Центра","если да = 1",null,1,"да + 0,5б",{"$f":"IF(G35=1,0.5,0)","v":0.5}]
[24,null,null,"наличие оформленных договоров с социальными партнерами","если да = 1",null,1,"да + 1б",{"$f":"IF(G36=1,1,0)","v":1}]
[25,null,"учебно-методическое обеспечение","обеспеченность слушателей учебниками, справочной литературой","полное обеспечение = 1,\nчастичное = 2",null,1,"1 + 2б, \n2 + 1б",{"$f":"IF(G37=1,2,0)+IF(G37=2,1,0)","v":2}]
[26,null,null,"обеспеченность преподавателей методической литературой, программными средствами обучения","полное обеспечение = 1,\nчастичное = 2",null,1,"1 + 2б, \n2 + 1б",{"$f":"IF(G38=1,2,0)+IF(G38=2,1,0)","v":2}]
[27,"Результаты образовательной деятельности","уровень и качество общеобразовательной подготовки слушателей","слушатели, применившие полученную информацию на практике","количество",null,41,"100% + 2б",{"$f":"ROUND(G39/H7*2,1)","v":2}]
[28,null,null,"слушатели, освоившие программу и получившие удостоверение","количество",null,17,"100% + 4б",{"$f":"ROUND(G40/$H$7*4,1)","v":1.7}]
[29,null,null,"слушатели, получившие сертификат","количество",null,24,"100% + 1б",{"$f":"ROUND(G41/H7*1,1)","v":0.6}]
[30,null,"сформированность ключевых компетентностей слушателей","слушатели, имеющие документально подтвержденные достижения по теме Программы:"]
[null,null,null," - на школьном уровне","количество",null,41,"100% + 2б",{"$f":"ROUND(G43/$H$7*2,1)","v":2}]
[null,null,null," - на муниципальном уровне","количество",null,6,"100% + 3б",{"$f":"ROUND(G44/$H$7*3,1)","v":0.4}]
[null,null,null," - на региональном уровне","количество",null,21,"100% + 4б",{"$f":"ROUND(G45/$H$7*4,1)","v":2}]
[null,null,null," - на федеральном  и международном уровнях","количество",null,4,"100% + 5б",{"$f":"ROUND(G46/$H$7*5,1)","v":0.5}]
[31,null,"уровень обобщения и представления опыта деятельности Центра по теме Программы","публичное представление промежуточных результатов реализации образовательной Программы:"]
[null,null,null," - на школьном уровне","количество",null,16,"за 1 + 0,1б",{"$f":"G48*0.1","v":1.6}]
[null,null,null," - на муниципальном уровне","количество",null,3,"за 1 + 0,2б",{"$f":"G49*0.2","v":0.60000000000000009}]
[null,null,null," - на региональном уровне","количество",null,9,"за 1 + 0,3б",{"$f":"G50*0.3","v":2.6999999999999997}]
[null,null,null," - на федеральном  и международном уровнях","количество",null,3,"за 1 + 0,5б",{"$f":"G51*0.4","v":1.2000000000000002}]
[32,null,null,"организация мероприятий, семинаров различного уровня по теме образовательной Программы:"]
[null,null,null," - на муниципальном уровне","количество",null,2,"за 1 + 0,3б",{"$f":"G53*0.3","v":0.6}]
[null,null,null," - на региональном уровне","количество",null,2,"за 1 + 0,5б",{"$f":"G54*0.5","v":1}]
[null,null,null," - на федеральном  и международном уровнях","количество",null,0,"за 1 + 0,7б",{"$f":"G55*0.7","v":0}]
[33,null,null,"внешкольная экспертная деятельность преподавателей Центра по теме Программы","количество часов",null,4,"за 100ч + 2б",{"$f":"G56*0.02","v":0.08}]
[34,null,null,"наличие публикаций в методических изданиях по теме Программы","количество страниц А4, интервал 1,5, шрифт 14 ",null,4,"за 24 стр. + 2б",{"$f":"ROUND(G57*2/24,1)","v":0.3}]
[35,null,null,"количество публикаций в СМИ муниципального и регионального уровня по теме Программы","количество статей",null,1,"за 1 ст. + 0,1б",{"$f":"G58*0.1","v":0.1}]
[36,null,"уровень организации и степень достижения целей и задач инновационной деятельности","наличие рецензии на образовательную Программу","если да = 1",null,1,"да + 2б",{"$f":"IF(G59=1,2,0)","v":2}]
[37,null,null,"Программа Центра является частью программы развития ОУ","если да = 1",null,1,"да + 1б",{"$f":"IF(G60=1,1,0)","v":1}]
[38,null,null,"Программа Центра является частью муниципальной программы развития","если да = 1",null,1,"да + 2б",{"$f":"IF(G61=1,2,0)","v":2}]
[39,null,null,"наличие общественной экспертизы результатов реализации образовательной Программы","если да = 1",null,1,"да + 1б",{"$f":"IF(G62=1,1,0)","v":1}]
[40,null,null,"публичное представление результатов инновационной деятельности на научно-практических конференциях"]
[null,null,null," - на школьном уровне","если да = 1",null,0,"да + 0,3б",{"$f":"IF(G64=1,0.3,0)","v":0}]
[null,null,null," - на муниципальном уровне","если да = 1",null,0,"да + 0,5б",{"$f":"IF(G65=1,0.5,0)","v":0}]
[null,null,null," - на региональном уровне","если да = 1",null,0,"да + 1б",{"$f":"IF(G66=1,1,0)","v":0}]
[null,null,null," - на федеральном  и международном уровнях","если да = 1",null,1,"да + 2б",{"$f":"IF(G67=1,2,0)","v":2}]
["Общее рейтинговое значение ",null,null,null,null,null,null,null,{"$f":"SUM(I13:I41,I43:I46,I48:I51,I53:I62,I64:I67)","v":57.88000000000001}]

{"sheet":"Т №6","index":2,"n_rows":68,"n_cols":9,"rows_kept":68,"cut":false,"hidden":false,"merged":[[0,0,0,2],[67,0,67,7],[3,3,3,8],[29,2,35,2],[28,4,28,5],[50,4,50,5],[52,4,52,5],[33,4,33,5],[23,4,23,5],[27,4,27,5],[29,4,29,5],[31,4,31,5],[35,4,35,5],[4,0,4,1],[5,0,5,1],[4,3,4,8],[5,3,5,8],[22,4,22,5],[62,0,66,0],[24,4,24,5],[25,4,25,5],[37,4,37,5],[26,2,28,2],[51,0,54,0],[26,4,26,5],[46,0,50,0],[36,2,37,2],[53,4,53,5],[34,4,34,5],[47,4,47,5],[41,2,45,2],[57,4,57,5],[0,3,2,8],[13,4,13,5],[22,2,25,2],[22,1,37,1],[17,4,17,5],[18,4,18,5],[20,4,20,5],[20,2,21,2],[1,0,1,1],[2,0,2,1],[3,0,3,1],[12,4,12,5],[14,4,14,5],[16,4,16,5],[12,2,15,2],[10,0,10,6],[41,0,45,0],[6,0,6,6],[7,0,7,6],[8,0,8,6],[9,0,9,6],[19,4,19,5],[36,4,36,5],[43,4,43,5],[44,4,44,5],[11,2,11,3],[15,4,15,5],[12,1,21,1],[21,4,21,5],[16,2,19,2],[32,4,32,5],[30,4,30,5],[38,1,66,1],[45,4,45,5],[40,4,40,5],[38,4,38,5],[39,4,39,5],[41,3,41,8],[64,4,64,5],[54,4,54,5],[38,2,40,2],[56,4,56,5],[55,4,55,5],[42,4,42,5],[46,2,57,2],[51,3,51,8],[46,3,46,8],[66,4,66,5],[48,4,48,5],[49,4,49,5],[58,2,66,2],[62,3,62,8],[61,4,61,5],[63,4,63,5],[59,4,59,5],[58,4,58,5],[60,4,60,5],[65,4,65,5]]}
["РЕЙТИНГ",null,null,"ОЦЕНОЧНЫЙ ЛИСТ РЕЙТИНГА РЕЗУЛЬТАТИВНОСТИ ОБРАЗОВАТЕЛЬНЫХ ПРОГРАММ ЦЕНТРОВ ГРАЖДАНСКОГО ОБРАЗОВАНИЯ 2012-2013  "]
["первый",null,{"$f":"SUM(I13:I22)","v":14}]
["второй",null,{"$f":"SUM(I23:I38)","v":19}]
["третий",null,{"$f":"SUM(I39:I41,I43:I46,I48:I51,I53:I62,I64:I67)","v":16.7},"МАОУ ГИМНАЗИЯ № 6"]
["общее",null,{"$f":"SUM(C2:C4)","v":49.7},"\"Школа лектора\""]
[1.04,null,{"$f":"C5*A6","v":51.688000000000002},"\"ШКОЛА ЛЕКТОРА\""]
["Общее количество слушателей образовательной Программы",null,null,null,null,null,null,53,"человек"]
["Количество педагогических работников ",null,null,null,null,null,null,4,"человек"]
["Количество консультантов из числа опытных старшеклассников, выпускников Центра",null,null,null,null,null,null,3,"человек"]
["Количество привлеченных специалистов",null,null,null,null,null,null,2,"человек"]
["Продолжительность образовательной Программы",null,null,null,null,null,null,94,"часов"]
["№","Направ-ление","Критерии",null,"Значение критерия","Единица измерения","Значение в единицах измерения","Система оценки","Рейтинговое значение"]
[1,"Образовательная программа","адаптированность","продолжительность образовательной Программы","количество часов",null,{"$f":"H11","v":94},"18-24 + 1б,\n25-48 + 2б,  \nболее 48 + 3б",{"$f":"IF($G$13>17,1,0)+IF($G$13>24,1,0)+IF($G$13>48,1,0)","v":3}]
[2,null,null,"наличие модулей в образовательной Программе для разновозрастных групп","для обучающихся = 1,\n для обучающихся и взрослых = 2",null,1,"1 + 1б,\n2 + 2б",{"$f":"IF(G14=1,1,0)+IF(G14=2,2,0)","v":1}]
[3,null,null,"наличие в образовательной Программе активных и интерактивных форм обучения","менее 50% занятий = 1,\n более 50% занятий = 2",null,2,"1 + 1б,\n2 + 2б",{"$f":"IF(G15=1,1,0)+IF(G15=2,2,0)","v":2}]
[4,null,null,"преемственность образовательных Программ из года в год","если существует = 1",null,1,"да + 1б",{"$f":"IF(G16=1,1,0)","v":1}]
[5,null,"доступность","наличие модулей, предложенных слушателям на выбор","если 2 модуля = 1,\n3 и более модулей = 2",null,0,"1 + 1б,\n2 + 2б",{"$f":"IF(G17=1,1,0)+IF(G17=2,2,0)","v":0}]
[6,null,null,"проведение мониторинга уровня сформированности ключевых компетентностей","если да = 1",null,1,"да + 3б",{"$f":"IF(G18=1,3,0)","v":3}]
[7,null,null,"программа реализуется в сетевом взаимодействии с другими Центрами","если да = 1",null,1,"да + 2б",{"$f":"IF(G19=1,2,0)","v":2}]
[8,null,null,"доля слушателей, привлеченных из других ОУ","количество",null,null,"100% + 3б",{"$f":"ROUND((G20/H7*3),1)","v":0}]
[9,null,"полнота реализации","Программа реализуется в полном объеме","если да = 1",null,1,"да + 1,5б,\nнет + 1б",{"$f":"IF(G21=1,1.5,1)","v":1.5}]
[10,null,null,"Программа изменилась при лучших условиях","если да = 1",null,1,"да + 0,5б",{"$f":"IF(G22=1,0.5,0)","v":0.5}]
[11,"Организация образовательного процесса","кадровое обеспечение","укомплектованность преподавательского состава в соответствии с Программой","состав полностью укомплектован = 1",null,1,"да + 2б,\nнет + 1б",{"$f":"IF(G23=1,2,1)","v":2}]
[12,null,null,"подготовка преподавателей по теме Программы","количество",null,4,"100% + 2б",{"$f":"ROUND((G24/(H8+H9+H10)*2),1)","v":0.9}]
[13,null,null,"привлечение специалистов из профессионального сообщества","количество",null,{"$f":"H10","v":2},"100% + 2б",{"$f":"ROUND((G25/(H9+H10+H8)*2),1)","v":0.4}]
[14,null,null,"привлечение консультантов из числа обучающихся, выпускников","количество",null,{"$f":"H9","v":3},"100% + 2б",{"$f":"ROUND((G26/(H10+H9+H8)*2),1)","v":0.7}]
[15,null,"материально-техническое обеспечение","наличие достаточной материальной базы для проведения знаний","если да = 1",null,1,"да + 2б,\nнет + 1б",{"$f":"IF(G27=1,2,1)","v":2}]
[16,null,null,"использование материальной базы иных организаций","если да = 1",null,1,"да + 2б",{"$f":"IF(G28=1,2,0)","v":2}]
[17,null,null,"наличие оборудованных рабочих мест для слушателей и преподавателей","если да = 1, \nтолько преподавателей = 2",null,1,"1 + 1б, \n2 + 0,5б",{"$f":"IF(G29=1,1,0)+IF(G29=2,0.5,0)","v":1}]
[18,null,"информационно-технологическое обеспечение","наличие страницы Центра на сайте образовательного учреждения  ","если да = 1",null,1,"да + 1б",{"$f":"IF(G30=1,1,0)","v":1}]
[19,null,null,"регулярность обновления страницы Центра на сайте","более 1 раза в месяц = 1, \nреже = 2",null,1,"1 + 1б, \n2 + 0,5б",{"$f":"IF(G31=1,1,0)+IF(G31=2,0.5,0)","v":1}]
[20,null,null,"использование доступа в интернет преподавателями и слушателями","если да = 1,  только преподавателями = 2",null,1,"1 + 1б, \n2 + 0,5б",{"$f":"IF(G32=1,1,0)+IF(G32=2,0.5,0)","v":1}]
[21,null,null,"наличие методических материалов Центра на сайте ОУ","если да = 1",null,1,"да + 1б",{"$f":"IF(G33=1,1,0)","v":1}]
[22,null,null,"наличие Совета Центра","если да = 1",null,1,"да + 0,5б",{"$f":"IF(G34=1,0.5,0)","v":0.5}]
[23,null,null,"наличие утвержденного положения о деятельности Центра","если да = 1",null,1,"да + 0,5б",{"$f":"IF(G35=1,0.5,0)","v":0.5}]
[24,null,null,"наличие оформленных договоров с социальными партнерами","если да = 1",null,1,"да + 1б",{"$f":"IF(G36=1,1,0)","v":1}]
[25,null,"учебно-методическое обеспечение","обеспеченность слушателей учебниками, справочной литературой","полное обеспечение = 1,\nчастичное = 2",null,1,"1 + 2б, \n2 + 1б",{"$f":"IF(G37=1,2,0)+IF(G37=2,1,0)","v":2}]
[26,null,null,"обеспеченность преподавателей методической литературой, программными средствами обучения","полное обеспечение = 1,\nчастичное = 2",null,1,"1 + 2б, \n2 + 1б",{"$f":"IF(G38=1,2,0)+IF(G38=2,1,0)","v":2}]
[27,"Результаты образовательной деятельности","уровень и качество общеобразовательной подготовки слушателей","слушатели, применившие полученную информацию на практике","количество",null,53,"100% + 2б",{"$f":"ROUND(G39/H7*2,1)","v":2}]
[28,null,null,"слушатели, освоившие программу и получившие удостоверение","количество",null,21,"100% + 4б",{"$f":"ROUND(G40/$H$7*4,1)","v":1.6}]
[29,null,null,"слушатели, получившие сертификат","количество",null,32,"100% + 1б",{"$f":"ROUND(G41/H7*1,1)","v":0.6}]
[30,null,"сформированность ключевых компетентностей слушателей","слушатели, имеющие документально подтвержденные достижения по теме Программы:"]
[null,null,null," - на школьном уровне","количество",null,37,"100% + 2б",{"$f":"ROUND(G43/$H$7*2,1)","v":1.4}]
[null,null,null," - на муниципальном уровне","количество",null,24,"100% + 3б",{"$f":"ROUND(G44/$H$7*3,1)","v":1.4}]
[null,null,null," - на региональном уровне","количество",null,12,"100% + 4б",{"$f":"ROUND(G45/$H$7*4,1)","v":0.9}]
[null,null,null," - на федеральном  и международном уровнях","количество",null,16,"100% + 5б",{"$f":"ROUND(G46/$H$7*5,1)","v":1.5}]
[31,null,"уровень обобщения и представления опыта деятельности Центра по теме Программы","публичное представление промежуточных результатов реализации образовательной Программы:"]
[null,null,null," - на школьном уровне","количество",null,2,"за 1 + 0,1б",{"$f":"G48*0.1","v":0.2}]
[null,null,null," - на муниципальном уровне","количество",null,null,"за 1 + 0,2б",{"$f":"G49*0.2","v":0}]
[null,null,null," - на региональном уровне","количество",null,null,"за 1 + 0,3б",{"$f":"G50*0.3","v":0}]
[null,null,null," - на федеральном  и международном уровнях","количество",null,null,"за 1 + 0,5б",{"$f":"G51*0.4","v":0}]
[32,null,null,"организация мероприятий, семинаров различного уровня по теме образовательной Программы:"]
[null,null,null," - на муниципальном уровне","количество",null,0,"за 1 + 0,3б",{"$f":"G53*0.3","v":0}]
[null,null,null," - на региональном уровне","количество",null,1,"за 1 + 0,5б",{"$f":"G54*0.5","v":0.5}]
[null,null,null," - на федеральном  и международном уровнях","количество",null,0,"за 1 + 0,7б",{"$f":"G55*0.7","v":0}]
[33,null,null,"внешкольная экспертная деятельность преподавателей Центра по теме Программы","количество часов",null,0,"за 100ч + 2б",{"$f":"G56*0.02","v":0}]
[34,null,null,"наличие публикаций в методических изданиях по теме Программы","количество страниц А4, интервал 1,5, шрифт 14 ",null,1,"за 24 стр. + 2б",{"$f":"ROUND(G57*2/24,1)","v":0.1}]
[35,null,null,"количество публикаций в СМИ муниципального и регионального уровня по теме Программы","количество статей",null,0,"за 1 ст. + 0,1б",{"$f":"G58*0.1","v":0}]
[36,null,"уровень организации и степень достижения целей и задач инновационной деятельности","наличие рецензии на образовательную Программу","если да = 1",null,0,"да + 2б",{"$f":"IF(G59=1,2,0)","v":0}]
[37,null,null,"Программа Центра является частью программы развития ОУ","если да = 1",null,1,"да + 1б",{"$f":"IF(G60=1,1,0)","v":1}]
[38,null,null,"Программа Центра является частью муниципальной программы развития","если да = 1",null,1,"да + 2б",{"$f":"IF(G61=1,2,0)","v":2}]
[39,null,null,"наличие общественной экспертизы результатов реализации образовательной Программы","если да = 1",null,1,"да + 1б",{"$f":"IF(G62=1,1,0)","v":1}]
[40,null,null,"публичное представление результатов инновационной деятельности на научно-практических конференциях"]
[null,null,null," - на школьном уровне","если да = 1",null,0,"да + 0,3б",{"$f":"IF(G64=1,0.3,0)","v":0}]
[null,null,null," - на муниципальном уровне","если да = 1",null,1,"да + 0,5б",{"$f":"IF(G65=1,0.5,0)","v":0.5}]
[null,null,null," - на региональном уровне","если да = 1",null,0,"да + 1б",{"$f":"IF(G66=1,1,0)","v":0}]
[null,null,null," - на федеральном  и международном уровнях","если да = 1",null,1,"да + 2б",{"$f":"IF(G67=1,2,0)","v":2}]
["Общее рейтинговое значение ",null,null,null,null,null,null,null,{"$f":"SUM(I13:I41,I43:I46,I48:I51,I53:I62,I64:I67)","v":49.7}]

{"sheet":"Т № 55","index":3,"n_rows":68,"n_cols":9,"rows_kept":68,"cut":false,"hidden":false,"merged":[[65,4,65,5],[57,4,57,5],[46,3,46,8],[66,4,66,5],[58,2,66,2],[62,3,62,8],[61,4,61,5],[63,4,63,5],[59,4,59,5],[58,4,58,5],[46,2,57,2],[64,4,64,5],[60,4,60,5],[44,4,44,5],[56,4,56,5],[55,4,55,5],[51,3,51,8],[48,4,48,5],[49,4,49,5],[54,4,54,5],[13,4,13,5],[22,2,25,2],[9,0,9,6],[12,4,12,5],[14,4,14,5],[16,4,16,5],[12,2,15,2],[10,0,10,6],[15,4,15,5],[11,2,11,3],[23,4,23,5],[12,1,21,1],[21,4,21,5],[16,2,19,2],[22,1,37,1],[17,4,17,5],[18,4,18,5],[20,4,20,5],[20,2,21,2],[19,4,19,5],[26,4,26,5],[25,4,25,5],[37,4,37,5],[26,2,28,2],[27,4,27,5],[29,4,29,5],[31,4,31,5],[32,4,32,5],[30,4,30,5],[35,4,35,5],[1,0,1,1],[2,0,2,1],[6,0,6,6],[7,0,7,6],[8,0,8,6],[3,0,3,1],[0,3,2,8],[0,0,0,2],[46,0,50,0],[36,2,37,2],[53,4,53,5],[41,0,45,0],[43,4,43,5],[47,4,47,5],[36,4,36,5],[41,2,45,2],[45,4,45,5],[38,4,38,5],[39,4,39,5],[41,3,41,8],[42,4,42,5],[38,2,40,2],[38,1,66,1],[40,4,40,5],[67,0,67,7],[3,3,3,8],[29,2,35,2],[28,4,28,5],[50,4,50,5],[52,4,52,5],[33,4,33,5],[34,4,34,5],[4,0,4,1],[5,0,5,1],[4,3,4,8],[5,3,5,8],[22,4,22,5],[62,0,66,0],[24,4,24,5],[51,0,54,0]]}
["РЕЙТИНГ",null,null,"ОЦЕНОЧНЫЙ ЛИСТ РЕЙТИНГА РЕЗУЛЬТАТИВНОСТИ ОБРАЗОВАТЕЛЬНЫХ ПРОГРАММ ЦЕНТРОВ ГРАЖДАНСКОГО ОБРАЗОВАНИЯ 2012-2013  "]
["первый",null,{"$f":"SUM(I13:I22)","v":11}]
["второй",null,{"$f":"SUM(I23:I38)","v":18}]
["третий",null,{"$f":"SUM(I39:I41,I43:I46,I48:I51,I53:I62,I64:I67)","v":15.099999999999998},"МАОУ гимназия №55 г.Томска"]
["общее",null,{"$f":"SUM(C2:C4)","v":44.099999999999994},"Центр гражданского образования \"Росток\""]
[1.04,null,{"$f":"C5*A6","v":45.863999999999997},"Образовательная программа \"К вершинам личного роста\""]
["Общее количество слушателей образовательной Программы",null,null,null,null,null,null,24,"человек"]
["Количество педагогических работников ",null,null,null,null,null,null,3,"человек"]
["Количество консультантов из числа опытных старшеклассников, выпускников Центра",null,null,null,null,null,null,6,"человек"]
["Количество привлеченных специалистов",null,null,null,null,null,null,0,"человек"]
["Продолжительность образовательной Программы",null,null,null,null,null,null,32,"часов"]
["№","Направ-ление","Критерии",null,"Значение критерия","Единица измерения","Значение в единицах измерения","Система оценки","Рейтинговое значение"]
[1,"Образовательная программа","адаптированность","продолжительность образовательной Программы","количество часов",null,{"$f":"H11","v":32},"18-24 + 1б,\n25-48 + 2б,  \nболее 48 + 3б",{"$f":"IF($G$13>17,1,0)+IF($G$13>24,1,0)+IF($G$13>48,1,0)","v":2}]
[2,null,null,"наличие модулей в образовательной Программе для разновозрастных групп","для обучающихся = 1,\n для обучающихся и взрослых = 2",null,"нет","1 + 1б,\n2 + 2б",{"$f":"IF(G14=1,1,0)+IF(G14=2,2,0)","v":0}]
[3,null,null,"наличие в образовательной Программе активных и интерактивных форм обучения","менее 50% занятий = 1,\n более 50% занятий = 2",null,1,"1 + 1б,\n2 + 2б",{"$f":"IF(G15=1,1,0)+IF(G15=2,2,0)","v":1}]
[4,null,null,"преемственность образовательных Программ из года в год","если существует = 1",null,1,"да + 1б",{"$f":"IF(G16=1,1,0)","v":1}]
[5,null,"доступность","наличие модулей, предложенных слушателям на выбор","если 2 модуля = 1,\n3 и более модулей = 2",null,"нет","1 + 1б,\n2 + 2б",{"$f":"IF(G17=1,1,0)+IF(G17=2,2,0)","v":0}]
[6,null,null,"проведение мониторинга уровня сформированности ключевых компетентностей","если да = 1",null,1,"да + 3б",{"$f":"IF(G18=1,3,0)","v":3}]
[7,null,null,"программа реализуется в сетевом взаимодействии с другими Центрами","если да = 1",null,1,"да + 2б",{"$f":"IF(G19=1,2,0)","v":2}]
[8,null,null,"доля слушателей, привлеченных из других ОУ","количество",null,0,"100% + 3б",{"$f":"ROUND((G20/H7*3),1)","v":0}]
[9,null,"полнота реализации","Программа реализуется в полном объеме","если да = 1",null,1,"да + 1,5б,\nнет + 1б",{"$f":"IF(G21=1,1.5,1)","v":1.5}]
[10,null,null,"Программа изменилась при лучших условиях","если да = 1",null,1,"да + 0,5б",{"$f":"IF(G22=1,0.5,0)","v":0.5}]
[11,"Организация образовательного процесса","кадровое обеспечение","укомплектованность преподавательского состава в соответствии с Программой","состав полностью укомплектован = 1",null,1,"да + 2б,\nнет + 1б",{"$f":"IF(G23=1,2,1)","v":2}]
[12,null,null,"подготовка преподавателей по теме Программы","количество",null,1,"100% + 2б",{"$f":"ROUND((G24/(H8+H9+H10)*2),1)","v":0.2}]
[13,null,null,"привлечение специалистов из профессионального сообщества","количество",null,{"$f":"H10","v":0},"100% + 2б",{"$f":"ROUND((G25/(H9+H10+H8)*2),1)","v":0}]
[14,null,null,"привлечение консультантов из числа обучающихся, выпускников","количество",null,{"$f":"H9","v":6},"100% + 2б",{"$f":"ROUND((G26/(H10+H9+H8)*2),1)","v":1.3}]
[15,null,"материально-техническое обеспечение","наличие достаточной материальной базы для проведения знаний","если да = 1",null,1,"да + 2б,\nнет + 1б",{"$f":"IF(G27=1,2,1)","v":2}]
[16,null,null,"использование материальной базы иных организаций","если да = 1",null,1,"да + 2б",{"$f":"IF(G28=1,2,0)","v":2}]
[17,null,null,"наличие оборудованных рабочих мест для слушателей и преподавателей","если да = 1, \nтолько преподавателей = 2",null,1,"1 + 1б, \n2 + 0,5б",{"$f":"IF(G29=1,1,0)+IF(G29=2,0.5,0)","v":1}]
[18,null,"информационно-технологическое обеспечение","наличие страницы Центра на сайте образовательного учреждения  ","если да = 1",null,1,"да + 1б",{"$f":"IF(G30=1,1,0)","v":1}]
[19,null,null,"регулярность обновления страницы Центра на сайте","более 1 раза в месяц = 1, \nреже = 2",null,2,"1 + 1б, \n2 + 0,5б",{"$f":"IF(G31=1,1,0)+IF(G31=2,0.5,0)","v":0.5}]
[20,null,null,"использование доступа в интернет преподавателями и слушателями","если да = 1,  только преподавателями = 2",null,1,"1 + 1б, \n2 + 0,5б",{"$f":"IF(G32=1,1,0)+IF(G32=2,0.5,0)","v":1}]
[21,null,null,"наличие методических материалов Центра на сайте ОУ","если да = 1",null,1,"да + 1б",{"$f":"IF(G33=1,1,0)","v":1}]
[22,null,null,"наличие Совета Центра","если да = 1",null,1,"да + 0,5б",{"$f":"IF(G34=1,0.5,0)","v":0.5}]
[23,null,null,"наличие утвержденного положения о деятельности Центра","если да = 1",null,1,"да + 0,5б",{"$f":"IF(G35=1,0.5,0)","v":0.5}]
[24,null,null,"наличие оформленных договоров с социальными партнерами","если да = 1",null,1,"да + 1б",{"$f":"IF(G36=1,1,0)","v":1}]
[25,null,"учебно-методическое обеспечение","обеспеченность слушателей учебниками, справочной литературой","полное обеспечение = 1,\nчастичное = 2",null,1,"1 + 2б, \n2 + 1б",{"$f":"IF(G37=1,2,0)+IF(G37=2,1,0)","v":2}]
[26,null,null,"обеспеченность преподавателей методической литературой, программными средствами обучения","полное обеспечение = 1,\nчастичное = 2",null,1,"1 + 2б, \n2 + 1б",{"$f":"IF(G38=1,2,0)+IF(G38=2,1,0)","v":2}]
[27,"Результаты образовательной деятельности","уровень и качество общеобразовательной подготовки слушателей","слушатели, применившие полученную информацию на практике","количество",null,24,"100% + 2б",{"$f":"ROUND(G39/H7*2,1)","v":2}]
[28,null,null,"слушатели, освоившие программу и получившие удостоверение","количество",null,9,"100% + 4б",{"$f":"ROUND(G40/$H$7*4,1)","v":1.5}]
[29,null,null,"слушатели, получившие сертификат","количество",null,15,"100% + 1б",{"$f":"ROUND(G41/H7*1,1)","v":0.6}]
[30,null,"сформированность ключевых компетентностей слушателей","слушатели, имеющие документально подтвержденные достижения по теме Программы:"]
[null,null,null," - на школьном уровне","количество",null,24,"100% + 2б",{"$f":"ROUND(G43/$H$7*2,1)","v":2}]
[null,null,null," - на муниципальном уровне","количество",null,5,"100% + 3б",{"$f":"ROUND(G44/$H$7*3,1)","v":0.6}]
[null,null,null," - на региональном уровне","количество",null,0,"100% + 4б",{"$f":"ROUND(G45/$H$7*4,1)","v":0}]
[null,null,null," - на федеральном  и международном уровнях","количество",null,0,"100% + 5б",{"$f":"ROUND(G46/$H$7*5,1)","v":0}]
[31,null,"уровень обобщения и представления опыта деятельности Центра по теме Программы","публичное представление промежуточных результатов реализации образовательной Программы:"]
[null,null,null," - на школьном уровне","количество",null,1,"за 1 + 0,1б",{"$f":"G48*0.1","v":0.1}]
[null,null,null," - на муниципальном уровне","количество",null,1,"за 1 + 0,2б",{"$f":"G49*0.2","v":0.2}]
[null,null,null," - на региональном уровне","количество",null,1,"за 1 + 0,3б",{"$f":"G50*0.3","v":0.3}]
[null,null,null," - на федеральном  и международном уровнях","количество",null,0,"за 1 + 0,5б",{"$f":"G51*0.4","v":0}]
[32,null,null,"организация мероприятий, семинаров различного уровня по теме образовательной Программы:"]
[null,null,null," - на муниципальном уровне","количество",null,2,"за 1 + 0,3б",{"$f":"G53*0.3","v":0.6}]
[null,null,null," - на региональном уровне","количество",null,2,"за 1 + 0,5б",{"$f":"G54*0.5","v":1}]
[null,null,null," - на федеральном  и международном уровнях","количество",null,0,"за 1 + 0,7б",{"$f":"G55*0.7","v":0}]
[33,null,null,"внешкольная экспертная деятельность преподавателей Центра по теме Программы","количество часов",null,0,"за 100ч + 2б",{"$f":"G56*0.02","v":0}]
[34,null,null,"наличие публикаций в методических изданиях по теме Программы","количество страниц А4, интервал 1,5, шрифт 14 ",null,1,"за 24 стр. + 2б",{"$f":"ROUND(G57*2/24,1)","v":0.1}]
[35,null,null,"количество публикаций в СМИ муниципального и регионального уровня по теме Программы","количество статей",null,1,"за 1 ст. + 0,1б",{"$f":"G58*0.1","v":0.1}]
[36,null,"уровень организации и степень достижения целей и задач инновационной деятельности","наличие рецензии на образовательную Программу","если да = 1",null,1,"да + 2б",{"$f":"IF(G59=1,2,0)","v":2}]
[37,null,null,"Программа Центра является частью программы развития ОУ","если да = 1",null,1,"да + 1б",{"$f":"IF(G60=1,1,0)","v":1}]
[38,null,null,"Программа Центра является частью муниципальной программы развития","если да = 1",null,1,"да + 2б",{"$f":"IF(G61=1,2,0)","v":2}]
[39,null,null,"наличие общественной экспертизы результатов реализации образовательной Программы","если да = 1",null,1,"да + 1б",{"$f":"IF(G62=1,1,0)","v":1}]
[40,null,null,"публичное представление результатов инновационной деятельности на научно-практических конференциях"]
[null,null,null," - на школьном уровне","если да = 1",null,0,"да + 0,3б",{"$f":"IF(G64=1,0.3,0)","v":0}]
[null,null,null," - на муниципальном уровне","если да = 1",null,0,"да + 0,5б",{"$f":"IF(G65=1,0.5,0)","v":0}]
[null,null,null," - на региональном уровне","если да = 1",null,0,"да + 1б",{"$f":"IF(G66=1,1,0)","v":0}]
[null,null,null," - на федеральном  и международном уровнях","если да = 1",null,0,"да + 2б",{"$f":"IF(G67=1,2,0)","v":0}]
["Общее рейтинговое значение ",null,null,null,null,null,null,null,{"$f":"SUM(I13:I41,I43:I46,I48:I51,I53:I62,I64:I67)","v":44.100000000000009}]

{"sheet":"Т №14","index":4,"n_rows":68,"n_cols":9,"rows_kept":68,"cut":false,"hidden":false,"merged":[[0,0,0,2],[67,0,67,7],[3,3,3,8],[29,2,35,2],[28,4,28,5],[50,4,50,5],[36,2,37,2],[53,4,53,5],[34,4,34,5],[4,0,4,1],[52,4,52,5],[33,4,33,5],[29,4,29,5],[31,4,31,5],[35,4,35,5],[47,4,47,5],[5,0,5,1],[4,3,4,8],[5,3,5,8],[22,4,22,5],[23,4,23,5],[21,4,21,5],[16,2,19,2],[11,2,11,3],[6,0,6,6],[7,0,7,6],[8,0,8,6],[9,0,9,6],[19,4,19,5],[15,4,15,5],[12,1,21,1],[62,0,66,0],[24,4,24,5],[25,4,25,5],[37,4,37,5],[26,2,28,2],[51,0,54,0],[26,4,26,5],[46,0,50,0],[44,4,44,5],[49,4,49,5],[27,4,27,5],[46,3,46,8],[41,0,45,0],[36,4,36,5],[43,4,43,5],[41,3,41,8],[0,3,2,8],[13,4,13,5],[22,2,25,2],[22,1,37,1],[17,4,17,5],[18,4,18,5],[20,4,20,5],[20,2,21,2],[1,0,1,1],[2,0,2,1],[3,0,3,1],[12,4,12,5],[14,4,14,5],[16,4,16,5],[12,2,15,2],[10,0,10,6],[42,4,42,5],[46,2,57,2],[51,3,51,8],[48,4,48,5],[57,4,57,5],[41,2,45,2],[65,4,65,5],[58,4,58,5],[32,4,32,5],[30,4,30,5],[38,1,66,1],[45,4,45,5],[40,4,40,5],[38,4,38,5],[39,4,39,5],[66,4,66,5],[58,2,66,2],[64,4,64,5],[54,4,54,5],[38,2,40,2],[56,4,56,5],[55,4,55,5],[62,3,62,8],[61,4,61,5],[63,4,63,5],[59,4,59,5],[60,4,60,5]]}
["РЕЙТИНГ",null,null,"ОЦЕНОЧНЫЙ ЛИСТ РЕЙТИНГА РЕЗУЛЬТАТИВНОСТИ ОБРАЗОВАТЕЛЬНЫХ ПРОГРАММ ЦЕНТРОВ ГРАЖДАНСКОГО ОБРАЗОВАНИЯ 2012-2013  "]
["первый",null,{"$f":"SUM(I13:I22)","v":9.5}]
["второй",null,{"$f":"SUM(I23:I38)","v":13.9}]
["третий",null,{"$f":"SUM(I39:I41,I43:I46,I48:I51,I53:I62,I64:I67)","v":9.7999999999999972},"МАОУ СОШ №14 им. А. Ф. Лебедева"]
["общее",null,{"$f":"SUM(C2:C4)","v":33.199999999999996},"Центр гражданского образования \"Шаги в будущее\""]
[1.04,null,{"$f":"C5*A6","v":34.527999999999999},"Образовательная Программа \"Шаги в будущее\""]
["Общее количество слушателей образовательной Программы",null,null,null,null,null,null,50,"человек"]
["Количество педагогических работников ",null,null,null,null,null,null,8,"человек"]
["Количество консультантов из числа опытных старшеклассников, выпускников Центра",null,null,null,null,null,null,0,"человек"]
["Количество привлеченных специалистов",null,null,null,null,null,null,4,"человек"]
["Продолжительность образовательной Программы",null,null,null,null,null,null,105,"часов"]
["№","Направ-ление","Критерии",null,"Значение критерия","Единица измерения","Значение в единицах измерения","Система оценки","Рейтинговое значение"]
[1,"Образовательная программа","адаптированность","продолжительность образовательной Программы","количество часов",null,{"$f":"H11","v":105},"18-24 + 1б,\n25-48 + 2б,  \nболее 48 + 3б",{"$f":"IF($G$13>17,1,0)+IF($G$13>24,1,0)+IF($G$13>48,1,0)","v":3}]
[2,null,null,"наличие модулей в образовательной Программе для разновозрастных групп","для обучающихся = 1,\n для обучающихся и взрослых = 2",null,null,"1 + 1б,\n2 + 2б",{"$f":"IF(G14=1,1,0)+IF(G14=2,2,0)","v":0}]
[3,null,null,"наличие в образовательной Программе активных и интерактивных форм обучения","менее 50% занятий = 1,\n более 50% занятий = 2",null,2,"1 + 1б,\n2 + 2б",{"$f":"IF(G15=1,1,0)+IF(G15=2,2,0)","v":2}]
[4,null,null,"преемственность образовательных Программ из года в год","если существует = 1",null,0,"да + 1б",{"$f":"IF(G16=1,1,0)","v":0}]
[5,null,"доступность","наличие модулей, предложенных слушателям на выбор","если 2 модуля = 1,\n3 и более модулей = 2",null,null,"1 + 1б,\n2 + 2б",{"$f":"IF(G17=1,1,0)+IF(G17=2,2,0)","v":0}]
[6,null,null,"проведение мониторинга уровня сформированности ключевых компетентностей","если да = 1",null,1,"да + 3б",{"$f":"IF(G18=1,3,0)","v":3}]
[7,null,null,"программа реализуется в сетевом взаимодействии с другими Центрами","если да = 1",null,null,"да + 2б",{"$f":"IF(G19=1,2,0)","v":0}]
[8,null,null,"доля слушателей, привлеченных из других ОУ","количество",null,0,"100% + 3б",{"$f":"ROUND((G20/H7*3),1)","v":0}]
[9,null,"полнота реализации","Программа реализуется в полном объеме","если да = 1",null,1,"да + 1,5б,\nнет + 1б",{"$f":"IF(G21=1,1.5,1)","v":1.5}]
[10,null,null,"Программа изменилась при лучших условиях","если да = 1",null,null,"да + 0,5б",{"$f":"IF(G22=1,0.5,0)","v":0}]
[11,"Организация образовательного процесса","кадровое обеспечение","укомплектованность преподавательского состава в соответствии с Программой","состав полностью укомплектован = 1",null,1,"да + 2б,\nнет + 1б",{"$f":"IF(G23=1,2,1)","v":2}]
[12,null,null,"подготовка преподавателей по теме Программы","количество",null,1,"100% + 2б",{"$f":"ROUND((G24/(H8+H9+H10)*2),1)","v":0.2}]
[13,null,null,"привлечение специалистов из профессионального сообщества","количество",null,{"$f":"H10","v":4},"100% + 2б",{"$f":"ROUND((G25/(H9+H10+H8)*2),1)","v":0.7}]
[14,null,null,"привлечение консультантов из числа обучающихся, выпускников","количество",null,{"$f":"H9","v":0},"100% + 2б",{"$f":"ROUND((G26/(H10+H9+H8)*2),1)","v":0}]
[15,null,"материально-техническое обеспечение","наличие достаточной материальной базы для проведения знаний","если да = 1",null,1,"да + 2б,\nнет + 1б",{"$f":"IF(G27=1,2,1)","v":2}]
[16,null,null,"использование материальной базы иных организаций","если да = 1",null,1,"да + 2б",{"$f":"IF(G28=1,2,0)","v":2}]
[17,null,null,"наличие оборудованных рабочих мест для слушателей и преподавателей","если да = 1, \nтолько преподавателей = 2",null,1,"1 + 1б, \n2 + 0,5б",{"$f":"IF(G29=1,1,0)+IF(G29=2,0.5,0)","v":1}]
[18,null,"информационно-технологическое обеспечение","наличие страницы Центра на сайте образовательного учреждения  ","если да = 1",null,1,"да + 1б",{"$f":"IF(G30=1,1,0)","v":1}]
[19,null,null,"регулярность обновления страницы Центра на сайте","более 1 раза в месяц = 1, \nреже = 2",null,2,"1 + 1б, \n2 + 0,5б",{"$f":"IF(G31=1,1,0)+IF(G31=2,0.5,0)","v":0.5}]
[20,null,null,"использование доступа в интернет преподавателями и слушателями","если да = 1,  только преподавателями = 2",null,2,"1 + 1б, \n2 + 0,5б",{"$f":"IF(G32=1,1,0)+IF(G32=2,0.5,0)","v":0.5}]
[21,null,null,"наличие методических материалов Центра на сайте ОУ","если да = 1",null,null,"да + 1б",{"$f":"IF(G33=1,1,0)","v":0}]
[22,null,null,"наличие Совета Центра","если да = 1",null,1,"да + 0,5б",{"$f":"IF(G34=1,0.5,0)","v":0.5}]
[23,null,null,"наличие утвержденного положения о деятельности Центра","если да = 1",null,1,"да + 0,5б",{"$f":"IF(G35=1,0.5,0)","v":0.5}]
[24,null,null,"наличие оформленных договоров с социальными партнерами","если да = 1",null,1,"да + 1б",{"$f":"IF(G36=1,1,0)","v":1}]
[25,null,"учебно-методическое обеспечение","обеспеченность слушателей учебниками, справочной литературой","полное обеспечение = 1,\nчастичное = 2",null,2,"1 + 2б, \n2 + 1б",{"$f":"IF(G37=1,2,0)+IF(G37=2,1,0)","v":1}]
[26,null,null,"обеспеченность преподавателей методической литературой, программными средствами обучения","полное обеспечение = 1,\nчастичное = 2",null,2,"1 + 2б, \n2 + 1б",{"$f":"IF(G38=1,2,0)+IF(G38=2,1,0)","v":1}]
[27,"Результаты образовательной деятельности","уровень и качество общеобразовательной подготовки слушателей","слушатели, применившие полученную информацию на практике","количество",null,50,"100% + 2б",{"$f":"ROUND(G39/H7*2,1)","v":2}]
[28,null,null,"слушатели, освоившие программу и получившие удостоверение","количество",null,48,"100% + 4б",{"$f":"ROUND(G40/$H$7*4,1)","v":3.8}]
[29,null,null,"слушатели, получившие сертификат","количество",null,2,"100% + 1б",{"$f":"ROUND(G41/H7*1,1)","v":0}]
[30,null,"сформированность ключевых компетентностей слушателей","слушатели, имеющие документально подтвержденные достижения по теме Программы:"]
[null,null,null," - на школьном уровне","количество",null,50,"100% + 2б",{"$f":"ROUND(G43/$H$7*2,1)","v":2}]
[null,null,null," - на муниципальном уровне","количество",null,1,"100% + 3б",{"$f":"ROUND(G44/$H$7*3,1)","v":0.1}]
[null,null,null," - на региональном уровне","количество",null,12,"100% + 4б",{"$f":"ROUND(G45/$H$7*4,1)","v":1}]
[null,null,null," - на федеральном  и международном уровнях","количество",null,null,"100% + 5б",{"$f":"ROUND(G46/$H$7*5,1)","v":0}]
[31,null,"уровень обобщения и представления опыта деятельности Центра по теме Программы","публичное представление промежуточных результатов реализации образовательной Программы:"]
[null,null,null," - на школьном уровне","количество",null,2,"за 1 + 0,1б",{"$f":"G48*0.1","v":0.2}]
[null,null,null," - на муниципальном уровне","количество",null,1,"за 1 + 0,2б",{"$f":"G49*0.2","v":0.2}]
[null,null,null," - на региональном уровне","количество",null,null,"за 1 + 0,3б",{"$f":"G50*0.3","v":0}]
[null,null,null," - на федеральном  и международном уровнях","количество",null,null,"за 1 + 0,5б",{"$f":"G51*0.4","v":0}]
[32,null,null,"организация мероприятий, семинаров различного уровня по теме образовательной Программы:"]
[null,null,null," - на муниципальном уровне","количество",null,0,"за 1 + 0,3б",{"$f":"G53*0.3","v":0}]
[null,null,null," - на региональном уровне","количество",null,1,"за 1 + 0,5б",{"$f":"G54*0.5","v":0.5}]
[null,null,null," - на федеральном  и международном уровнях","количество",null,null,"за 1 + 0,7б",{"$f":"G55*0.7","v":0}]
[33,null,null,"внешкольная экспертная деятельность преподавателей Центра по теме Программы","количество часов",null,null,"за 100ч + 2б",{"$f":"G56*0.02","v":0}]
[34,null,null,"наличие публикаций в методических изданиях по теме Программы","количество страниц А4, интервал 1,5, шрифт 14 ",null,null,"за 24 стр. + 2б",{"$f":"ROUND(G57*2/24,1)","v":0}]
[35,null,null,"количество публикаций в СМИ муниципального и регионального уровня по теме Программы","количество статей",null,0,"за 1 ст. + 0,1б",{"$f":"G58*0.1","v":0}]
[36,null,"уровень организации и степень достижения целей и задач инновационной деятельности","наличие рецензии на образовательную Программу","если да = 1",null,null,"да + 2б",{"$f":"IF(G59=1,2,0)","v":0}]
[37,null,null,"Программа Центра является частью программы развития ОУ","если да = 1",null,null,"да + 1б",{"$f":"IF(G60=1,1,0)","v":0}]
[38,null,null,"Программа Центра является частью муниципальной программы развития","если да = 1",null,null,"да + 2б",{"$f":"IF(G61=1,2,0)","v":0}]
[39,null,null,"наличие общественной экспертизы результатов реализации образовательной Программы","если да = 1",null,0,"да + 1б",{"$f":"IF(G62=1,1,0)","v":0}]
[40,null,null,"публичное представление результатов инновационной деятельности на научно-практических конференциях"]
[null,null,null," - на школьном уровне","если да = 1",null,null,"да + 0,3б",{"$f":"IF(G64=1,0.3,0)","v":0}]
[null,null,null," - на муниципальном уровне","если да = 1",null,null,"да + 0,5б",{"$f":"IF(G65=1,0.5,0)","v":0}]
[null,null,null," - на региональном уровне","если да = 1",null,null,"да + 1б",{"$f":"IF(G66=1,1,0)","v":0}]
[null,null,null," - на федеральном  и международном уровнях","если да = 1",null,null,"да + 2б",{"$f":"IF(G67=1,2,0)","v":0}]
["Общее рейтинговое значение ",null,null,null,null,null,null,null,{"$f":"SUM(I13:I41,I43:I46,I48:I51,I53:I62,I64:I67)","v":33.200000000000003}]

{"sheet":"Т №16","index":5,"n_rows":68,"n_cols":9,"rows_kept":68,"cut":false,"hidden":false,"merged":[[60,4,60,5],[65,4,65,5],[38,1,66,1],[45,4,45,5],[40,4,40,5],[38,4,38,5],[39,4,39,5],[41,3,41,8],[64,4,64,5],[54,4,54,5],[46,3,46,8],[66,4,66,5],[58,2,66,2],[62,3,62,8],[61,4,61,5],[63,4,63,5],[59,4,59,5],[58,4,58,5],[44,4,44,5],[11,2,11,3],[38,2,40,2],[56,4,56,5],[55,4,55,5],[42,4,42,5],[46,2,57,2],[51,3,51,8],[48,4,48,5],[49,4,49,5],[41,2,45,2],[57,4,57,5],[32,4,32,5],[30,4,30,5],[0,3,2,8],[13,4,13,5],[22,2,25,2],[22,1,37,1],[17,4,17,5],[18,4,18,5],[20,4,20,5],[20,2,21,2],[1,0,1,1],[2,0,2,1],[6,0,6,6],[7,0,7,6],[8,0,8,6],[9,0,9,6],[19,4,19,5],[36,4,36,5],[3,0,3,1],[12,4,12,5],[14,4,14,5],[16,4,16,5],[12,2,15,2],[10,0,10,6],[15,4,15,5],[12,1,21,1],[21,4,21,5],[16,2,19,2],[23,4,23,5],[27,4,27,5],[29,4,29,5],[31,4,31,5],[62,0,66,0],[24,4,24,5],[25,4,25,5],[37,4,37,5],[26,2,28,2],[51,0,54,0],[26,4,26,5],[46,0,50,0],[36,2,37,2],[53,4,53,5],[41,0,45,0],[43,4,43,5],[35,4,35,5],[47,4,47,5],[0,0,0,2],[67,0,67,7],[3,3,3,8],[29,2,35,2],[28,4,28,5],[50,4,50,5],[52,4,52,5],[33,4,33,5],[34,4,34,5],[4,0,4,1],[5,0,5,1],[4,3,4,8],[5,3,5,8],[22,4,22,5]]}
["РЕЙТИНГ",null,null,"ОЦЕНОЧНЫЙ ЛИСТ РЕЙТИНГА РЕЗУЛЬТАТИВНОСТИ ОБРАЗОВАТЕЛЬНЫХ ПРОГРАММ ЦЕНТРОВ ГРАЖДАНСКОГО ОБРАЗОВАНИЯ 2012-2013  "]
["первый",null,{"$f":"SUM(I13:I22)","v":16.600000000000001}]
["второй",null,{"$f":"SUM(I23:I38)","v":18.100000000000001}]
["третий",null,{"$f":"SUM(I39:I41,I43:I46,I48:I51,I53:I62,I64:I67)","v":18},"МАОУ Заозёрная СОШ №16"]
["общее",null,{"$f":"SUM(C2:C4)","v":52.7},"Центр гражданского образования \" РОСТ\""]
[1.04,null,{"$f":"C5*A6","v":54.808000000000007},"Образовательная прграмма \" Основы социального лидерства\""]
["Общее количество слушателей образовательной Программы",null,null,null,null,null,null,50,"человек"]
["Количество педагогических работников ",null,null,null,null,null,null,5,"человек"]
["Количество консультантов из числа опытных старшеклассников, выпускников Центра",null,null,null,null,null,null,3,"человек"]
["Количество привлеченных специалистов",null,null,null,null,null,null,0,"человек"]
["Продолжительность образовательной Программы",null,null,null,null,null,null,78,"часов"]
["№","Направ-ление","Критерии",null,"Значение критерия","Единица измерения","Значение в единицах измерения","Система оценки","Рейтинговое значение"]
[1,"Образовательная программа","адаптированность","продолжительность образовательной Программы","количество часов",null,{"$f":"H11","v":78},"18-24 + 1б,\n25-48 + 2б,  \nболее 48 + 3б",{"$f":"IF($G$13>17,1,0)+IF($G$13>24,1,0)+IF($G$13>48,1,0)","v":3}]
[2,null,null,"наличие модулей в образовательной Программе для разновозрастных групп","для обучающихся = 1,\n для обучающихся и взрослых = 2",null,1,"1 + 1б,\n2 + 2б",{"$f":"IF(G14=1,1,0)+IF(G14=2,2,0)","v":1}]
[3,null,null,"наличие в образовательной Программе активных и интерактивных форм обучения","менее 50% занятий = 1,\n более 50% занятий = 2",null,2,"1 + 1б,\n2 + 2б",{"$f":"IF(G15=1,1,0)+IF(G15=2,2,0)","v":2}]
[4,null,null,"преемственность образовательных Программ из года в год","если существует = 1",null,1,"да + 1б",{"$f":"IF(G16=1,1,0)","v":1}]
[5,null,"доступность","наличие модулей, предложенных слушателям на выбор","если 2 модуля = 1,\n3 и более модулей = 2",null,2,"1 + 1б,\n2 + 2б",{"$f":"IF(G17=1,1,0)+IF(G17=2,2,0)","v":2}]
[6,null,null,"проведение мониторинга уровня сформированности ключевых компетентностей","если да = 1",null,1,"да + 3б",{"$f":"IF(G18=1,3,0)","v":3}]
[7,null,null,"программа реализуется в сетевом взаимодействии с другими Центрами","если да = 1",null,1,"да + 2б",{"$f":"IF(G19=1,2,0)","v":2}]
[8,null,null,"доля слушателей, привлеченных из других ОУ","количество",null,10,"100% + 3б",{"$f":"ROUND((G20/H7*3),1)","v":0.6}]
[9,null,"полнота реализации","Программа реализуется в полном объеме","если да = 1",null,1,"да + 1,5б,\nнет + 1б",{"$f":"IF(G21=1,1.5,1)","v":1.5}]
[10,null,null,"Программа изменилась при лучших условиях","если да = 1",null,1,"да + 0,5б",{"$f":"IF(G22=1,0.5,0)","v":0.5}]
[11,"Организация образовательного процесса","кадровое обеспечение","укомплектованность преподавательского состава в соответствии с Программой","состав полностью укомплектован = 1",null,1,"да + 2б,\nнет + 1б",{"$f":"IF(G23=1,2,1)","v":2}]
[12,null,null,"подготовка преподавателей по теме Программы","количество",null,5,"100% + 2б",{"$f":"ROUND((G24/(H8+H9+H10)*2),1)","v":1.3}]
[13,null,null,"привлечение специалистов из профессионального сообщества","количество",null,{"$f":"H10","v":0},"100% + 2б",{"$f":"ROUND((G25/(H9+H10+H8)*2),1)","v":0}]
[14,null,null,"привлечение консультантов из числа обучающихся, выпускников","количество",null,{"$f":"H9","v":3},"100% + 2б",{"$f":"ROUND((G26/(H10+H9+H8)*2),1)","v":0.8}]
[15,null,"материально-техническое обеспечение","наличие достаточной материальной базы для проведения знаний","если да = 1",null,",","да + 2б,\nнет + 1б",{"$f":"IF(G27=1,2,1)","v":1}]
[16,null,null,"использование материальной базы иных организаций","если да = 1",null,1,"да + 2б",{"$f":"IF(G28=1,2,0)","v":2}]
[17,null,null,"наличие оборудованных рабочих мест для слушателей и преподавателей","если да = 1, \nтолько преподавателей = 2",null,1,"1 + 1б, \n2 + 0,5б",{"$f":"IF(G29=1,1,0)+IF(G29=2,0.5,0)","v":1}]
[18,null,"информационно-технологическое обеспечение","наличие страницы Центра на сайте образовательного учреждения  ","если да = 1",null,1,"да + 1б",{"$f":"IF(G30=1,1,0)","v":1}]
[19,null,null,"регулярность обновления страницы Центра на сайте","более 1 раза в месяц = 1, \nреже = 2",null,1,"1 + 1б, \n2 + 0,5б",{"$f":"IF(G31=1,1,0)+IF(G31=2,0.5,0)","v":1}]
[20,null,null,"использование доступа в интернет преподавателями и слушателями","если да = 1,  только преподавателями = 2",null,1,"1 + 1б, \n2 + 0,5б",{"$f":"IF(G32=1,1,0)+IF(G32=2,0.5,0)","v":1}]
[21,null,null,"наличие методических материалов Центра на сайте ОУ","если да = 1",null,1,"да + 1б",{"$f":"IF(G33=1,1,0)","v":1}]
[22,null,null,"наличие Совета Центра","если да = 1",null,1,"да + 0,5б",{"$f":"IF(G34=1,0.5,0)","v":0.5}]
[23,null,null,"наличие утвержденного положения о деятельности Центра","если да = 1",null,1,"да + 0,5б",{"$f":"IF(G35=1,0.5,0)","v":0.5}]
[24,null,null,"наличие оформленных договоров с социальными партнерами","если да = 1",null,1,"да + 1б",{"$f":"IF(G36=1,1,0)","v":1}]
[25,null,"учебно-методическое обеспечение","обеспеченность слушателей учебниками, справочной литературой","полное обеспечение = 1,\nчастичное = 2",null,1,"1 + 2б, \n2 + 1б",{"$f":"IF(G37=1,2,0)+IF(G37=2,1,0)","v":2}]
[26,null,null,"обеспеченность преподавателей методической литературой, программными средствами обучения","полное обеспечение = 1,\nчастичное = 2",null,1,"1 + 2б, \n2 + 1б",{"$f":"IF(G38=1,2,0)+IF(G38=2,1,0)","v":2}]
[27,"Результаты образовательной деятельности","уровень и качество общеобразовательной подготовки слушателей","слушатели, применившие полученную информацию на практике","количество",null,50,"100% + 2б",{"$f":"ROUND(G39/H7*2,1)","v":2}]
[28,null,null,"слушатели, освоившие программу и получившие удостоверение","количество",null,30,"100% + 4б",{"$f":"ROUND(G40/$H$7*4,1)","v":2.4}]
[29,null,null,"слушатели, получившие сертификат","количество",null,20,"100% + 1б",{"$f":"ROUND(G41/H7*1,1)","v":0.4}]
[30,null,"сформированность ключевых компетентностей слушателей","слушатели, имеющие документально подтвержденные достижения по теме Программы:"]
[null,null,null," - на школьном уровне","количество",null,0,"100% + 2б",{"$f":"ROUND(G43/$H$7*2,1)","v":0}]
[null,null,null," - на муниципальном уровне","количество",null,14,"100% + 3б",{"$f":"ROUND(G44/$H$7*3,1)","v":0.8}]
[null,null,null," - на региональном уровне","количество",null,31,"100% + 4б",{"$f":"ROUND(G45/$H$7*4,1)","v":2.5}]
[null,null,null," - на федеральном  и международном уровнях","количество",null,3,"100% + 5б",{"$f":"ROUND(G46/$H$7*5,1)","v":0.3}]
[31,null,"уровень обобщения и представления опыта деятельности Центра по теме Программы","публичное представление промежуточных результатов реализации образовательной Программы:"]
[null,null,null," - на школьном уровне","количество",null,0,"за 1 + 0,1б",{"$f":"G48*0.1","v":0}]
[null,null,null," - на муниципальном уровне","количество",null,0,"за 1 + 0,2б",{"$f":"G49*0.2","v":0}]
[null,null,null," - на региональном уровне","количество",null,4,"за 1 + 0,3б",{"$f":"G50*0.3","v":1.2}]
[null,null,null," - на федеральном  и международном уровнях","количество",null,2,"за 1 + 0,5б",{"$f":"G51*0.4","v":0.8}]
[32,null,null,"организация мероприятий, семинаров различного уровня по теме образовательной Программы:"]
[null,null,null," - на муниципальном уровне","количество",null,1,"за 1 + 0,3б",{"$f":"G53*0.3","v":0.3}]
[null,null,null," - на региональном уровне","количество",null,1,"за 1 + 0,5б",{"$f":"G54*0.5","v":0.5}]
[null,null,null," - на федеральном  и международном уровнях","количество",null,1,"за 1 + 0,7б",{"$f":"G55*0.7","v":0.7}]
[33,null,null,"внешкольная экспертная деятельность преподавателей Центра по теме Программы","количество часов",null,0,"за 100ч + 2б",{"$f":"G56*0.02","v":0}]
[34,null,null,"наличие публикаций в методических изданиях по теме Программы","количество страниц А4, интервал 1,5, шрифт 14 ",null,2,"за 24 стр. + 2б",{"$f":"ROUND(G57*2/24,1)","v":0.2}]
[35,null,null,"количество публикаций в СМИ муниципального и регионального уровня по теме Программы","количество статей",null,4,"за 1 ст. + 0,1б",{"$f":"G58*0.1","v":0.4}]
[36,null,"уровень организации и степень достижения целей и задач инновационной деятельности","наличие рецензии на образовательную Программу","если да = 1",null,1,"да + 2б",{"$f":"IF(G59=1,2,0)","v":2}]
[37,null,null,"Программа Центра является частью программы развития ОУ","если да = 1",null,1,"да + 1б",{"$f":"IF(G60=1,1,0)","v":1}]
[38,null,null,"Программа Центра является частью муниципальной программы развития","если да = 1",null,1,"да + 2б",{"$f":"IF(G61=1,2,0)","v":2}]
[39,null,null,"наличие общественной экспертизы результатов реализации образовательной Программы","если да = 1",null,0,"да + 1б",{"$f":"IF(G62=1,1,0)","v":0}]
[40,null,null,"публичное представление результатов инновационной деятельности на научно-практических конференциях"]
[null,null,null," - на школьном уровне","если да = 1",null,0,"да + 0,3б",{"$f":"IF(G64=1,0.3,0)","v":0}]
[null,null,null," - на муниципальном уровне","если да = 1",null,1,"да + 0,5б",{"$f":"IF(G65=1,0.5,0)","v":0.5}]
[null,null,null," - на региональном уровне","если да = 1",null,0,"да + 1б",{"$f":"IF(G66=1,1,0)","v":0}]
[null,null,null," - на федеральном  и международном уровнях","если да = 1",null,null,"да + 2б",{"$f":"IF(G67=1,2,0)","v":0}]
["Общее рейтинговое значение ",null,null,null,null,null,null,null,{"$f":"SUM(I13:I41,I43:I46,I48:I51,I53:I62,I64:I67)","v":52.699999999999996}]

{"sheet":"Т №33","index":6,"n_rows":68,"n_cols":9,"rows_kept":68,"cut":false,"hidden":false,"merged":[[60,4,60,5],[65,4,65,5],[38,1,66,1],[45,4,45,5],[40,4,40,5],[38,4,38,5],[39,4,39,5],[41,3,41,8],[64,4,64,5],[54,4,54,5],[46,3,46,8],[66,4,66,5],[58,2,66,2],[62,3,62,8],[61,4,61,5],[63,4,63,5],[59,4,59,5],[58,4,58,5],[44,4,44,5],[11,2,11,3],[38,2,40,2],[56,4,56,5],[55,4,55,5],[42,4,42,5],[46,2,57,2],[51,3,51,8],[48,4,48,5],[49,4,49,5],[41,2,45,2],[57,4,57,5],[32,4,32,5],[30,4,30,5],[0,3,2,8],[13,4,13,5],[22,2,25,2],[22,1,37,1],[17,4,17,5],[18,4,18,5],[20,4,20,5],[20,2,21,2],[1,0,1,1],[2,0,2,1],[6,0,6,6],[7,0,7,6],[8,0,8,6],[9,0,9,6],[19,4,19,5],[36,4,36,5],[3,0,3,1],[12,4,12,5],[14,4,14,5],[16,4,16,5],[12,2,15,2],[10,0,10,6],[15,4,15,5],[12,1,21,1],[21,4,21,5],[16,2,19,2],[23,4,23,5],[27,4,27,5],[29,4,29,5],[31,4,31,5],[62,0,66,0],[24,4,24,5],[25,4,25,5],[37,4,37,5],[26,2,28,2],[51,0,54,0],[26,4,26,5],[46,0,50,0],[36,2,37,2],[53,4,53,5],[41,0,45,0],[43,4,43,5],[35,4,35,5],[47,4,47,5],[0,0,0,2],[67,0,67,7],[3,3,3,8],[29,2,35,2],[28,4,28,5],[50,4,50,5],[52,4,52,5],[33,4,33,5],[34,4,34,5],[4,0,4,1],[5,0,5,1],[4,3,4,8],[5,3,5,8],[22,4,22,5]]}
["РЕЙТИНГ",null,null,"ОЦЕНОЧНЫЙ ЛИСТ РЕЙТИНГА РЕЗУЛЬТАТИВНОСТИ ОБРАЗОВАТЕЛЬНЫХ ПРОГРАММ ЦЕНТРОВ ГРАЖДАНСКОГО ОБРАЗОВАНИЯ 2012-2013  "]
["первый",null,{"$f":"SUM(I13:I22)","v":13}]
["второй",null,{"$f":"SUM(I23:I38)","v":17.7}]
["третий",null,{"$f":"SUM(I39:I41,I43:I46,I48:I51,I53:I62,I64:I67)","v":16.72},"МБОУ СОШ № 33 г. Томска"]
["общее",null,{"$f":"SUM(C2:C4)","v":47.42},"Центр гражданского образования \"Социальное проектирование\""]
[1.0900000000000001,null,{"$f":"C5*A6","v":51.687800000000003},"Образовательная программа \"Основы управления\""]
["Общее количество слушателей образовательной Программы",null,null,null,null,null,null,33,"человек"]
["Количество педагогических работников ",null,null,null,null,null,null,3,"человек"]
["Количество консультантов из числа опытных старшеклассников, выпускников Центра",null,null,null,null,null,null,3,"человек"]
["Количество привлеченных специалистов",null,null,null,null,null,null,0,"человек"]
["Продолжительность образовательной Программы",null,null,null,null,null,null,30,"часов"]
["№","Направ-ление","Критерии",null,"Значение критерия","Единица измерения","Значение в единицах измерения","Система оценки","Рейтинговое значение"]
[1,"Образовательная программа","адаптированность","продолжительность образовательной Программы","количество часов",null,{"$f":"H11","v":30},"18-24 + 1б,\n25-48 + 2б,  \nболее 48 + 3б",{"$f":"IF($G$13>17,1,0)+IF($G$13>24,1,0)+IF($G$13>48,1,0)","v":2}]
[2,null,null,"наличие модулей в образовательной Программе для разновозрастных групп","для обучающихся = 1,\n для обучающихся и взрослых = 2",null,2,"1 + 1б,\n2 + 2б",{"$f":"IF(G14=1,1,0)+IF(G14=2,2,0)","v":2}]
[3,null,null,"наличие в образовательной Программе активных и интерактивных форм обучения","менее 50% занятий = 1,\n более 50% занятий = 2",null,2,"1 + 1б,\n2 + 2б",{"$f":"IF(G15=1,1,0)+IF(G15=2,2,0)","v":2}]
[4,null,null,"преемственность образовательных Программ из года в год","если существует = 1",null,1,"да + 1б",{"$f":"IF(G16=1,1,0)","v":1}]
[5,null,"доступность","наличие модулей, предложенных слушателям на выбор","если 2 модуля = 1,\n3 и более модулей = 2",null,1,"1 + 1б,\n2 + 2б",{"$f":"IF(G17=1,1,0)+IF(G17=2,2,0)","v":1}]
[6,null,null,"проведение мониторинга уровня сформированности ключевых компетентностей","если да = 1",null,1,"да + 3б",{"$f":"IF(G18=1,3,0)","v":3}]
[7,null,null,"программа реализуется в сетевом взаимодействии с другими Центрами","если да = 1",null,0,"да + 2б",{"$f":"IF(G19=1,2,0)","v":0}]
[8,null,null,"доля слушателей, привлеченных из других ОУ","количество",null,0,"100% + 3б",{"$f":"ROUND((G20/H7*3),1)","v":0}]
[9,null,"полнота реализации","Программа реализуется в полном объеме","если да = 1",null,1,"да + 1,5б,\nнет + 1б",{"$f":"IF(G21=1,1.5,1)","v":1.5}]
[10,null,null,"Программа изменилась при лучших условиях","если да = 1",null,1,"да + 0,5б",{"$f":"IF(G22=1,0.5,0)","v":0.5}]
[11,"Организация образовательного процесса","кадровое обеспечение","укомплектованность преподавательского состава в соответствии с Программой","состав полностью укомплектован = 1",null,1,"да + 2б,\nнет + 1б",{"$f":"IF(G23=1,2,1)","v":2}]
[12,null,null,"подготовка преподавателей по теме Программы","количество",null,2,"100% + 2б",{"$f":"ROUND((G24/(H8+H9+H10)*2),1)","v":0.7}]
[13,null,null,"привлечение специалистов из профессионального сообщества","количество",null,{"$f":"H10","v":0},"100% + 2б",{"$f":"ROUND((G25/(H9+H10+H8)*2),1)","v":0}]
[14,null,null,"привлечение консультантов из числа обучающихся, выпускников","количество",null,{"$f":"H9","v":3},"100% + 2б",{"$f":"ROUND((G26/(H10+H9+H8)*2),1)","v":1}]
[15,null,"материально-техническое обеспечение","наличие достаточной материальной базы для проведения знаний","если да = 1",null,1,"да + 2б,\nнет + 1б",{"$f":"IF(G27=1,2,1)","v":2}]
[16,null,null,"использование материальной базы иных организаций","если да = 1",null,1,"да + 2б",{"$f":"IF(G28=1,2,0)","v":2}]
[17,null,null,"наличие оборудованных рабочих мест для слушателей и преподавателей","если да = 1, \nтолько преподавателей = 2",null,2,"1 + 1б, \n2 + 0,5б",{"$f":"IF(G29=1,1,0)+IF(G29=2,0.5,0)","v":0.5}]
[18,null,"информационно-технологическое обеспечение","наличие страницы Центра на сайте образовательного учреждения  ","если да = 1",null,1,"да + 1б",{"$f":"IF(G30=1,1,0)","v":1}]
[19,null,null,"регулярность обновления страницы Центра на сайте","более 1 раза в месяц = 1, \nреже = 2",null,2,"1 + 1б, \n2 + 0,5б",{"$f":"IF(G31=1,1,0)+IF(G31=2,0.5,0)","v":0.5}]
[20,null,null,"использование доступа в интернет преподавателями и слушателями","если да = 1,  только преподавателями = 2",null,1,"1 + 1б, \n2 + 0,5б",{"$f":"IF(G32=1,1,0)+IF(G32=2,0.5,0)","v":1}]
[21,null,null,"наличие методических материалов Центра на сайте ОУ","если да = 1",null,1,"да + 1б",{"$f":"IF(G33=1,1,0)","v":1}]
[22,null,null,"наличие Совета Центра","если да = 1",null,1,"да + 0,5б",{"$f":"IF(G34=1,0.5,0)","v":0.5}]
[23,null,null,"наличие утвержденного положения о деятельности Центра","если да = 1",null,1,"да + 0,5б",{"$f":"IF(G35=1,0.5,0)","v":0.5}]
[24,null,null,"наличие оформленных договоров с социальными партнерами","если да = 1",null,1,"да + 1б",{"$f":"IF(G36=1,1,0)","v":1}]
[25,null,"учебно-методическое обеспечение","обеспеченность слушателей учебниками, справочной литературой","полное обеспечение = 1,\nчастичное = 2",null,1,"1 + 2б, \n2 + 1б",{"$f":"IF(G37=1,2,0)+IF(G37=2,1,0)","v":2}]
[26,null,null,"обеспеченность преподавателей методической литературой, программными средствами обучения","полное обеспечение = 1,\nчастичное = 2",null,1,"1 + 2б, \n2 + 1б",{"$f":"IF(G38=1,2,0)+IF(G38=2,1,0)","v":2}]
[27,"Результаты образовательной деятельности","уровень и качество общеобразовательной подготовки слушателей","слушатели, применившие полученную информацию на практике","количество",null,33,"100% + 2б",{"$f":"ROUND(G39/H7*2,1)","v":2}]
[28,null,null,"слушатели, освоившие программу и получившие удостоверение","количество",null,9,"100% + 4б",{"$f":"ROUND(G40/$H$7*4,1)","v":1.1000000000000001}]
[29,null,null,"слушатели, получившие сертификат","количество",null,24,"100% + 1б",{"$f":"ROUND(G41/H7*1,1)","v":0.7}]
[30,null,"сформированность ключевых компетентностей слушателей","слушатели, имеющие документально подтвержденные достижения по теме Программы:"]
[null,null,null," - на школьном уровне","количество",null,33,"100% + 2б",{"$f":"ROUND(G43/$H$7*2,1)","v":2}]
[null,null,null," - на муниципальном уровне","количество",null,7,"100% + 3б",{"$f":"ROUND(G44/$H$7*3,1)","v":0.6}]
[null,null,null," - на региональном уровне","количество",null,17,"100% + 4б",{"$f":"ROUND(G45/$H$7*4,1)","v":2.1}]
[null,null,null," - на федеральном  и международном уровнях","количество",null,0,"100% + 5б",{"$f":"ROUND(G46/$H$7*5,1)","v":0}]
[31,null,"уровень обобщения и представления опыта деятельности Центра по теме Программы","публичное представление промежуточных результатов реализации образовательной Программы:"]
[null,null,null," - на школьном уровне","количество",null,2,"за 1 + 0,1б",{"$f":"G48*0.1","v":0.2}]
[null,null,null," - на муниципальном уровне","количество",null,2,"за 1 + 0,2б",{"$f":"G49*0.2","v":0.4}]
[null,null,null," - на региональном уровне","количество",null,2,"за 1 + 0,3б",{"$f":"G50*0.3","v":0.6}]
[null,null,null," - на федеральном  и международном уровнях","количество",null,1,"за 1 + 0,5б",{"$f":"G51*0.4","v":0.4}]
[32,null,null,"организация мероприятий, семинаров различного уровня по теме образовательной Программы:"]
[null,null,null," - на муниципальном уровне","количество",null,1,"за 1 + 0,3б",{"$f":"G53*0.3","v":0.3}]
[null,null,null," - на региональном уровне","количество",null,1,"за 1 + 0,5б",{"$f":"G54*0.5","v":0.5}]
[null,null,null," - на федеральном  и международном уровнях","количество",null,0,"за 1 + 0,7б",{"$f":"G55*0.7","v":0}]
[33,null,null,"внешкольная экспертная деятельность преподавателей Центра по теме Программы","количество часов",null,1,"за 100ч + 2б",{"$f":"G56*0.02","v":0.02}]
[34,null,null,"наличие публикаций в методических изданиях по теме Программы","количество страниц А4, интервал 1,5, шрифт 14 ",null,0,"за 24 стр. + 2б",{"$f":"ROUND(G57*2/24,1)","v":0}]
[35,null,null,"количество публикаций в СМИ муниципального и регионального уровня по теме Программы","количество статей",null,0,"за 1 ст. + 0,1б",{"$f":"G58*0.1","v":0}]
[36,null,"уровень организации и степень достижения целей и задач инновационной деятельности","наличие рецензии на образовательную Программу","если да = 1",null,0,"да + 2б",{"$f":"IF(G59=1,2,0)","v":0}]
[37,null,null,"Программа Центра является частью программы развития ОУ","если да = 1",null,1,"да + 1б",{"$f":"IF(G60=1,1,0)","v":1}]
[38,null,null,"Программа Центра является частью муниципальной программы развития","если да = 1",null,1,"да + 2б",{"$f":"IF(G61=1,2,0)","v":2}]
[39,null,null,"наличие общественной экспертизы результатов реализации образовательной Программы","если да = 1",null,1,"да + 1б",{"$f":"IF(G62=1,1,0)","v":1}]
[40,null,null,"публичное представление результатов инновационной деятельности на научно-практических конференциях"]
[null,null,null," - на школьном уровне","если да = 1",null,1,"да + 0,3б",{"$f":"IF(G64=1,0.3,0)","v":0.3}]
[null,null,null," - на муниципальном уровне","если да = 1",null,1,"да + 0,5б",{"$f":"IF(G65=1,0.5,0)","v":0.5}]
[null,null,null," - на региональном уровне","если да = 1",null,1,"да + 1б",{"$f":"IF(G66=1,1,0)","v":1}]
[null,null,null," - на федеральном  и международном уровнях","если да = 1",null,0,"да + 2б",{"$f":"IF(G67=1,2,0)","v":0}]
["Общее рейтинговое значение ",null,null,null,null,null,null,null,{"$f":"SUM(I13:I41,I43:I46,I48:I51,I53:I62,I64:I67)","v":47.420000000000009}]

{"sheet":"Т № 37","index":7,"n_rows":68,"n_cols":9,"rows_kept":68,"cut":false,"hidden":false,"merged":[[60,4,60,5],[65,4,65,5],[38,1,66,1],[45,4,45,5],[40,4,40,5],[38,4,38,5],[39,4,39,5],[41,3,41,8],[64,4,64,5],[54,4,54,5],[46,3,46,8],[66,4,66,5],[58,2,66,2],[62,3,62,8],[61,4,61,5],[63,4,63,5],[59,4,59,5],[58,4,58,5],[44,4,44,5],[11,2,11,3],[38,2,40,2],[56,4,56,5],[55,4,55,5],[42,4,42,5],[46,2,57,2],[51,3,51,8],[48,4,48,5],[49,4,49,5],[41,2,45,2],[57,4,57,5],[32,4,32,5],[30,4,30,5],[0,3,2,8],[13,4,13,5],[22,2,25,2],[22,1,37,1],[17,4,17,5],[18,4,18,5],[20,4,20,5],[20,2,21,2],[1,0,1,1],[2,0,2,1],[6,0,6,6],[7,0,7,6],[8,0,8,6],[9,0,9,6],[19,4,19,5],[36,4,36,5],[3,0,3,1],[12,4,12,5],[14,4,14,5],[16,4,16,5],[12,2,15,2],[10,0,10,6],[15,4,15,5],[12,1,21,1],[21,4,21,5],[16,2,19,2],[23,4,23,5],[27,4,27,5],[29,4,29,5],[31,4,31,5],[62,0,66,0],[24,4,24,5],[25,4,25,5],[37,4,37,5],[26,2,28,2],[51,0,54,0],[26,4,26,5],[46,0,50,0],[36,2,37,2],[53,4,53,5],[41,0,45,0],[43,4,43,5],[35,4,35,5],[47,4,47,5],[0,0,0,2],[67,0,67,7],[3,3,3,8],[29,2,35,2],[28,4,28,5],[50,4,50,5],[52,4,52,5],[33,4,33,5],[34,4,34,5],[4,0,4,1],[5,0,5,1],[4,3,4,8],[5,3,5,8],[22,4,22,5]]}
["РЕЙТИНГ",null,null,"ОЦЕНОЧНЫЙ ЛИСТ РЕЙТИНГА РЕЗУЛЬТАТИВНОСТИ ОБРАЗОВАТЕЛЬНЫХ ПРОГРАММ ЦЕНТРОВ ГРАЖДАНСКОГО ОБРАЗОВАНИЯ 2012-2013  "]
["первый",null,{"$f":"SUM(I13:I22)","v":16}]
["второй",null,{"$f":"SUM(I23:I38)","v":20}]
["третий",null,{"$f":"SUM(I39:I41,I43:I46,I48:I51,I53:I62,I64:I67)","v":31.7},"Сокращенное наименование образовательного учреждения: МАОУ СОШ № 37"]
["общее",null,{"$f":"SUM(C2:C4)","v":67.7},"Центр гражданского образования \"Школа навигаторов\""]
[1.04,null,{"$f":"C5*A6","v":70.408000000000001},"Образовательная Программа \"Школа навигаторов\""]
["Общее количество слушателей образовательной Программы",null,null,null,null,null,null,82,"человек"]
["Количество педагогических работников ",null,null,null,null,null,null,5,"человек"]
["Количество консультантов из числа опытных старшеклассников, выпускников Центра",null,null,null,null,null,null,7,"человек"]
["Количество привлеченных специалистов",null,null,null,null,null,null,2,"человек"]
["Продолжительность образовательной Программы",null,null,null,null,null,null,52,"часов"]
["№","Направ-ление","Критерии",null,"Значение критерия","Единица измерения","Значение в единицах измерения","Система оценки","Рейтинговое значение"]
[1,"Образовательная программа","адаптированность","продолжительность образовательной Программы","количество часов",null,{"$f":"H11","v":52},"18-24 + 1б,\n25-48 + 2б,  \nболее 48 + 3б",{"$f":"IF($G$13>17,1,0)+IF($G$13>24,1,0)+IF($G$13>48,1,0)","v":3}]
[2,null,null,"наличие модулей в образовательной Программе для разновозрастных групп","для обучающихся = 1,\n для обучающихся и взрослых = 2",null,1,"1 + 1б,\n2 + 2б",{"$f":"IF(G14=1,1,0)+IF(G14=2,2,0)","v":1}]
[3,null,null,"наличие в образовательной Программе активных и интерактивных форм обучения","менее 50% занятий = 1,\n более 50% занятий = 2",null,2,"1 + 1б,\n2 + 2б",{"$f":"IF(G15=1,1,0)+IF(G15=2,2,0)","v":2}]
[4,null,null,"преемственность образовательных Программ из года в год","если существует = 1",null,1,"да + 1б",{"$f":"IF(G16=1,1,0)","v":1}]
[5,null,"доступность","наличие модулей, предложенных слушателям на выбор","если 2 модуля = 1,\n3 и более модулей = 2",null,2,"1 + 1б,\n2 + 2б",{"$f":"IF(G17=1,1,0)+IF(G17=2,2,0)","v":2}]
[6,null,null,"проведение мониторинга уровня сформированности ключевых компетентностей","если да = 1",null,1,"да + 3б",{"$f":"IF(G18=1,3,0)","v":3}]
[7,null,null,"программа реализуется в сетевом взаимодействии с другими Центрами","если да = 1",null,1,"да + 2б",{"$f":"IF(G19=1,2,0)","v":2}]
[8,null,null,"доля слушателей, привлеченных из других ОУ","количество",null,0,"100% + 3б",{"$f":"ROUND((G20/H7*3),1)","v":0}]
[9,null,"полнота реализации","Программа реализуется в полном объеме","если да = 1",null,1,"да + 1,5б,\nнет + 1б",{"$f":"IF(G21=1,1.5,1)","v":1.5}]
[10,null,null,"Программа изменилась при лучших условиях","если да = 1",null,1,"да + 0,5б",{"$f":"IF(G22=1,0.5,0)","v":0.5}]
[11,"Организация образовательного процесса","кадровое обеспечение","укомплектованность преподавательского состава в соответствии с Программой","состав полностью укомплектован = 1",null,1,"да + 2б,\nнет + 1б",{"$f":"IF(G23=1,2,1)","v":2}]
[12,null,null,"подготовка преподавателей по теме Программы","количество",null,12,"100% + 2б",{"$f":"ROUND((G24/(H8+H9+H10)*2),1)","v":1.7}]
[13,null,null,"привлечение специалистов из профессионального сообщества","количество",null,{"$f":"H10","v":2},"100% + 2б",{"$f":"ROUND((G25/(H9+H10+H8)*2),1)","v":0.3}]
[14,null,null,"привлечение консультантов из числа обучающихся, выпускников","количество",null,{"$f":"H9","v":7},"100% + 2б",{"$f":"ROUND((G26/(H10+H9+H8)*2),1)","v":1}]
[15,null,"материально-техническое обеспечение","наличие достаточной материальной базы для проведения знаний","если да = 1",null,1,"да + 2б,\nнет + 1б",{"$f":"IF(G27=1,2,1)","v":2}]
[16,null,null,"использование материальной базы иных организаций","если да = 1",null,1,"да + 2б",{"$f":"IF(G28=1,2,0)","v":2}]
[17,null,null,"наличие оборудованных рабочих мест для слушателей и преподавателей","если да = 1, \nтолько преподавателей = 2",null,1,"1 + 1б, \n2 + 0,5б",{"$f":"IF(G29=1,1,0)+IF(G29=2,0.5,0)","v":1}]
[18,null,"информационно-технологическое обеспечение","наличие страницы Центра на сайте образовательного учреждения  ","если да = 1",null,1,"да + 1б",{"$f":"IF(G30=1,1,0)","v":1}]
[19,null,null,"регулярность обновления страницы Центра на сайте","более 1 раза в месяц = 1, \nреже = 2",null,1,"1 + 1б, \n2 + 0,5б",{"$f":"IF(G31=1,1,0)+IF(G31=2,0.5,0)","v":1}]
[20,null,null,"использование доступа в интернет преподавателями и слушателями","если да = 1,  только преподавателями = 2",null,1,"1 + 1б, \n2 + 0,5б",{"$f":"IF(G32=1,1,0)+IF(G32=2,0.5,0)","v":1}]
[21,null,null,"наличие методических материалов Центра на сайте ОУ","если да = 1",null,1,"да + 1б",{"$f":"IF(G33=1,1,0)","v":1}]
[22,null,null,"наличие Совета Центра","если да = 1",null,1,"да + 0,5б",{"$f":"IF(G34=1,0.5,0)","v":0.5}]
[23,null,null,"наличие утвержденного положения о деятельности Центра","если да = 1",null,1,"да + 0,5б",{"$f":"IF(G35=1,0.5,0)","v":0.5}]
[24,null,null,"наличие оформленных договоров с социальными партнерами","если да = 1",null,1,"да + 1б",{"$f":"IF(G36=1,1,0)","v":1}]
[25,null,"учебно-методическое обеспечение","обеспеченность слушателей учебниками, справочной литературой","полное обеспечение = 1,\nчастичное = 2",null,1,"1 + 2б, \n2 + 1б",{"$f":"IF(G37=1,2,0)+IF(G37=2,1,0)","v":2}]
[26,null,null,"обеспеченность преподавателей методической литературой, программными средствами обучения","полное обеспечение = 1,\nчастичное = 2",null,1,"1 + 2б, \n2 + 1б",{"$f":"IF(G38=1,2,0)+IF(G38=2,1,0)","v":2}]
[27,"Результаты образовательной деятельности","уровень и качество общеобразовательной подготовки слушателей","слушатели, применившие полученную информацию на практике","количество",null,82,"100% + 2б",{"$f":"ROUND(G39/H7*2,1)","v":2}]
[28,null,null,"слушатели, освоившие программу и получившие удостоверение","количество",null,82,"100% + 4б",{"$f":"ROUND(G40/$H$7*4,1)","v":4}]
[29,null,null,"слушатели, получившие сертификат","количество",null,0,"100% + 1б",{"$f":"ROUND(G41/H7*1,1)","v":0}]
[30,null,"сформированность ключевых компетентностей слушателей","слушатели, имеющие документально подтвержденные достижения по теме Программы:"]
[null,null,null," - на школьном уровне","количество",null,82,"100% + 2б",{"$f":"ROUND(G43/$H$7*2,1)","v":2}]
[null,null,null," - на муниципальном уровне","количество",null,15,"100% + 3б",{"$f":"ROUND(G44/$H$7*3,1)","v":0.5}]
[null,null,null," - на региональном уровне","количество",null,28,"100% + 4б",{"$f":"ROUND(G45/$H$7*4,1)","v":1.4}]
[null,null,null," - на федеральном  и международном уровнях","количество",null,55,"100% + 5б",{"$f":"ROUND(G46/$H$7*5,1)","v":3.4}]
[31,null,"уровень обобщения и представления опыта деятельности Центра по теме Программы","публичное представление промежуточных результатов реализации образовательной Программы:"]
[null,null,null," - на школьном уровне","количество",null,1,"за 1 + 0,1б",{"$f":"G48*0.1","v":0.1}]
[null,null,null," - на муниципальном уровне","количество",null,3,"за 1 + 0,2б",{"$f":"G49*0.2","v":0.60000000000000009}]
[null,null,null," - на региональном уровне","количество",null,4,"за 1 + 0,3б",{"$f":"G50*0.3","v":1.2}]
[null,null,null," - на федеральном  и международном уровнях","количество",null,3,"за 1 + 0,5б",{"$f":"G51*0.4","v":1.2000000000000002}]
[32,null,null,"организация мероприятий, семинаров различного уровня по теме образовательной Программы:"]
[null,null,null," - на муниципальном уровне","количество",null,1,"за 1 + 0,3б",{"$f":"G53*0.3","v":0.3}]
[null,null,null," - на региональном уровне","количество",null,4,"за 1 + 0,5б",{"$f":"G54*0.5","v":2}]
[null,null,null," - на федеральном  и международном уровнях","количество",null,3,"за 1 + 0,7б",{"$f":"G55*0.7","v":2.0999999999999996}]
[33,null,null,"внешкольная экспертная деятельность преподавателей Центра по теме Программы","количество часов",null,15,"за 100ч + 2б",{"$f":"G56*0.02","v":0.3}]
[34,null,null,"наличие публикаций в методических изданиях по теме Программы","количество страниц А4, интервал 1,5, шрифт 14 ",null,22,"за 24 стр. + 2б",{"$f":"ROUND(G57*2/24,1)","v":1.8}]
[35,null,null,"количество публикаций в СМИ муниципального и регионального уровня по теме Программы","количество статей",null,0,"за 1 ст. + 0,1б",{"$f":"G58*0.1","v":0}]
[36,null,"уровень организации и степень достижения целей и задач инновационной деятельности","наличие рецензии на образовательную Программу","если да = 1",null,1,"да + 2б",{"$f":"IF(G59=1,2,0)","v":2}]
[37,null,null,"Программа Центра является частью программы развития ОУ","если да = 1",null,1,"да + 1б",{"$f":"IF(G60=1,1,0)","v":1}]
[38,null,null,"Программа Центра является частью муниципальной программы развития","если да = 1",null,1,"да + 2б",{"$f":"IF(G61=1,2,0)","v":2}]
[39,null,null,"наличие общественной экспертизы результатов реализации образовательной Программы","если да = 1",null,1,"да + 1б",{"$f":"IF(G62=1,1,0)","v":1}]
[40,null,null,"публичное представление результатов инновационной деятельности на научно-практических конференциях"]
[null,null,null," - на школьном уровне","если да = 1",null,1,"да + 0,3б",{"$f":"IF(G64=1,0.3,0)","v":0.3}]
[null,null,null," - на муниципальном уровне","если да = 1",null,1,"да + 0,5б",{"$f":"IF(G65=1,0.5,0)","v":0.5}]
[null,null,null," - на региональном уровне","если да = 1",null,0,"да + 1б",{"$f":"IF(G66=1,1,0)","v":0}]
[null,null,null," - на федеральном  и международном уровнях","если да = 1",null,1,"да + 2б",{"$f":"IF(G67=1,2,0)","v":2}]
["Общее рейтинговое значение ",null,null,null,null,null,null,null,{"$f":"SUM(I13:I41,I43:I46,I48:I51,I53:I62,I64:I67)","v":67.7}]

{"sheet":"Т ПК","index":8,"n_rows":68,"n_cols":9,"rows_kept":68,"cut":false,"hidden":false,"merged":[[0,0,0,2],[67,0,67,7],[3,3,3,8],[29,2,35,2],[28,4,28,5],[50,4,50,5],[52,4,52,5],[33,4,33,5],[23,4,23,5],[27,4,27,5],[29,4,29,5],[31,4,31,5],[35,4,35,5],[4,0,4,1],[5,0,5,1],[4,3,4,8],[5,3,5,8],[22,4,22,5],[62,0,66,0],[24,4,24,5],[25,4,25,5],[37,4,37,5],[26,2,28,2],[51,0,54,0],[26,4,26,5],[46,0,50,0],[36,2,37,2],[53,4,53,5],[34,4,34,5],[47,4,47,5],[41,2,45,2],[57,4,57,5],[0,3,2,8],[13,4,13,5],[22,2,25,2],[22,1,37,1],[17,4,17,5],[18,4,18,5],[20,4,20,5],[20,2,21,2],[1,0,1,1],[2,0,2,1],[3,0,3,1],[12,4,12,5],[14,4,14,5],[16,4,16,5],[12,2,15,2],[10,0,10,6],[41,0,45,0],[6,0,6,6],[7,0,7,6],[8,0,8,6],[9,0,9,6],[19,4,19,5],[36,4,36,5],[43,4,43,5],[44,4,44,5],[11,2,11,3],[15,4,15,5],[12,1,21,1],[21,4,21,5],[16,2,19,2],[32,4,32,5],[30,4,30,5],[38,1,66,1],[45,4,45,5],[40,4,40,5],[38,4,38,5],[39,4,39,5],[41,3,41,8],[64,4,64,5],[54,4,54,5],[38,2,40,2],[56,4,56,5],[55,4,55,5],[42,4,42,5],[46,2,57,2],[51,3,51,8],[46,3,46,8],[66,4,66,5],[48,4,48,5],[49,4,49,5],[58,2,66,2],[62,3,62,8],[61,4,61,5],[63,4,63,5],[59,4,59,5],[58,4,58,5],[60,4,60,5],[65,4,65,5]]}
["РЕЙТИНГ",null,null,"ОЦЕНОЧНЫЙ ЛИСТ РЕЙТИНГА РЕЗУЛЬТАТИВНОСТИ ОБРАЗОВАТЕЛЬНЫХ ПРОГРАММ ЦЕНТРОВ ГРАЖДАНСКОГО ОБРАЗОВАНИЯ 2012-2013  "]
["первый",null,{"$f":"SUM(I13:I22)","v":14.5}]
["второй",null,{"$f":"SUM(I23:I38)","v":19}]
["третий",null,{"$f":"SUM(I39:I41,I43:I46,I48:I51,I53:I62,I64:I67)","v":14.2},"МАОУ ДОД ЦДОД \"Планирование карьеры\""]
["общее",null,{"$f":"SUM(C2:C4)","v":47.7},"Центр гражданского образования \"Я - гражданин Томска\""]
[1,null,{"$f":"C5*A6","v":47.7},"Образовательная программа \"Город, который строим мы\""]
["Общее количество слушателей образовательной Программы",null,null,null,null,null,null,40,"человек"]
["Количество педагогических работников ",null,null,null,null,null,null,4,"человек"]
["Количество консультантов из числа опытных старшеклассников, выпускников Центра",null,null,null,null,null,null,null,"человек"]
["Количество привлеченных специалистов",null,null,null,null,null,null,1,"человек"]
["Продолжительность образовательной Программы",null,null,null,null,null,null,40,"часов"]
["№","Направ-ление","Критерии",null,"Значение критерия","Единица измерения","Значение в единицах измерения","Система оценки","Рейтинговое значение"]
[1,"Образовательная программа","адаптированность","продолжительность образовательной Программы","количество часов",null,{"$f":"H11","v":40},"18-24 + 1б,\n25-48 + 2б,  \nболее 48 + 3б",{"$f":"IF($G$13>17,1,0)+IF($G$13>24,1,0)+IF($G$13>48,1,0)","v":2}]
[2,null,null,"наличие модулей в образовательной Программе для разновозрастных групп","для обучающихся = 1,\n для обучающихся и взрослых = 2",null,null,"1 + 1б,\n2 + 2б",{"$f":"IF(G14=1,1,0)+IF(G14=2,2,0)","v":0}]
[3,null,null,"наличие в образовательной Программе активных и интерактивных форм обучения","менее 50% занятий = 1,\n более 50% занятий = 2",null,2,"1 + 1б,\n2 + 2б",{"$f":"IF(G15=1,1,0)+IF(G15=2,2,0)","v":2}]
[4,null,null,"преемственность образовательных Программ из года в год","если существует = 1",null,1,"да + 1б",{"$f":"IF(G16=1,1,0)","v":1}]
[5,null,"доступность","наличие модулей, предложенных слушателям на выбор","если 2 модуля = 1,\n3 и более модулей = 2",null,null,"1 + 1б,\n2 + 2б",{"$f":"IF(G17=1,1,0)+IF(G17=2,2,0)","v":0}]
[6,null,null,"проведение мониторинга уровня сформированности ключевых компетентностей","если да = 1",null,1,"да + 3б",{"$f":"IF(G18=1,3,0)","v":3}]
[7,null,null,"программа реализуется в сетевом взаимодействии с другими Центрами","если да = 1",null,1,"да + 2б",{"$f":"IF(G19=1,2,0)","v":2}]
[8,null,null,"доля слушателей, привлеченных из других ОУ","количество",null,40,"100% + 3б",{"$f":"ROUND((G20/H7*3),1)","v":3}]
[9,null,"полнота реализации","Программа реализуется в полном объеме","если да = 1",null,1,"да + 1,5б,\nнет + 1б",{"$f":"IF(G21=1,1.5,1)","v":1.5}]
[10,null,null,"Программа изменилась при лучших условиях","если да = 1",null,null,"да + 0,5б",{"$f":"IF(G22=1,0.5,0)","v":0}]
[11,"Организация образовательного процесса","кадровое обеспечение","укомплектованность преподавательского состава в соответствии с Программой","состав полностью укомплектован = 1",null,1,"да + 2б,\nнет + 1б",{"$f":"IF(G23=1,2,1)","v":2}]
[12,null,null,"подготовка преподавателей по теме Программы","количество",null,4,"100% + 2б",{"$f":"ROUND((G24/(H8+H9+H10)*2),1)","v":1.6}]
[13,null,null,"привлечение специалистов из профессионального сообщества","количество",null,{"$f":"H10","v":1},"100% + 2б",{"$f":"ROUND((G25/(H9+H10+H8)*2),1)","v":0.4}]
[14,null,null,"привлечение консультантов из числа обучающихся, выпускников","количество",null,{"$f":"H9","v":0},"100% + 2б",{"$f":"ROUND((G26/(H10+H9+H8)*2),1)","v":0}]
[15,null,"материально-техническое обеспечение","наличие достаточной материальной базы для проведения знаний","если да = 1",null,1,"да + 2б,\nнет + 1б",{"$f":"IF(G27=1,2,1)","v":2}]
[16,null,null,"использование материальной базы иных организаций","если да = 1",null,1,"да + 2б",{"$f":"IF(G28=1,2,0)","v":2}]
[17,null,null,"наличие оборудованных рабочих мест для слушателей и преподавателей","если да = 1, \nтолько преподавателей = 2",null,1,"1 + 1б, \n2 + 0,5б",{"$f":"IF(G29=1,1,0)+IF(G29=2,0.5,0)","v":1}]
[18,null,"информационно-технологическое обеспечение","наличие страницы Центра на сайте образовательного учреждения  ","если да = 1",null,1,"да + 1б",{"$f":"IF(G30=1,1,0)","v":1}]
[19,null,null,"регулярность обновления страницы Центра на сайте","более 1 раза в месяц = 1, \nреже = 2",null,1,"1 + 1б, \n2 + 0,5б",{"$f":"IF(G31=1,1,0)+IF(G31=2,0.5,0)","v":1}]
[20,null,null,"использование доступа в интернет преподавателями и слушателями","если да = 1,  только преподавателями = 2",null,1,"1 + 1б, \n2 + 0,5б",{"$f":"IF(G32=1,1,0)+IF(G32=2,0.5,0)","v":1}]
[21,null,null,"наличие методических материалов Центра на сайте ОУ","если да = 1",null,1,"да + 1б",{"$f":"IF(G33=1,1,0)","v":1}]
[22,null,null,"наличие Совета Центра","если да = 1",null,1,"да + 0,5б",{"$f":"IF(G34=1,0.5,0)","v":0.5}]
[23,null,null,"наличие утвержденного положения о деятельности Центра","если да = 1",null,1,"да + 0,5б",{"$f":"IF(G35=1,0.5,0)","v":0.5}]
[24,null,null,"наличие оформленных договоров с социальными партнерами","если да = 1",null,1,"да + 1б",{"$f":"IF(G36=1,1,0)","v":1}]
[25,null,"учебно-методическое обеспечение","обеспеченность слушателей учебниками, справочной литературой","полное обеспечение = 1,\nчастичное = 2",null,1,"1 + 2б, \n2 + 1б",{"$f":"IF(G37=1,2,0)+IF(G37=2,1,0)","v":2}]
[26,null,null,"обеспеченность преподавателей методической литературой, программными средствами обучения","полное обеспечение = 1,\nчастичное = 2",null,1,"1 + 2б, \n2 + 1б",{"$f":"IF(G38=1,2,0)+IF(G38=2,1,0)","v":2}]
[27,"Результаты образовательной деятельности","уровень и качество общеобразовательной подготовки слушателей","слушатели, применившие полученную информацию на практике","количество",null,40,"100% + 2б",{"$f":"ROUND(G39/H7*2,1)","v":2}]
[28,null,null,"слушатели, освоившие программу и получившие удостоверение","количество",null,null,"100% + 4б",{"$f":"ROUND(G40/$H$7*4,1)","v":0}]
[29,null,null,"слушатели, получившие сертификат","количество",null,40,"100% + 1б",{"$f":"ROUND(G41/H7*1,1)","v":1}]
[30,null,"сформированность ключевых компетентностей слушателей","слушатели, имеющие документально подтвержденные достижения по теме Программы:"]
[null,null,null," - на школьном уровне","количество",null,null,"100% + 2б",{"$f":"ROUND(G43/$H$7*2,1)","v":0}]
[null,null,null," - на муниципальном уровне","количество",null,14,"100% + 3б",{"$f":"ROUND(G44/$H$7*3,1)","v":1.1000000000000001}]
[null,null,null," - на региональном уровне","количество",null,8,"100% + 4б",{"$f":"ROUND(G45/$H$7*4,1)","v":0.8}]
[null,null,null," - на федеральном  и международном уровнях","количество",null,null,"100% + 5б",{"$f":"ROUND(G46/$H$7*5,1)","v":0}]
[31,null,"уровень обобщения и представления опыта деятельности Центра по теме Программы","публичное представление промежуточных результатов реализации образовательной Программы:"]
[null,null,null," - на школьном уровне","количество",null,null,"за 1 + 0,1б",{"$f":"G48*0.1","v":0}]
[null,null,null," - на муниципальном уровне","количество",null,null,"за 1 + 0,2б",{"$f":"G49*0.2","v":0}]
[null,null,null," - на региональном уровне","количество",null,1,"за 1 + 0,3б",{"$f":"G50*0.3","v":0.3}]
[null,null,null," - на федеральном  и международном уровнях","количество",null,1,"за 1 + 0,5б",{"$f":"G51*0.4","v":0.4}]
[32,null,null,"организация мероприятий, семинаров различного уровня по теме образовательной Программы:"]
[null,null,null," - на муниципальном уровне","количество",null,2,"за 1 + 0,3б",{"$f":"G53*0.3","v":0.6}]
[null,null,null," - на региональном уровне","количество",null,1,"за 1 + 0,5б",{"$f":"G54*0.5","v":0.5}]
[null,null,null," - на федеральном  и международном уровнях","количество",null,null,"за 1 + 0,7б",{"$f":"G55*0.7","v":0}]
[33,null,null,"внешкольная экспертная деятельность преподавателей Центра по теме Программы","количество часов",null,null,"за 100ч + 2б",{"$f":"G56*0.02","v":0}]
[34,null,null,"наличие публикаций в методических изданиях по теме Программы","количество страниц А4, интервал 1,5, шрифт 14 ",null,null,"за 24 стр. + 2б",{"$f":"ROUND(G57*2/24,1)","v":0}]
[35,null,null,"количество публикаций в СМИ муниципального и регионального уровня по теме Программы","количество статей",null,null,"за 1 ст. + 0,1б",{"$f":"G58*0.1","v":0}]
[36,null,"уровень организации и степень достижения целей и задач инновационной деятельности","наличие рецензии на образовательную Программу","если да = 1",null,1,"да + 2б",{"$f":"IF(G59=1,2,0)","v":2}]
[37,null,null,"Программа Центра является частью программы развития ОУ","если да = 1",null,1,"да + 1б",{"$f":"IF(G60=1,1,0)","v":1}]
[38,null,null,"Программа Центра является частью муниципальной программы развития","если да = 1",null,1,"да + 2б",{"$f":"IF(G61=1,2,0)","v":2}]
[39,null,null,"наличие общественной экспертизы результатов реализации образовательной Программы","если да = 1",null,null,"да + 1б",{"$f":"IF(G62=1,1,0)","v":0}]
[40,null,null,"публичное представление результатов инновационной деятельности на научно-практических конференциях"]
[null,null,null," - на школьном уровне","если да = 1",null,null,"да + 0,3б",{"$f":"IF(G64=1,0.3,0)","v":0}]
[null,null,null," - на муниципальном уровне","если да = 1",null,1,"да + 0,5б",{"$f":"IF(G65=1,0.5,0)","v":0.5}]
[null,null,null," - на региональном уровне","если да = 1",null,null,"да + 1б",{"$f":"IF(G66=1,1,0)","v":0}]
[null,null,null," - на федеральном  и международном уровнях","если да = 1",null,1,"да + 2б",{"$f":"IF(G67=1,2,0)","v":2}]
["Общее рейтинговое значение ",null,null,null,null,null,null,null,{"$f":"SUM(I13:I41,I43:I46,I48:I51,I53:I62,I64:I67)","v":47.699999999999996}]

{"sheet":"Стр ЦДОД","index":9,"n_rows":68,"n_cols":9,"rows_kept":68,"cut":false,"hidden":false,"merged":[[66,4,66,5],[58,2,66,2],[62,3,62,8],[61,4,61,5],[63,4,63,5],[59,4,59,5],[60,4,60,5],[65,4,65,5],[64,4,64,5],[58,4,58,5],[56,4,56,5],[55,4,55,5],[42,4,42,5],[46,2,57,2],[51,3,51,8],[6,0,6,6],[7,0,7,6],[8,0,8,6],[9,0,9,6],[19,4,19,5],[13,4,13,5],[11,2,11,3],[10,0,10,6],[15,4,15,5],[12,1,21,1],[21,4,21,5],[16,2,19,2],[17,4,17,5],[22,2,25,2],[14,4,14,5],[16,4,16,5],[41,2,45,2],[32,4,32,5],[34,4,34,5],[22,4,22,5],[23,4,23,5],[36,4,36,5],[43,4,43,5],[44,4,44,5],[41,3,41,8],[30,4,30,5],[45,4,45,5],[40,4,40,5],[29,2,35,2],[0,0,0,2],[4,0,4,1],[5,0,5,1],[4,3,4,8],[5,3,5,8],[0,3,2,8],[3,3,3,8],[67,0,67,7],[1,0,1,1],[2,0,2,1],[3,0,3,1],[12,4,12,5],[12,2,15,2],[18,4,18,5],[20,4,20,5],[20,2,21,2],[51,0,54,0],[26,4,26,5],[46,0,50,0],[36,2,37,2],[53,4,53,5],[27,4,27,5],[29,4,29,5],[62,0,66,0],[24,4,24,5],[25,4,25,5],[37,4,37,5],[26,2,28,2],[22,1,37,1],[41,0,45,0],[48,4,48,5],[49,4,49,5],[38,1,66,1],[38,4,38,5],[39,4,39,5],[54,4,54,5],[38,2,40,2],[57,4,57,5],[46,3,46,8],[28,4,28,5],[50,4,50,5],[52,4,52,5],[33,4,33,5],[31,4,31,5],[35,4,35,5],[47,4,47,5]]}
["РЕЙТИНГ",null,null,"ОЦЕНОЧНЫЙ ЛИСТ РЕЙТИНГА РЕЗУЛЬТАТИВНОСТИ ОБРАЗОВАТЕЛЬНЫХ ПРОГРАММ ЦЕНТРОВ ГРАЖДАНСКОГО ОБРАЗОВАНИЯ 2012-2013  "]
["первый",null,{"$f":"SUM(I13:I22)","v":19}]
["второй",null,{"$f":"SUM(I23:I38)","v":19}]
["третий",null,{"$f":"SUM(I39:I41,I43:I46,I48:I51,I53:I62,I64:I67)","v":66.48},"МБОУ ДОД \"ЦДОД\" г.Стрежевой"]
["общее",null,{"$f":"SUM(C2:C4)","v":104.48},"Центр гражданского образования \"Новое поколение\""]
[1,null,{"$f":"C5*A6","v":104.48},"Образовательная программа \"Новое поколение\""]
["Общее количество слушателей образовательной Программы",null,null,null,null,null,null,253,"человек"]
["Количество педагогических работников ",null,null,null,null,null,null,6,"человек"]
["Количество консультантов из числа опытных старшеклассников, выпускников Центра",null,null,null,null,null,null,0,"человек"]
["Количество привлеченных специалистов",null,null,null,null,null,null,11,"человек"]
["Продолжительность образовательной Программы",null,null,null,null,null,null,860,"часов"]
["№","Направ-ление","Критерии",null,"Значение критерия","Единица измерения","Значение в единицах измерения","Система оценки","Рейтинговое значение"]
[1,"Образовательная программа","адаптированность","продолжительность образовательной Программы","количество часов",null,{"$f":"H11","v":860},"18-24 + 1б,\n25-48 + 2б,  \nболее 48 + 3б",{"$f":"IF($G$13>17,1,0)+IF($G$13>24,1,0)+IF($G$13>48,1,0)","v":3}]
[2,null,null,"наличие модулей в образовательной Программе для разновозрастных групп","для обучающихся = 1,\n для обучающихся и взрослых = 2",null,1,"1 + 1б,\n2 + 2б",{"$f":"IF(G14=1,1,0)+IF(G14=2,2,0)","v":1}]
[3,null,null,"наличие в образовательной Программе активных и интерактивных форм обучения","менее 50% занятий = 1,\n более 50% занятий = 2",null,2,"1 + 1б,\n2 + 2б",{"$f":"IF(G15=1,1,0)+IF(G15=2,2,0)","v":2}]
[4,null,null,"преемственность образовательных Программ из года в год","если существует = 1",null,1,"да + 1б",{"$f":"IF(G16=1,1,0)","v":1}]
[5,null,"доступность","наличие модулей, предложенных слушателям на выбор","если 2 модуля = 1,\n3 и более модулей = 2",null,2,"1 + 1б,\n2 + 2б",{"$f":"IF(G17=1,1,0)+IF(G17=2,2,0)","v":2}]
[6,null,null,"проведение мониторинга уровня сформированности ключевых компетентностей","если да = 1",null,1,"да + 3б",{"$f":"IF(G18=1,3,0)","v":3}]
[7,null,null,"программа реализуется в сетевом взаимодействии с другими Центрами","если да = 1",null,1,"да + 2б",{"$f":"IF(G19=1,2,0)","v":2}]
[8,null,null,"доля слушателей, привлеченных из других ОУ","количество",null,253,"100% + 3б",{"$f":"ROUND((G20/H7*3),1)","v":3}]
[9,null,"полнота реализации","Программа реализуется в полном объеме","если да = 1",null,1,"да + 1,5б,\nнет + 1б",{"$f":"IF(G21=1,1.5,1)","v":1.5}]
[10,null,null,"Программа изменилась при лучших условиях","если да = 1",null,1,"да + 0,5б",{"$f":"IF(G22=1,0.5,0)","v":0.5}]
[11,"Организация образовательного процесса","кадровое обеспечение","укомплектованность преподавательского состава в соответствии с Программой","состав полностью укомплектован = 1",null,1,"да + 2б,\nнет + 1б",{"$f":"IF(G23=1,2,1)","v":2}]
[12,null,null,"подготовка преподавателей по теме Программы","количество",null,6,"100% + 2б",{"$f":"ROUND((G24/(H8+H9+H10)*2),1)","v":0.7}]
[13,null,null,"привлечение специалистов из профессионального сообщества","количество",null,{"$f":"H10","v":11},"100% + 2б",{"$f":"ROUND((G25/(H9+H10+H8)*2),1)","v":1.3}]
[14,null,null,"привлечение консультантов из числа обучающихся, выпускников","количество",null,{"$f":"H9","v":0},"100% + 2б",{"$f":"ROUND((G26/(H10+H9+H8)*2),1)","v":0}]
[15,null,"материально-техническое обеспечение","наличие достаточной материальной базы для проведения знаний","если да = 1",null,1,"да + 2б,\nнет + 1б",{"$f":"IF(G27=1,2,1)","v":2}]
[16,null,null,"использование материальной базы иных организаций","если да = 1",null,1,"да + 2б",{"$f":"IF(G28=1,2,0)","v":2}]
[17,null,null,"наличие оборудованных рабочих мест для слушателей и преподавателей","если да = 1, \nтолько преподавателей = 2",null,1,"1 + 1б, \n2 + 0,5б",{"$f":"IF(G29=1,1,0)+IF(G29=2,0.5,0)","v":1}]
[18,null,"информационно-технологическое обеспечение","наличие страницы Центра на сайте образовательного учреждения  ","если да = 1",null,1,"да + 1б",{"$f":"IF(G30=1,1,0)","v":1}]
[19,null,null,"регулярность обновления страницы Центра на сайте","более 1 раза в месяц = 1, \nреже = 2",null,1,"1 + 1б, \n2 + 0,5б",{"$f":"IF(G31=1,1,0)+IF(G31=2,0.5,0)","v":1}]
[20,null,null,"использование доступа в интернет преподавателями и слушателями","если да = 1,  только преподавателями = 2",null,1,"1 + 1б, \n2 + 0,5б",{"$f":"IF(G32=1,1,0)+IF(G32=2,0.5,0)","v":1}]
[21,null,null,"наличие методических материалов Центра на сайте ОУ","если да = 1",null,1,"да + 1б",{"$f":"IF(G33=1,1,0)","v":1}]
[22,null,null,"наличие Совета Центра","если да = 1",null,1,"да + 0,5б",{"$f":"IF(G34=1,0.5,0)","v":0.5}]
[23,null,null,"наличие утвержденного положения о деятельности Центра","если да = 1",null,1,"да + 0,5б",{"$f":"IF(G35=1,0.5,0)","v":0.5}]
[24,null,null,"наличие оформленных договоров с социальными партнерами","если да = 1",null,1,"да + 1б",{"$f":"IF(G36=1,1,0)","v":1}]
[25,null,"учебно-методическое обеспечение","обеспеченность слушателей учебниками, справочной литературой","полное обеспечение = 1,\nчастичное = 2",null,1,"1 + 2б, \n2 + 1б",{"$f":"IF(G37=1,2,0)+IF(G37=2,1,0)","v":2}]
[26,null,null,"обеспеченность преподавателей методической литературой, программными средствами обучения","полное обеспечение = 1,\nчастичное = 2",null,1,"1 + 2б, \n2 + 1б",{"$f":"IF(G38=1,2,0)+IF(G38=2,1,0)","v":2}]
[27,"Результаты образовательной деятельности","уровень и качество общеобразовательной подготовки слушателей","слушатели, применившие полученную информацию на практике","количество",null,253,"100% + 2б",{"$f":"ROUND(G39/H7*2,1)","v":2}]
[28,null,null,"слушатели, освоившие программу и получившие удостоверение","количество",null,26,"100% + 4б",{"$f":"ROUND(G40/$H$7*4,1)","v":0.4}]
[29,null,null,"слушатели, получившие сертификат","количество",null,227,"100% + 1б",{"$f":"ROUND(G41/H7*1,1)","v":0.9}]
[30,null,"сформированность ключевых компетентностей слушателей","слушатели, имеющие документально подтвержденные достижения по теме Программы:"]
[null,null,null," - на школьном уровне","количество",null,253,"100% + 2б",{"$f":"ROUND(G43/$H$7*2,1)","v":2}]
[null,null,null," - на муниципальном уровне","количество",null,253,"100% + 3б",{"$f":"ROUND(G44/$H$7*3,1)","v":3}]
[null,null,null," - на региональном уровне","количество",null,171,"100% + 4б",{"$f":"ROUND(G45/$H$7*4,1)","v":2.7}]
[null,null,null," - на федеральном  и международном уровнях","количество",null,146,"100% + 5б",{"$f":"ROUND(G46/$H$7*5,1)","v":2.9}]
[31,null,"уровень обобщения и представления опыта деятельности Центра по теме Программы","публичное представление промежуточных результатов реализации образовательной Программы:"]
[null,null,null," - на школьном уровне","количество",null,6,"за 1 + 0,1б",{"$f":"G48*0.1","v":0.60000000000000009}]
[null,null,null," - на муниципальном уровне","количество",null,20,"за 1 + 0,2б",{"$f":"G49*0.2","v":4}]
[null,null,null," - на региональном уровне","количество",null,6,"за 1 + 0,3б",{"$f":"G50*0.3","v":1.7999999999999998}]
[null,null,null," - на федеральном  и международном уровнях","количество",null,4,"за 1 + 0,5б",{"$f":"G51*0.4","v":1.6}]
[32,null,null,"организация мероприятий, семинаров различного уровня по теме образовательной Программы:"]
[null,null,null," - на муниципальном уровне","количество",null,20,"за 1 + 0,3б",{"$f":"G53*0.3","v":6}]
[null,null,null," - на региональном уровне","количество",null,6,"за 1 + 0,5б",{"$f":"G54*0.5","v":3}]
[null,null,null," - на федеральном  и международном уровнях","количество",null,1,"за 1 + 0,7б",{"$f":"G55*0.7","v":0.7}]
[33,null,null,"внешкольная экспертная деятельность преподавателей Центра по теме Программы","количество часов",null,184,"за 100ч + 2б",{"$f":"G56*0.02","v":3.68}]
[34,null,null,"наличие публикаций в методических изданиях по теме Программы","количество страниц А4, интервал 1,5, шрифт 14 ",null,265,"за 24 стр. + 2б",{"$f":"ROUND(G57*2/24,1)","v":22.1}]
[35,null,null,"количество публикаций в СМИ муниципального и регионального уровня по теме Программы","количество статей",null,23,"за 1 ст. + 0,1б",{"$f":"G58*0.1","v":2.3000000000000003}]
[36,null,"уровень организации и степень достижения целей и задач инновационной деятельности","наличие рецензии на образовательную Программу","если да = 1",null,1,"да + 2б",{"$f":"IF(G59=1,2,0)","v":2}]
[37,null,null,"Программа Центра является частью программы развития ОУ","если да = 1",null,1,"да + 1б",{"$f":"IF(G60=1,1,0)","v":1}]
[38,null,null,"Программа Центра является частью муниципальной программы развития","если да = 1",null,1,"да + 2б",{"$f":"IF(G61=1,2,0)","v":2}]
[39,null,null,"наличие общественной экспертизы результатов реализации образовательной Программы","если да = 1",null,1,"да + 1б",{"$f":"IF(G62=1,1,0)","v":1}]
[40,null,null,"публичное представление результатов инновационной деятельности на научно-практических конференциях"]
[null,null,null," - на школьном уровне","если да = 1",null,1,"да + 0,3б",{"$f":"IF(G64=1,0.3,0)","v":0.3}]
[null,null,null," - на муниципальном уровне","если да = 1",null,1,"да + 0,5б",{"$f":"IF(G65=1,0.5,0)","v":0.5}]
[null,null,null," - на региональном уровне","если да = 1",null,0,"да + 1б",{"$f":"IF(G66=1,1,0)","v":0}]
[null,null,null," - на федеральном  и международном уровнях","если да = 1",null,0,"да + 2б",{"$f":"IF(G67=1,2,0)","v":0}]
["Общее рейтинговое значение ",null,null,null,null,null,null,null,{"$f":"SUM(I13:I41,I43:I46,I48:I51,I53:I62,I64:I67)","v":104.48000000000002}]

{"sheet":"ЗС Сам","index":10,"n_rows":68,"n_cols":9,"rows_kept":68,"cut":false,"hidden":false,"merged":[[60,4,60,5],[65,4,65,5],[38,1,66,1],[45,4,45,5],[40,4,40,5],[38,4,38,5],[39,4,39,5],[41,3,41,8],[64,4,64,5],[54,4,54,5],[46,3,46,8],[66,4,66,5],[58,2,66,2],[62,3,62,8],[61,4,61,5],[63,4,63,5],[59,4,59,5],[58,4,58,5],[44,4,44,5],[11,2,11,3],[38,2,40,2],[56,4,56,5],[55,4,55,5],[42,4,42,5],[46,2,57,2],[51,3,51,8],[48,4,48,5],[49,4,49,5],[41,2,45,2],[57,4,57,5],[32,4,32,5],[30,4,30,5],[0,3,2,8],[13,4,13,5],[22,2,25,2],[22,1,37,1],[17,4,17,5],[18,4,18,5],[20,4,20,5],[20,2,21,2],[1,0,1,1],[2,0,2,1],[6,0,6,6],[7,0,7,6],[8,0,8,6],[9,0,9,6],[19,4,19,5],[36,4,36,5],[3,0,3,1],[12,4,12,5],[14,4,14,5],[16,4,16,5],[12,2,15,2],[10,0,10,6],[15,4,15,5],[12,1,21,1],[21,4,21,5],[16,2,19,2],[23,4,23,5],[27,4,27,5],[29,4,29,5],[31,4,31,5],[62,0,66,0],[24,4,24,5],[25,4,25,5],[37,4,37,5],[26,2,28,2],[51,0,54,0],[26,4,26,5],[46,0,50,0],[36,2,37,2],[53,4,53,5],[41,0,45,0],[43,4,43,5],[35,4,35,5],[47,4,47,5],[0,0,0,2],[67,0,67,7],[3,3,3,8],[29,2,35,2],[28,4,28,5],[50,4,50,5],[52,4,52,5],[33,4,33,5],[34,4,34,5],[4,0,4,1],[5,0,5,1],[4,3,4,8],[5,3,5,8],[22,4,22,5]]}
["РЕЙТИНГ",null,null,"ОЦЕНОЧНЫЙ ЛИСТ РЕЙТИНГА РЕЗУЛЬТАТИВНОСТИ ОБРАЗОВАТЕЛЬНЫХ ПРОГРАММ ЦЕНТРОВ ГРАЖДАНСКОГО ОБРАЗОВАНИЯ 2012-2013  "]
["первый",null,{"$f":"SUM(I13:I22)","v":13}]
["второй",null,{"$f":"SUM(I23:I38)","v":18.399999999999999}]
["третий",null,{"$f":"SUM(I39:I41,I43:I46,I48:I51,I53:I62,I64:I67)","v":21.1},"МБОУ \"Самусьский лицей\""]
["общее",null,{"$f":"SUM(C2:C4)","v":52.5},"Центр гражданского образования \" Твой выбор - твой шанс\""]
[1.17,null,{"$f":"C5*A6","v":61.424999999999997},"Образовательная программа \"Твой выбор - твой шанс\""]
["Общее количество слушателей образовательной Программы",null,null,null,null,null,null,12,"человек"]
["Количество педагогических работников ",null,null,null,null,null,null,3,"человек"]
["Количество консультантов из числа опытных старшеклассников, выпускников Центра",null,null,null,null,null,null,8,"человек"]
["Количество привлеченных специалистов",null,null,null,null,null,null,0,"человек"]
["Продолжительность образовательной Программы",null,null,null,null,null,null,32,"часов"]
["№","Направ-ление","Критерии",null,"Значение критерия","Единица измерения","Значение в единицах измерения","Система оценки","Рейтинговое значение"]
[1,"Образовательная программа","адаптированность","продолжительность образовательной Программы","количество часов",null,{"$f":"H11","v":32},"18-24 + 1б,\n25-48 + 2б,  \nболее 48 + 3б",{"$f":"IF($G$13>17,1,0)+IF($G$13>24,1,0)+IF($G$13>48,1,0)","v":2}]
[2,null,null,"наличие модулей в образовательной Программе для разновозрастных групп","для обучающихся = 1,\n для обучающихся и взрослых = 2",null,1,"1 + 1б,\n2 + 2б",{"$f":"IF(G14=1,1,0)+IF(G14=2,2,0)","v":1}]
[3,null,null,"наличие в образовательной Программе активных и интерактивных форм обучения","менее 50% занятий = 1,\n более 50% занятий = 2",null,2,"1 + 1б,\n2 + 2б",{"$f":"IF(G15=1,1,0)+IF(G15=2,2,0)","v":2}]
[4,null,null,"преемственность образовательных Программ из года в год","если существует = 1",null,1,"да + 1б",{"$f":"IF(G16=1,1,0)","v":1}]
[5,null,"доступность","наличие модулей, предложенных слушателям на выбор","если 2 модуля = 1,\n3 и более модулей = 2",null,0,"1 + 1б,\n2 + 2б",{"$f":"IF(G17=1,1,0)+IF(G17=2,2,0)","v":0}]
[6,null,null,"проведение мониторинга уровня сформированности ключевых компетентностей","если да = 1",null,1,"да + 3б",{"$f":"IF(G18=1,3,0)","v":3}]
[7,null,null,"программа реализуется в сетевом взаимодействии с другими Центрами","если да = 1",null,1,"да + 2б",{"$f":"IF(G19=1,2,0)","v":2}]
[8,null,null,"доля слушателей, привлеченных из других ОУ","количество",null,0,"100% + 3б",{"$f":"ROUND((G20/H7*3),1)","v":0}]
[9,null,"полнота реализации","Программа реализуется в полном объеме","если да = 1",null,1,"да + 1,5б,\nнет + 1б",{"$f":"IF(G21=1,1.5,1)","v":1.5}]
[10,null,null,"Программа изменилась при лучших условиях","если да = 1",null,1,"да + 0,5б",{"$f":"IF(G22=1,0.5,0)","v":0.5}]
[11,"Организация образовательного процесса","кадровое обеспечение","укомплектованность преподавательского состава в соответствии с Программой","состав полностью укомплектован = 1",null,1,"да + 2б,\nнет + 1б",{"$f":"IF(G23=1,2,1)","v":2}]
[12,null,null,"подготовка преподавателей по теме Программы","количество",null,2,"100% + 2б",{"$f":"ROUND((G24/(H8+H9+H10)*2),1)","v":0.4}]
[13,null,null,"привлечение специалистов из профессионального сообщества","количество",null,{"$f":"H10","v":0},"100% + 2б",{"$f":"ROUND((G25/(H9+H10+H8)*2),1)","v":0}]
[14,null,null,"привлечение консультантов из числа обучающихся, выпускников","количество",null,{"$f":"H9","v":8},"100% + 2б",{"$f":"ROUND((G26/(H10+H9+H8)*2),1)","v":1.5}]
[15,null,"материально-техническое обеспечение","наличие достаточной материальной базы для проведения знаний","если да = 1",null,1,"да + 2б,\nнет + 1б",{"$f":"IF(G27=1,2,1)","v":2}]
[16,null,null,"использование материальной базы иных организаций","если да = 1",null,1,"да + 2б",{"$f":"IF(G28=1,2,0)","v":2}]
[17,null,null,"наличие оборудованных рабочих мест для слушателей и преподавателей","если да = 1, \nтолько преподавателей = 2",null,1,"1 + 1б, \n2 + 0,5б",{"$f":"IF(G29=1,1,0)+IF(G29=2,0.5,0)","v":1}]
[18,null,"информационно-технологическое обеспечение","наличие страницы Центра на сайте образовательного учреждения  ","если да = 1",null,1,"да + 1б",{"$f":"IF(G30=1,1,0)","v":1}]
[19,null,null,"регулярность обновления страницы Центра на сайте","более 1 раза в месяц = 1, \nреже = 2",null,2,"1 + 1б, \n2 + 0,5б",{"$f":"IF(G31=1,1,0)+IF(G31=2,0.5,0)","v":0.5}]
[20,null,null,"использование доступа в интернет преподавателями и слушателями","если да = 1,  только преподавателями = 2",null,1,"1 + 1б, \n2 + 0,5б",{"$f":"IF(G32=1,1,0)+IF(G32=2,0.5,0)","v":1}]
[21,null,null,"наличие методических материалов Центра на сайте ОУ","если да = 1",null,1,"да + 1б",{"$f":"IF(G33=1,1,0)","v":1}]
[22,null,null,"наличие Совета Центра","если да = 1",null,1,"да + 0,5б",{"$f":"IF(G34=1,0.5,0)","v":0.5}]
[23,null,null,"наличие утвержденного положения о деятельности Центра","если да = 1",null,1,"да + 0,5б",{"$f":"IF(G35=1,0.5,0)","v":0.5}]
[24,null,null,"наличие оформленных договоров с социальными партнерами","если да = 1",null,1,"да + 1б",{"$f":"IF(G36=1,1,0)","v":1}]
[25,null,"учебно-методическое обеспечение","обеспеченность слушателей учебниками, справочной литературой","полное обеспечение = 1,\nчастичное = 2",null,1,"1 + 2б, \n2 + 1б",{"$f":"IF(G37=1,2,0)+IF(G37=2,1,0)","v":2}]
[26,null,null,"обеспеченность преподавателей методической литературой, программными средствами обучения","полное обеспечение = 1,\nчастичное = 2",null,1,"1 + 2б, \n2 + 1б",{"$f":"IF(G38=1,2,0)+IF(G38=2,1,0)","v":2}]
[27,"Результаты образовательной деятельности","уровень и качество общеобразовательной подготовки слушателей","слушатели, применившие полученную информацию на практике","количество",null,12,"100% + 2б",{"$f":"ROUND(G39/H7*2,1)","v":2}]
[28,null,null,"слушатели, освоившие программу и получившие удостоверение","количество",null,10,"100% + 4б",{"$f":"ROUND(G40/$H$7*4,1)","v":3.3}]
[29,null,null,"слушатели, получившие сертификат","количество",null,2,"100% + 1б",{"$f":"ROUND(G41/H7*1,1)","v":0.2}]
[30,null,"сформированность ключевых компетентностей слушателей","слушатели, имеющие документально подтвержденные достижения по теме Программы:"]
[null,null,null," - на школьном уровне","количество",null,6,"100% + 2б",{"$f":"ROUND(G43/$H$7*2,1)","v":1}]
[null,null,null," - на муниципальном уровне","количество",null,3,"100% + 3б",{"$f":"ROUND(G44/$H$7*3,1)","v":0.8}]
[null,null,null," - на региональном уровне","количество",null,12,"100% + 4б",{"$f":"ROUND(G45/$H$7*4,1)","v":4}]
[null,null,null," - на федеральном  и международном уровнях","количество",null,3,"100% + 5б",{"$f":"ROUND(G46/$H$7*5,1)","v":1.3}]
[31,null,"уровень обобщения и представления опыта деятельности Центра по теме Программы","публичное представление промежуточных результатов реализации образовательной Программы:"]
[null,null,null," - на школьном уровне","количество",null,2,"за 1 + 0,1б",{"$f":"G48*0.1","v":0.2}]
[null,null,null," - на муниципальном уровне","количество",null,2,"за 1 + 0,2б",{"$f":"G49*0.2","v":0.4}]
[null,null,null," - на региональном уровне","количество",null,0,"за 1 + 0,3б",{"$f":"G50*0.3","v":0}]
[null,null,null," - на федеральном  и международном уровнях","количество",null,null,"за 1 + 0,5б",{"$f":"G51*0.4","v":0}]
[32,null,null,"организация мероприятий, семинаров различного уровня по теме образовательной Программы:"]
[null,null,null," - на муниципальном уровне","количество",null,1,"за 1 + 0,3б",{"$f":"G53*0.3","v":0.3}]
[null,null,null," - на региональном уровне","количество",null,2,"за 1 + 0,5б",{"$f":"G54*0.5","v":1}]
[null,null,null," - на федеральном  и международном уровнях","количество",null,null,"за 1 + 0,7б",{"$f":"G55*0.7","v":0}]
[33,null,null,"внешкольная экспертная деятельность преподавателей Центра по теме Программы","количество часов",null,0,"за 100ч + 2б",{"$f":"G56*0.02","v":0}]
[34,null,null,"наличие публикаций в методических изданиях по теме Программы","количество страниц А4, интервал 1,5, шрифт 14 ",null,1,"за 24 стр. + 2б",{"$f":"ROUND(G57*2/24,1)","v":0.1}]
[35,null,null,"количество публикаций в СМИ муниципального и регионального уровня по теме Программы","количество статей",null,0,"за 1 ст. + 0,1б",{"$f":"G58*0.1","v":0}]
[36,null,"уровень организации и степень достижения целей и задач инновационной деятельности","наличие рецензии на образовательную Программу","если да = 1",null,1,"да + 2б",{"$f":"IF(G59=1,2,0)","v":2}]
[37,null,null,"Программа Центра является частью программы развития ОУ","если да = 1",null,1,"да + 1б",{"$f":"IF(G60=1,1,0)","v":1}]
[38,null,null,"Программа Центра является частью муниципальной программы развития","если да = 1",null,1,"да + 2б",{"$f":"IF(G61=1,2,0)","v":2}]
[39,null,null,"наличие общественной экспертизы результатов реализации образовательной Программы","если да = 1",null,null,"да + 1б",{"$f":"IF(G62=1,1,0)","v":0}]
[40,null,null,"публичное представление результатов инновационной деятельности на научно-практических конференциях"]
[null,null,null," - на школьном уровне","если да = 1",null,0,"да + 0,3б",{"$f":"IF(G64=1,0.3,0)","v":0}]
[null,null,null," - на муниципальном уровне","если да = 1",null,1,"да + 0,5б",{"$f":"IF(G65=1,0.5,0)","v":0.5}]
[null,null,null," - на региональном уровне","если да = 1",null,1,"да + 1б",{"$f":"IF(G66=1,1,0)","v":1}]
[null,null,null," - на федеральном  и международном уровнях","если да = 1",null,null,"да + 2б",{"$f":"IF(G67=1,2,0)","v":0}]
["Общее рейтинговое значение ",null,null,null,null,null,null,null,{"$f":"SUM(I13:I41,I43:I46,I48:I51,I53:I62,I64:I67)","v":52.499999999999993}]

{"sheet":"ЗС №86-87","index":11,"n_rows":68,"n_cols":9,"rows_kept":68,"cut":false,"hidden":false,"merged":[[60,4,60,5],[65,4,65,5],[38,1,66,1],[45,4,45,5],[40,4,40,5],[38,4,38,5],[39,4,39,5],[41,3,41,8],[64,4,64,5],[54,4,54,5],[46,3,46,8],[66,4,66,5],[58,2,66,2],[62,3,62,8],[61,4,61,5],[63,4,63,5],[59,4,59,5],[58,4,58,5],[44,4,44,5],[11,2,11,3],[38,2,40,2],[56,4,56,5],[55,4,55,5],[42,4,42,5],[46,2,57,2],[51,3,51,8],[48,4,48,5],[49,4,49,5],[41,2,45,2],[57,4,57,5],[32,4,32,5],[30,4,30,5],[0,3,2,8],[13,4,13,5],[22,2,25,2],[22,1,37,1],[17,4,17,5],[18,4,18,5],[20,4,20,5],[20,2,21,2],[1,0,1,1],[2,0,2,1],[6,0,6,6],[7,0,7,6],[8,0,8,6],[9,0,9,6],[19,4,19,5],[36,4,36,5],[3,0,3,1],[12,4,12,5],[14,4,14,5],[16,4,16,5],[12,2,15,2],[10,0,10,6],[15,4,15,5],[12,1,21,1],[21,4,21,5],[16,2,19,2],[23,4,23,5],[27,4,27,5],[29,4,29,5],[31,4,31,5],[62,0,66,0],[24,4,24,5],[25,4,25,5],[37,4,37,5],[26,2,28,2],[51,0,54,0],[26,4,26,5],[46,0,50,0],[36,2,37,2],[53,4,53,5],[41,0,45,0],[43,4,43,5],[35,4,35,5],[47,4,47,5],[0,0,0,2],[67,0,67,7],[3,3,3,8],[29,2,35,2],[28,4,28,5],[50,4,50,5],[52,4,52,5],[33,4,33,5],[34,4,34,5],[4,0,4,1],[5,0,5,1],[4,3,4,8],[5,3,5,8],[22,4,22,5]]}
["РЕЙТИНГ",null,null,"ОЦЕНОЧНЫЙ ЛИСТ РЕЙТИНГА РЕЗУЛЬТАТИВНОСТИ ОБРАЗОВАТЕЛЬНЫХ ПРОГРАММ ЦЕНТРОВ ГРАЖДАНСКОГО ОБРАЗОВАНИЯ 2012-2013  "]
["первый",null,{"$f":"SUM(I13:I22)","v":18.899999999999999}]
["второй",null,{"$f":"SUM(I23:I38)","v":22}]
["третий",null,{"$f":"SUM(I39:I41,I43:I46,I48:I51,I53:I62,I64:I67)","v":31},"МБОУ \"СОШ №86\" МБОУ \"СОШ №89\""]
["общее",null,{"$f":"SUM(C2:C4)","v":71.900000000000006},"Центр гражданского образования \"Школа социального успеха\""]
[1.04,null,{"$f":"C5*A6","v":74.77600000000001},"Образовательная программа \"Ступени успеха\""]
["Общее количество слушателей образовательной Программы",null,null,null,null,null,null,73,"человек"]
["Количество педагогических работников ",null,null,null,null,null,null,4,"человек"]
["Количество консультантов из числа опытных старшеклассников, выпускников Центра",null,null,null,null,null,null,10,"человек"]
["Количество привлеченных специалистов",null,null,null,null,null,null,6,"человек"]
["Продолжительность образовательной Программы",null,null,null,null,null,null,72,"часов"]
["№","Направ-ление","Критерии",null,"Значение критерия","Единица измерения","Значение в единицах измерения","Система оценки","Рейтинговое значение"]
[1,"Образовательная программа","адаптированность","продолжительность образовательной Программы","количество часов",null,{"$f":"H11","v":72},"18-24 + 1б,\n25-48 + 2б,  \nболее 48 + 3б",{"$f":"IF($G$13>17,1,0)+IF($G$13>24,1,0)+IF($G$13>48,1,0)","v":3}]
[2,null,null,"наличие модулей в образовательной Программе для разновозрастных групп","для обучающихся = 1,\n для обучающихся и взрослых = 2",null,2,"1 + 1б,\n2 + 2б",{"$f":"IF(G14=1,1,0)+IF(G14=2,2,0)","v":2}]
[3,null,null,"наличие в образовательной Программе активных и интерактивных форм обучения","менее 50% занятий = 1,\n более 50% занятий = 2",null,2,"1 + 1б,\n2 + 2б",{"$f":"IF(G15=1,1,0)+IF(G15=2,2,0)","v":2}]
[4,null,null,"преемственность образовательных Программ из года в год","если существует = 1",null,1,"да + 1б",{"$f":"IF(G16=1,1,0)","v":1}]
[5,null,"доступность","наличие модулей, предложенных слушателям на выбор","если 2 модуля = 1,\n3 и более модулей = 2",null,2,"1 + 1б,\n2 + 2б",{"$f":"IF(G17=1,1,0)+IF(G17=2,2,0)","v":2}]
[6,null,null,"проведение мониторинга уровня сформированности ключевых компетентностей","если да = 1",null,1,"да + 3б",{"$f":"IF(G18=1,3,0)","v":3}]
[7,null,null,"программа реализуется в сетевом взаимодействии с другими Центрами","если да = 1",null,1,"да + 2б",{"$f":"IF(G19=1,2,0)","v":2}]
[8,null,null,"доля слушателей, привлеченных из других ОУ","количество",null,47,"100% + 3б",{"$f":"ROUND((G20/H7*3),1)","v":1.9}]
[9,null,"полнота реализации","Программа реализуется в полном объеме","если да = 1",null,1,"да + 1,5б,\nнет + 1б",{"$f":"IF(G21=1,1.5,1)","v":1.5}]
[10,null,null,"Программа изменилась при лучших условиях","если да = 1",null,1,"да + 0,5б",{"$f":"IF(G22=1,0.5,0)","v":0.5}]
[11,"Организация образовательного процесса","кадровое обеспечение","укомплектованность преподавательского состава в соответствии с Программой","состав полностью укомплектован = 1",null,1,"да + 2б,\nнет + 1б",{"$f":"IF(G23=1,2,1)","v":2}]
[12,null,null,"подготовка преподавателей по теме Программы","количество",null,34,"100% + 2б",{"$f":"ROUND((G24/(H8+H9+H10)*2),1)","v":3.4}]
[13,null,null,"привлечение специалистов из профессионального сообщества","количество",null,{"$f":"H10","v":6},"100% + 2б",{"$f":"ROUND((G25/(H9+H10+H8)*2),1)","v":0.6}]
[14,null,null,"привлечение консультантов из числа обучающихся, выпускников","количество",null,{"$f":"H9","v":10},"100% + 2б",{"$f":"ROUND((G26/(H10+H9+H8)*2),1)","v":1}]
[15,null,"материально-техническое обеспечение","наличие достаточной материальной базы для проведения знаний","если да = 1",null,1,"да + 2б,\nнет + 1б",{"$f":"IF(G27=1,2,1)","v":2}]
[16,null,null,"использование материальной базы иных организаций","если да = 1",null,1,"да + 2б",{"$f":"IF(G28=1,2,0)","v":2}]
[17,null,null,"наличие оборудованных рабочих мест для слушателей и преподавателей","если да = 1, \nтолько преподавателей = 2",null,1,"1 + 1б, \n2 + 0,5б",{"$f":"IF(G29=1,1,0)+IF(G29=2,0.5,0)","v":1}]
[18,null,"информационно-технологическое обеспечение","наличие страницы Центра на сайте образовательного учреждения  ","если да = 1",null,1,"да + 1б",{"$f":"IF(G30=1,1,0)","v":1}]
[19,null,null,"регулярность обновления страницы Центра на сайте","более 1 раза в месяц = 1, \nреже = 2",null,1,"1 + 1б, \n2 + 0,5б",{"$f":"IF(G31=1,1,0)+IF(G31=2,0.5,0)","v":1}]
[20,null,null,"использование доступа в интернет преподавателями и слушателями","если да = 1,  только преподавателями = 2",null,1,"1 + 1б, \n2 + 0,5б",{"$f":"IF(G32=1,1,0)+IF(G32=2,0.5,0)","v":1}]
[21,null,null,"наличие методических материалов Центра на сайте ОУ","если да = 1",null,1,"да + 1б",{"$f":"IF(G33=1,1,0)","v":1}]
[22,null,null,"наличие Совета Центра","если да = 1",null,1,"да + 0,5б",{"$f":"IF(G34=1,0.5,0)","v":0.5}]
[23,null,null,"наличие утвержденного положения о деятельности Центра","если да = 1",null,1,"да + 0,5б",{"$f":"IF(G35=1,0.5,0)","v":0.5}]
[24,null,null,"наличие оформленных договоров с социальными партнерами","если да = 1",null,1,"да + 1б",{"$f":"IF(G36=1,1,0)","v":1}]
[25,null,"учебно-методическое обеспечение","обеспеченность слушателей учебниками, справочной литературой","полное обеспечение = 1,\nчастичное = 2",null,1,"1 + 2б, \n2 + 1б",{"$f":"IF(G37=1,2,0)+IF(G37=2,1,0)","v":2}]
[26,null,null,"обеспеченность преподавателей методической литературой, программными средствами обучения","полное обеспечение = 1,\nчастичное = 2",null,1,"1 + 2б, \n2 + 1б",{"$f":"IF(G38=1,2,0)+IF(G38=2,1,0)","v":2}]
[27,"Результаты образовательной деятельности","уровень и качество общеобразовательной подготовки слушателей","слушатели, применившие полученную информацию на практике","количество",null,73,"100% + 2б",{"$f":"ROUND(G39/H7*2,1)","v":2}]
[28,null,null,"слушатели, освоившие программу и получившие удостоверение","количество",null,34,"100% + 4б",{"$f":"ROUND(G40/$H$7*4,1)","v":1.9}]
[29,null,null,"слушатели, получившие сертификат","количество",null,39,"100% + 1б",{"$f":"ROUND(G41/H7*1,1)","v":0.5}]
[30,null,"сформированность ключевых компетентностей слушателей","слушатели, имеющие документально подтвержденные достижения по теме Программы:"]
[null,null,null," - на школьном уровне","количество",null,47,"100% + 2б",{"$f":"ROUND(G43/$H$7*2,1)","v":1.3}]
[null,null,null," - на муниципальном уровне","количество",null,51,"100% + 3б",{"$f":"ROUND(G44/$H$7*3,1)","v":2.1}]
[null,null,null," - на региональном уровне","количество",null,19,"100% + 4б",{"$f":"ROUND(G45/$H$7*4,1)","v":1}]
[null,null,null," - на федеральном  и международном уровнях","количество",null,38,"100% + 5б",{"$f":"ROUND(G46/$H$7*5,1)","v":2.6}]
[31,null,"уровень обобщения и представления опыта деятельности Центра по теме Программы","публичное представление промежуточных результатов реализации образовательной Программы:"]
[null,null,null," - на школьном уровне","количество",null,3,"за 1 + 0,1б",{"$f":"G48*0.1","v":0.30000000000000004}]
[null,null,null," - на муниципальном уровне","количество",null,2,"за 1 + 0,2б",{"$f":"G49*0.2","v":0.4}]
[null,null,null," - на региональном уровне","количество",null,2,"за 1 + 0,3б",{"$f":"G50*0.3","v":0.6}]
[null,null,null," - на федеральном  и международном уровнях","количество",null,3,"за 1 + 0,5б",{"$f":"G51*0.4","v":1.2000000000000002}]
[32,null,null,"организация мероприятий, семинаров различного уровня по теме образовательной Программы:"]
[null,null,null," - на муниципальном уровне","количество",null,2,"за 1 + 0,3б",{"$f":"G53*0.3","v":0.6}]
[null,null,null," - на региональном уровне","количество",null,3,"за 1 + 0,5б",{"$f":"G54*0.5","v":1.5}]
[null,null,null," - на федеральном  и международном уровнях","количество",null,1,"за 1 + 0,7б",{"$f":"G55*0.7","v":0.7}]
[33,null,null,"внешкольная экспертная деятельность преподавателей Центра по теме Программы","количество часов",null,60,"за 100ч + 2б",{"$f":"G56*0.02","v":1.2}]
[34,null,null,"наличие публикаций в методических изданиях по теме Программы","количество страниц А4, интервал 1,5, шрифт 14 ",null,34,"за 24 стр. + 2б",{"$f":"ROUND(G57*2/24,1)","v":2.8}]
[35,null,null,"количество публикаций в СМИ муниципального и регионального уровня по теме Программы","количество статей",null,5,"за 1 ст. + 0,1б",{"$f":"G58*0.1","v":0.5}]
[36,null,"уровень организации и степень достижения целей и задач инновационной деятельности","наличие рецензии на образовательную Программу","если да = 1",null,1,"да + 2б",{"$f":"IF(G59=1,2,0)","v":2}]
[37,null,null,"Программа Центра является частью программы развития ОУ","если да = 1",null,1,"да + 1б",{"$f":"IF(G60=1,1,0)","v":1}]
[38,null,null,"Программа Центра является частью муниципальной программы развития","если да = 1",null,1,"да + 2б",{"$f":"IF(G61=1,2,0)","v":2}]
[39,null,null,"наличие общественной экспертизы результатов реализации образовательной Программы","если да = 1",null,1,"да + 1б",{"$f":"IF(G62=1,1,0)","v":1}]
[40,null,null,"публичное представление результатов инновационной деятельности на научно-практических конференциях"]
[null,null,null," - на школьном уровне","если да = 1",null,1,"да + 0,3б",{"$f":"IF(G64=1,0.3,0)","v":0.3}]
[null,null,null," - на муниципальном уровне","если да = 1",null,1,"да + 0,5б",{"$f":"IF(G65=1,0.5,0)","v":0.5}]
[null,null,null," - на региональном уровне","если да = 1",null,1,"да + 1б",{"$f":"IF(G66=1,1,0)","v":1}]
[null,null,null," - на федеральном  и международном уровнях","если да = 1",null,1,"да + 2б",{"$f":"IF(G67=1,2,0)","v":2}]
["Общее рейтинговое значение ",null,null,null,null,null,null,null,{"$f":"SUM(I13:I41,I43:I46,I48:I51,I53:I62,I64:I67)","v":71.899999999999991}]

{"sheet":"ЗС №80","index":12,"n_rows":68,"n_cols":9,"rows_kept":68,"cut":false,"hidden":false,"merged":[[23,4,23,5],[27,4,27,5],[0,0,0,2],[67,0,67,7],[29,2,35,2],[28,4,28,5],[50,4,50,5],[52,4,52,5],[33,4,33,5],[34,4,34,5],[4,0,4,1],[5,0,5,1],[62,0,66,0],[24,4,24,5],[25,4,25,5],[37,4,37,5],[26,2,28,2],[35,4,35,5],[47,4,47,5],[26,4,26,5],[46,0,50,0],[36,2,37,2],[42,4,42,5],[38,1,66,1],[45,4,45,5],[40,4,40,5],[38,4,38,5],[39,4,39,5],[41,3,41,8],[64,4,64,5],[54,4,54,5],[46,3,46,8],[13,4,13,5],[22,2,25,2],[53,4,53,5],[3,0,3,1],[12,4,12,5],[14,4,14,5],[16,4,16,5],[12,2,15,2],[29,4,29,5],[15,4,15,5],[12,1,21,1],[21,4,21,5],[31,4,31,5],[3,3,3,8],[5,3,5,8],[22,4,22,5],[1,0,1,1],[2,0,2,1],[41,0,45,0],[6,0,6,6],[7,0,7,6],[10,0,10,6],[9,0,9,6],[19,4,19,5],[36,4,36,5],[43,4,43,5],[22,1,37,1],[17,4,17,5],[18,4,18,5],[20,4,20,5],[20,2,21,2],[0,3,2,8],[8,0,8,6],[41,2,45,2],[57,4,57,5],[32,4,32,5],[30,4,30,5],[44,4,44,5],[11,2,11,3],[38,2,40,2],[56,4,56,5],[55,4,55,5],[16,2,19,2],[46,2,57,2],[51,3,51,8],[48,4,48,5],[49,4,49,5],[51,0,54,0],[66,4,66,5],[58,2,66,2],[62,3,62,8],[61,4,61,5],[63,4,63,5],[59,4,59,5],[58,4,58,5],[60,4,60,5],[65,4,65,5]]}
["РЕЙТИНГ",null,null,"ОЦЕНОЧНЫЙ ЛИСТ РЕЙТИНГА РЕЗУЛЬТАТИВНОСТИ ОБРАЗОВАТЕЛЬНЫХ ПРОГРАММ ЦЕНТРОВ ГРАЖДАНСКОГО ОБРАЗОВАНИЯ 2012-2013  "]
["первый",null,{"$f":"SUM(I13:I22)","v":12}]
["второй",null,{"$f":"SUM(I23:I38)","v":18}]
["третий",null,{"$f":"SUM(I39:I41,I43:I46,I48:I51,I53:I62,I64:I67)","v":20.7},"МАОУ \"СОШ №80\""]
["общее",null,{"$f":"SUM(C2:C4)","v":50.7},"Центр гражданского образования \"Школа Роста\""]
[1.04,null,{"$f":"C5*A6","v":52.728000000000002},"Образовательная программа \"Общее дело\""]
["Общее количество слушателей образовательной Программы",null,null,null,null,null,null,30,"человек"]
["Количество педагогических работников ",null,null,null,null,null,null,4,"человек"]
["Количество консультантов из числа опытных старшеклассников, выпускников Центра",null,null,null,null,null,null,7,"человек"]
["Количество привлеченных специалистов",null,null,null,null,null,null,0,"человек"]
["Продолжительность образовательной Программы",null,null,null,null,null,null,18,"часов"]
["№","Направ-ление","Критерии",null,"Значение критерия","Единица измерения","Значение в единицах измерения","Система оценки","Рейтинговое значение"]
[1,"Образовательная программа","адаптированность","продолжительность образовательной Программы","количество часов",null,{"$f":"H11","v":18},"18-24 + 1б,\n25-48 + 2б,  \nболее 48 + 3б",{"$f":"IF($G$13>17,1,0)+IF($G$13>24,1,0)+IF($G$13>48,1,0)","v":1}]
[2,null,null,"наличие модулей в образовательной Программе для разновозрастных групп","для обучающихся = 1,\n для обучающихся и взрослых = 2",null,1,"1 + 1б,\n2 + 2б",{"$f":"IF(G14=1,1,0)+IF(G14=2,2,0)","v":1}]
[3,null,null,"наличие в образовательной Программе активных и интерактивных форм обучения","менее 50% занятий = 1,\n более 50% занятий = 2",null,2,"1 + 1б,\n2 + 2б",{"$f":"IF(G15=1,1,0)+IF(G15=2,2,0)","v":2}]
[4,null,null,"преемственность образовательных Программ из года в год","если существует = 1",null,1,"да + 1б",{"$f":"IF(G16=1,1,0)","v":1}]
[5,null,"доступность","наличие модулей, предложенных слушателям на выбор","если 2 модуля = 1,\n3 и более модулей = 2",null,0,"1 + 1б,\n2 + 2б",{"$f":"IF(G17=1,1,0)+IF(G17=2,2,0)","v":0}]
[6,null,null,"проведение мониторинга уровня сформированности ключевых компетентностей","если да = 1",null,1,"да + 3б",{"$f":"IF(G18=1,3,0)","v":3}]
[7,null,null,"программа реализуется в сетевом взаимодействии с другими Центрами","если да = 1",null,1,"да + 2б",{"$f":"IF(G19=1,2,0)","v":2}]
[8,null,null,"доля слушателей, привлеченных из других ОУ","количество",null,0,"100% + 3б",{"$f":"ROUND((G20/H7*3),1)","v":0}]
[9,null,"полнота реализации","Программа реализуется в полном объеме","если да = 1",null,1,"да + 1,5б,\nнет + 1б",{"$f":"IF(G21=1,1.5,1)","v":1.5}]
[10,null,null,"Программа изменилась при лучших условиях","если да = 1",null,1,"да + 0,5б",{"$f":"IF(G22=1,0.5,0)","v":0.5}]
[11,"Организация образовательного процесса","кадровое обеспечение","укомплектованность преподавательского состава в соответствии с Программой","состав полностью укомплектован = 1",null,1,"да + 2б,\nнет + 1б",{"$f":"IF(G23=1,2,1)","v":2}]
[12,null,null,"подготовка преподавателей по теме Программы","количество",null,1,"100% + 2б",{"$f":"ROUND((G24/(H8+H9+H10)*2),1)","v":0.2}]
[13,null,null,"привлечение специалистов из профессионального сообщества","количество",null,{"$f":"H10","v":0},"100% + 2б",{"$f":"ROUND((G25/(H9+H10+H8)*2),1)","v":0}]
[14,null,null,"привлечение консультантов из числа обучающихся, выпускников","количество",null,{"$f":"H9","v":7},"100% + 2б",{"$f":"ROUND((G26/(H10+H9+H8)*2),1)","v":1.3}]
[15,null,"материально-техническое обеспечение","наличие достаточной материальной базы для проведения знаний","если да = 1",null,1,"да + 2б,\nнет + 1б",{"$f":"IF(G27=1,2,1)","v":2}]
[16,null,null,"использование материальной базы иных организаций","если да = 1",null,1,"да + 2б",{"$f":"IF(G28=1,2,0)","v":2}]
[17,null,null,"наличие оборудованных рабочих мест для слушателей и преподавателей","если да = 1, \nтолько преподавателей = 2",null,1,"1 + 1б, \n2 + 0,5б",{"$f":"IF(G29=1,1,0)+IF(G29=2,0.5,0)","v":1}]
[18,null,"информационно-технологическое обеспечение","наличие страницы Центра на сайте образовательного учреждения  ","если да = 1",null,1,"да + 1б",{"$f":"IF(G30=1,1,0)","v":1}]
[19,null,null,"регулярность обновления страницы Центра на сайте","более 1 раза в месяц = 1, \nреже = 2",null,2,"1 + 1б, \n2 + 0,5б",{"$f":"IF(G31=1,1,0)+IF(G31=2,0.5,0)","v":0.5}]
[20,null,null,"использование доступа в интернет преподавателями и слушателями","если да = 1,  только преподавателями = 2",null,1,"1 + 1б, \n2 + 0,5б",{"$f":"IF(G32=1,1,0)+IF(G32=2,0.5,0)","v":1}]
[21,null,null,"наличие методических материалов Центра на сайте ОУ","если да = 1",null,1,"да + 1б",{"$f":"IF(G33=1,1,0)","v":1}]
[22,null,null,"наличие Совета Центра","если да = 1",null,1,"да + 0,5б",{"$f":"IF(G34=1,0.5,0)","v":0.5}]
[23,null,null,"наличие утвержденного положения о деятельности Центра","если да = 1",null,1,"да + 0,5б",{"$f":"IF(G35=1,0.5,0)","v":0.5}]
[24,null,null,"наличие оформленных договоров с социальными партнерами","если да = 1",null,1,"да + 1б",{"$f":"IF(G36=1,1,0)","v":1}]
[25,null,"учебно-методическое обеспечение","обеспеченность слушателей учебниками, справочной литературой","полное обеспечение = 1,\nчастичное = 2",null,1,"1 + 2б, \n2 + 1б",{"$f":"IF(G37=1,2,0)+IF(G37=2,1,0)","v":2}]
[26,null,null,"обеспеченность преподавателей методической литературой, программными средствами обучения","полное обеспечение = 1,\nчастичное = 2",null,1,"1 + 2б, \n2 + 1б",{"$f":"IF(G38=1,2,0)+IF(G38=2,1,0)","v":2}]
[27,"Результаты образовательной деятельности","уровень и качество общеобразовательной подготовки слушателей","слушатели, применившие полученную информацию на практике","количество",null,30,"100% + 2б",{"$f":"ROUND(G39/H7*2,1)","v":2}]
[28,null,null,"слушатели, освоившие программу и получившие удостоверение","количество",null,0,"100% + 4б",{"$f":"ROUND(G40/$H$7*4,1)","v":0}]
[29,null,null,"слушатели, получившие сертификат","количество",null,30,"100% + 1б",{"$f":"ROUND(G41/H7*1,1)","v":1}]
[30,null,"сформированность ключевых компетентностей слушателей","слушатели, имеющие документально подтвержденные достижения по теме Программы:"]
[null,null,null," - на школьном уровне","количество",null,30,"100% + 2б",{"$f":"ROUND(G43/$H$7*2,1)","v":2}]
[null,null,null," - на муниципальном уровне","количество",null,30,"100% + 3б",{"$f":"ROUND(G44/$H$7*3,1)","v":3}]
[null,null,null," - на региональном уровне","количество",null,30,"100% + 4б",{"$f":"ROUND(G45/$H$7*4,1)","v":4}]
[null,null,null," - на федеральном  и международном уровнях","количество",null,0,"100% + 5б",{"$f":"ROUND(G46/$H$7*5,1)","v":0}]
[31,null,"уровень обобщения и представления опыта деятельности Центра по теме Программы","публичное представление промежуточных результатов реализации образовательной Программы:"]
[null,null,null," - на школьном уровне","количество",null,0,"за 1 + 0,1б",{"$f":"G48*0.1","v":0}]
[null,null,null," - на муниципальном уровне","количество",null,2,"за 1 + 0,2б",{"$f":"G49*0.2","v":0.4}]
[null,null,null," - на региональном уровне","количество",null,0,"за 1 + 0,3б",{"$f":"G50*0.3","v":0}]
[null,null,null," - на федеральном  и международном уровнях","количество",null,1,"за 1 + 0,5б",{"$f":"G51*0.4","v":0.4}]
[32,null,null,"организация мероприятий, семинаров различного уровня по теме образовательной Программы:"]
[null,null,null," - на муниципальном уровне","количество",null,2,"за 1 + 0,3б",{"$f":"G53*0.3","v":0.6}]
[null,null,null," - на региональном уровне","количество",null,1,"за 1 + 0,5б",{"$f":"G54*0.5","v":0.5}]
[null,null,null," - на федеральном  и международном уровнях","количество",null,0,"за 1 + 0,7б",{"$f":"G55*0.7","v":0}]
[33,null,null,"внешкольная экспертная деятельность преподавателей Центра по теме Программы","количество часов",null,0,"за 100ч + 2б",{"$f":"G56*0.02","v":0}]
[34,null,null,"наличие публикаций в методических изданиях по теме Программы","количество страниц А4, интервал 1,5, шрифт 14 ",null,8,"за 24 стр. + 2б",{"$f":"ROUND(G57*2/24,1)","v":0.7}]
[35,null,null,"количество публикаций в СМИ муниципального и регионального уровня по теме Программы","количество статей",null,1,"за 1 ст. + 0,1б",{"$f":"G58*0.1","v":0.1}]
[36,null,"уровень организации и степень достижения целей и задач инновационной деятельности","наличие рецензии на образовательную Программу","если да = 1",null,1,"да + 2б",{"$f":"IF(G59=1,2,0)","v":2}]
[37,null,null,"Программа Центра является частью программы развития ОУ","если да = 1",null,1,"да + 1б",{"$f":"IF(G60=1,1,0)","v":1}]
[38,null,null,"Программа Центра является частью муниципальной программы развития","если да = 1",null,1,"да + 2б",{"$f":"IF(G61=1,2,0)","v":2}]
[39,null,null,"наличие общественной экспертизы результатов реализации образовательной Программы","если да = 1",null,1,"да + 1б",{"$f":"IF(G62=1,1,0)","v":1}]
[40,null,null,"публичное представление результатов инновационной деятельности на научно-практических конференциях"]
[null,null,null," - на школьном уровне","если да = 1",null,null,"да + 0,3б",{"$f":"IF(G64=1,0.3,0)","v":0}]
[null,null,null," - на муниципальном уровне","если да = 1",null,0,"да + 0,5б",{"$f":"IF(G65=1,0.5,0)","v":0}]
[null,null,null," - на региональном уровне","если да = 1",null,null,"да + 1б",{"$f":"IF(G66=1,1,0)","v":0}]
[null,null,null," - на федеральном  и международном уровнях","если да = 1",null,0,"да + 2б",{"$f":"IF(G67=1,2,0)","v":0}]
["Общее рейтинговое значение ",null,null,null,null,null,null,null,{"$f":"SUM(I13:I41,I43:I46,I48:I51,I53:I62,I64:I67)","v":50.7}]

{"sheet":"ЗС №87","index":13,"n_rows":68,"n_cols":9,"rows_kept":68,"cut":false,"hidden":false,"merged":[[60,4,60,5],[65,4,65,5],[38,1,66,1],[45,4,45,5],[40,4,40,5],[38,4,38,5],[39,4,39,5],[41,3,41,8],[64,4,64,5],[54,4,54,5],[46,3,46,8],[66,4,66,5],[58,2,66,2],[62,3,62,8],[61,4,61,5],[63,4,63,5],[59,4,59,5],[58,4,58,5],[44,4,44,5],[11,2,11,3],[38,2,40,2],[56,4,56,5],[55,4,55,5],[42,4,42,5],[46,2,57,2],[51,3,51,8],[48,4,48,5],[49,4,49,5],[41,2,45,2],[57,4,57,5],[32,4,32,5],[30,4,30,5],[0,3,2,8],[13,4,13,5],[22,2,25,2],[22,1,37,1],[17,4,17,5],[18,4,18,5],[20,4,20,5],[20,2,21,2],[1,0,1,1],[2,0,2,1],[6,0,6,6],[7,0,7,6],[8,0,8,6],[9,0,9,6],[19,4,19,5],[36,4,36,5],[3,0,3,1],[12,4,12,5],[14,4,14,5],[16,4,16,5],[12,2,15,2],[10,0,10,6],[15,4,15,5],[12,1,21,1],[21,4,21,5],[16,2,19,2],[23,4,23,5],[27,4,27,5],[29,4,29,5],[31,4,31,5],[62,0,66,0],[24,4,24,5],[25,4,25,5],[37,4,37,5],[26,2,28,2],[51,0,54,0],[26,4,26,5],[46,0,50,0],[36,2,37,2],[53,4,53,5],[41,0,45,0],[43,4,43,5],[35,4,35,5],[47,4,47,5],[0,0,0,2],[67,0,67,7],[3,3,3,8],[29,2,35,2],[28,4,28,5],[50,4,50,5],[52,4,52,5],[33,4,33,5],[34,4,34,5],[4,0,4,1],[5,0,5,1],[4,3,4,8],[5,3,5,8],[22,4,22,5]]}
["РЕЙТИНГ",null,null,"ОЦЕНОЧНЫЙ ЛИСТ РЕЙТИНГА РЕЗУЛЬТАТИВНОСТИ ОБРАЗОВАТЕЛЬНЫХ ПРОГРАММ ЦЕНТРОВ ГРАЖДАНСКОГО ОБРАЗОВАНИЯ 2012-2013  "]
["первый",null,{"$f":"SUM(I13:I22)","v":11}]
["второй",null,{"$f":"SUM(I23:I38)","v":15.5}]
["третий",null,{"$f":"SUM(I39:I41,I43:I46,I48:I51,I53:I62,I64:I67)","v":18.5},"МБОУ \"СОШ № 87\"  ЗАТО Северск"]
["общее",null,{"$f":"SUM(C2:C4)","v":45},"Центр гражданского образования \"ВЕРТИКАЛЬ\""]
[1.04,null,{"$f":"C5*A6","v":46.800000000000004},"Образовательная программа \"Мой выбор\""]
["Общее количество слушателей образовательной Программы",null,null,null,null,null,null,25,"человек"]
["Количество педагогических работников ",null,null,null,null,null,null,3,"человек"]
["Количество консультантов из числа опытных старшеклассников, выпускников Центра",null,null,null,null,null,null,0,"человек"]
["Количество привлеченных специалистов",null,null,null,null,null,null,2,"человек"]
["Продолжительность образовательной Программы",null,null,null,null,null,null,38,"часов"]
["№","Направ-ление","Критерии",null,"Значение критерия","Единица измерения","Значение в единицах измерения","Система оценки","Рейтинговое значение"]
[1,"Образовательная программа","адаптированность","продолжительность образовательной Программы","количество часов",null,{"$f":"H11","v":38},"18-24 + 1б,\n25-48 + 2б,  \nболее 48 + 3б",{"$f":"IF($G$13>17,1,0)+IF($G$13>24,1,0)+IF($G$13>48,1,0)","v":2}]
[2,null,null,"наличие модулей в образовательной Программе для разновозрастных групп","для обучающихся = 1,\n для обучающихся и взрослых = 2",null,1,"1 + 1б,\n2 + 2б",{"$f":"IF(G14=1,1,0)+IF(G14=2,2,0)","v":1}]
[3,null,null,"наличие в образовательной Программе активных и интерактивных форм обучения","менее 50% занятий = 1,\n более 50% занятий = 2",null,2,"1 + 1б,\n2 + 2б",{"$f":"IF(G15=1,1,0)+IF(G15=2,2,0)","v":2}]
[4,null,null,"преемственность образовательных Программ из года в год","если существует = 1",null,1,"да + 1б",{"$f":"IF(G16=1,1,0)","v":1}]
[5,null,"доступность","наличие модулей, предложенных слушателям на выбор","если 2 модуля = 1,\n3 и более модулей = 2",null,0,"1 + 1б,\n2 + 2б",{"$f":"IF(G17=1,1,0)+IF(G17=2,2,0)","v":0}]
[6,null,null,"проведение мониторинга уровня сформированности ключевых компетентностей","если да = 1",null,1,"да + 3б",{"$f":"IF(G18=1,3,0)","v":3}]
[7,null,null,"программа реализуется в сетевом взаимодействии с другими Центрами","если да = 1",null,null,"да + 2б",{"$f":"IF(G19=1,2,0)","v":0}]
[8,null,null,"доля слушателей, привлеченных из других ОУ","количество",null,null,"100% + 3б",{"$f":"ROUND((G20/H7*3),1)","v":0}]
[9,null,"полнота реализации","Программа реализуется в полном объеме","если да = 1",null,1,"да + 1,5б,\nнет + 1б",{"$f":"IF(G21=1,1.5,1)","v":1.5}]
[10,null,null,"Программа изменилась при лучших условиях","если да = 1",null,1,"да + 0,5б",{"$f":"IF(G22=1,0.5,0)","v":0.5}]
[11,"Организация образовательного процесса","кадровое обеспечение","укомплектованность преподавательского состава в соответствии с Программой","состав полностью укомплектован = 1",null,1,"да + 2б,\nнет + 1б",{"$f":"IF(G23=1,2,1)","v":2}]
[12,null,null,"подготовка преподавателей по теме Программы","количество",null,3,"100% + 2б",{"$f":"ROUND((G24/(H8+H9+H10)*2),1)","v":1.2}]
[13,null,null,"привлечение специалистов из профессионального сообщества","количество",null,{"$f":"H10","v":2},"100% + 2б",{"$f":"ROUND((G25/(H9+H10+H8)*2),1)","v":0.8}]
[14,null,null,"привлечение консультантов из числа обучающихся, выпускников","количество",null,{"$f":"H9","v":0},"100% + 2б",{"$f":"ROUND((G26/(H10+H9+H8)*2),1)","v":0}]
[15,null,"материально-техническое обеспечение","наличие достаточной материальной базы для проведения знаний","если да = 1",null,1,"да + 2б,\nнет + 1б",{"$f":"IF(G27=1,2,1)","v":2}]
[16,null,null,"использование материальной базы иных организаций","если да = 1",null,null,"да + 2б",{"$f":"IF(G28=1,2,0)","v":0}]
[17,null,null,"наличие оборудованных рабочих мест для слушателей и преподавателей","если да = 1, \nтолько преподавателей = 2",null,1,"1 + 1б, \n2 + 0,5б",{"$f":"IF(G29=1,1,0)+IF(G29=2,0.5,0)","v":1}]
[18,null,"информационно-технологическое обеспечение","наличие страницы Центра на сайте образовательного учреждения  ","если да = 1",null,1,"да + 1б",{"$f":"IF(G30=1,1,0)","v":1}]
[19,null,null,"регулярность обновления страницы Центра на сайте","более 1 раза в месяц = 1, \nреже = 2",null,2,"1 + 1б, \n2 + 0,5б",{"$f":"IF(G31=1,1,0)+IF(G31=2,0.5,0)","v":0.5}]
[20,null,null,"использование доступа в интернет преподавателями и слушателями","если да = 1,  только преподавателями = 2",null,1,"1 + 1б, \n2 + 0,5б",{"$f":"IF(G32=1,1,0)+IF(G32=2,0.5,0)","v":1}]
[21,null,null,"наличие методических материалов Центра на сайте ОУ","если да = 1",null,null,"да + 1б",{"$f":"IF(G33=1,1,0)","v":0}]
[22,null,null,"наличие Совета Центра","если да = 1",null,1,"да + 0,5б",{"$f":"IF(G34=1,0.5,0)","v":0.5}]
[23,null,null,"наличие утвержденного положения о деятельности Центра","если да = 1",null,1,"да + 0,5б",{"$f":"IF(G35=1,0.5,0)","v":0.5}]
[24,null,null,"наличие оформленных договоров с социальными партнерами","если да = 1",null,1,"да + 1б",{"$f":"IF(G36=1,1,0)","v":1}]
[25,null,"учебно-методическое обеспечение","обеспеченность слушателей учебниками, справочной литературой","полное обеспечение = 1,\nчастичное = 2",null,1,"1 + 2б, \n2 + 1б",{"$f":"IF(G37=1,2,0)+IF(G37=2,1,0)","v":2}]
[26,null,null,"обеспеченность преподавателей методической литературой, программными средствами обучения","полное обеспечение = 1,\nчастичное = 2",null,1,"1 + 2б, \n2 + 1б",{"$f":"IF(G38=1,2,0)+IF(G38=2,1,0)","v":2}]
[27,"Результаты образовательной деятельности","уровень и качество общеобразовательной подготовки слушателей","слушатели, применившие полученную информацию на практике","количество",null,25,"100% + 2б",{"$f":"ROUND(G39/H7*2,1)","v":2}]
[28,null,null,"слушатели, освоившие программу и получившие удостоверение","количество",null,14,"100% + 4б",{"$f":"ROUND(G40/$H$7*4,1)","v":2.2000000000000002}]
[29,null,null,"слушатели, получившие сертификат","количество",null,11,"100% + 1б",{"$f":"ROUND(G41/H7*1,1)","v":0.4}]
[30,null,"сформированность ключевых компетентностей слушателей","слушатели, имеющие документально подтвержденные достижения по теме Программы:"]
[null,null,null," - на школьном уровне","количество",null,18,"100% + 2б",{"$f":"ROUND(G43/$H$7*2,1)","v":1.4}]
[null,null,null," - на муниципальном уровне","количество",null,25,"100% + 3б",{"$f":"ROUND(G44/$H$7*3,1)","v":3}]
[null,null,null," - на региональном уровне","количество",null,null,"100% + 4б",{"$f":"ROUND(G45/$H$7*4,1)","v":0}]
[null,null,null," - на федеральном  и международном уровнях","количество",null,null,"100% + 5б",{"$f":"ROUND(G46/$H$7*5,1)","v":0}]
[31,null,"уровень обобщения и представления опыта деятельности Центра по теме Программы","публичное представление промежуточных результатов реализации образовательной Программы:"]
[null,null,null," - на школьном уровне","количество",null,1,"за 1 + 0,1б",{"$f":"G48*0.1","v":0.1}]
[null,null,null," - на муниципальном уровне","количество",null,2,"за 1 + 0,2б",{"$f":"G49*0.2","v":0.4}]
[null,null,null," - на региональном уровне","количество",null,2,"за 1 + 0,3б",{"$f":"G50*0.3","v":0.6}]
[null,null,null," - на федеральном  и международном уровнях","количество",null,1,"за 1 + 0,5б",{"$f":"G51*0.4","v":0.4}]
[32,null,null,"организация мероприятий, семинаров различного уровня по теме образовательной Программы:"]
[null,null,null," - на муниципальном уровне","количество",null,2,"за 1 + 0,3б",{"$f":"G53*0.3","v":0.6}]
[null,null,null," - на региональном уровне","количество",null,null,"за 1 + 0,5б",{"$f":"G54*0.5","v":0}]
[null,null,null," - на федеральном  и международном уровнях","количество",null,null,"за 1 + 0,7б",{"$f":"G55*0.7","v":0}]
[33,null,null,"внешкольная экспертная деятельность преподавателей Центра по теме Программы","количество часов",null,null,"за 100ч + 2б",{"$f":"G56*0.02","v":0}]
[34,null,null,"наличие публикаций в методических изданиях по теме Программы","количество страниц А4, интервал 1,5, шрифт 14 ",null,5,"за 24 стр. + 2б",{"$f":"ROUND(G57*2/24,1)","v":0.4}]
[35,null,null,"количество публикаций в СМИ муниципального и регионального уровня по теме Программы","количество статей",null,0,"за 1 ст. + 0,1б",{"$f":"G58*0.1","v":0}]
[36,null,"уровень организации и степень достижения целей и задач инновационной деятельности","наличие рецензии на образовательную Программу","если да = 1",null,1,"да + 2б",{"$f":"IF(G59=1,2,0)","v":2}]
[37,null,null,"Программа Центра является частью программы развития ОУ","если да = 1",null,1,"да + 1б",{"$f":"IF(G60=1,1,0)","v":1}]
[38,null,null,"Программа Центра является частью муниципальной программы развития","если да = 1",null,1,"да + 2б",{"$f":"IF(G61=1,2,0)","v":2}]
[39,null,null,"наличие общественной экспертизы результатов реализации образовательной Программы","если да = 1",null,null,"да + 1б",{"$f":"IF(G62=1,1,0)","v":0}]
[40,null,null,"публичное представление результатов инновационной деятельности на научно-практических конференциях"]
[null,null,null," - на школьном уровне","если да = 1",null,null,"да + 0,3б",{"$f":"IF(G64=1,0.3,0)","v":0}]
[null,null,null," - на муниципальном уровне","если да = 1",null,0,"да + 0,5б",{"$f":"IF(G65=1,0.5,0)","v":0}]
[null,null,null," - на региональном уровне","если да = 1",null,0,"да + 1б",{"$f":"IF(G66=1,1,0)","v":0}]
[null,null,null," - на федеральном  и международном уровнях","если да = 1",null,1,"да + 2б",{"$f":"IF(G67=1,2,0)","v":2}]
["Общее рейтинговое значение ",null,null,null,null,null,null,null,{"$f":"SUM(I13:I41,I43:I46,I48:I51,I53:I62,I64:I67)","v":45}]

{"sheet":"ЗС №196","index":14,"n_rows":68,"n_cols":9,"rows_kept":68,"cut":false,"hidden":false,"merged":[[66,4,66,5],[58,2,66,2],[62,3,62,8],[61,4,61,5],[63,4,63,5],[59,4,59,5],[60,4,60,5],[65,4,65,5],[64,4,64,5],[58,4,58,5],[56,4,56,5],[55,4,55,5],[42,4,42,5],[46,2,57,2],[51,3,51,8],[6,0,6,6],[7,0,7,6],[8,0,8,6],[9,0,9,6],[19,4,19,5],[13,4,13,5],[11,2,11,3],[10,0,10,6],[15,4,15,5],[12,1,21,1],[21,4,21,5],[16,2,19,2],[17,4,17,5],[22,2,25,2],[14,4,14,5],[16,4,16,5],[41,2,45,2],[32,4,32,5],[34,4,34,5],[22,4,22,5],[23,4,23,5],[36,4,36,5],[43,4,43,5],[44,4,44,5],[41,3,41,8],[30,4,30,5],[45,4,45,5],[40,4,40,5],[29,2,35,2],[0,0,0,2],[4,0,4,1],[5,0,5,1],[4,3,4,8],[5,3,5,8],[0,3,2,8],[3,3,3,8],[67,0,67,7],[1,0,1,1],[2,0,2,1],[3,0,3,1],[12,4,12,5],[12,2,15,2],[18,4,18,5],[20,4,20,5],[20,2,21,2],[51,0,54,0],[26,4,26,5],[46,0,50,0],[36,2,37,2],[53,4,53,5],[27,4,27,5],[29,4,29,5],[62,0,66,0],[24,4,24,5],[25,4,25,5],[37,4,37,5],[26,2,28,2],[22,1,37,1],[41,0,45,0],[48,4,48,5],[49,4,49,5],[38,1,66,1],[38,4,38,5],[39,4,39,5],[54,4,54,5],[38,2,40,2],[57,4,57,5],[46,3,46,8],[28,4,28,5],[50,4,50,5],[52,4,52,5],[33,4,33,5],[31,4,31,5],[35,4,35,5],[47,4,47,5]]}
["РЕЙТИНГ",null,null,"ОЦЕНОЧНЫЙ ЛИСТ РЕЙТИНГА РЕЗУЛЬТАТИВНОСТИ ОБРАЗОВАТЕЛЬНЫХ ПРОГРАММ ЦЕНТРОВ ГРАЖДАНСКОГО ОБРАЗОВАНИЯ 2012-2013  "]
["первый",null,{"$f":"SUM(I13:I22)","v":13}]
["второй",null,{"$f":"SUM(I23:I38)","v":19}]
["третий",null,{"$f":"SUM(I39:I41,I43:I46,I48:I51,I53:I62,I64:I67)","v":37.099999999999994},"МБОУ \"СОШ № 196\""]
["общее",null,{"$f":"SUM(C2:C4)","v":69.099999999999994},"ЦГО \"Перспектива\""]
[1.04,null,{"$f":"C5*A6","v":71.86399999999999},"\"Мои шаги в будущее\""]
["Общее количество слушателей образовательной Программы",null,null,null,null,null,null,20,"человек"]
["Количество педагогических работников ",null,null,null,null,null,null,3,"человек"]
["Количество консультантов из числа опытных старшеклассников, выпускников Центра",null,null,null,null,null,null,0,"человек"]
["Количество привлеченных специалистов",null,null,null,null,null,null,4,"человек"]
["Продолжительность образовательной Программы",null,null,null,null,null,null,71,"часов"]
["№","Направ-ление","Критерии",null,"Значение критерия","Единица измерения","Значение в единицах измерения","Система оценки","Рейтинговое значение"]
[1,"Образовательная программа","адаптированность","продолжительность образовательной Программы","количество часов",null,{"$f":"H11","v":71},"18-24 + 1б,\n25-48 + 2б,  \nболее 48 + 3б",{"$f":"IF($G$13>17,1,0)+IF($G$13>24,1,0)+IF($G$13>48,1,0)","v":3}]
[2,null,null,"наличие модулей в образовательной Программе для разновозрастных групп","для обучающихся = 1,\n для обучающихся и взрослых = 2",null,0,"1 + 1б,\n2 + 2б",{"$f":"IF(G14=1,1,0)+IF(G14=2,2,0)","v":0}]
[3,null,null,"наличие в образовательной Программе активных и интерактивных форм обучения","менее 50% занятий = 1,\n более 50% занятий = 2",null,2,"1 + 1б,\n2 + 2б",{"$f":"IF(G15=1,1,0)+IF(G15=2,2,0)","v":2}]
[4,null,null,"преемственность образовательных Программ из года в год","если существует = 1",null,1,"да + 1б",{"$f":"IF(G16=1,1,0)","v":1}]
[5,null,"доступность","наличие модулей, предложенных слушателям на выбор","если 2 модуля = 1,\n3 и более модулей = 2",null,0,"1 + 1б,\n2 + 2б",{"$f":"IF(G17=1,1,0)+IF(G17=2,2,0)","v":0}]
[6,null,null,"проведение мониторинга уровня сформированности ключевых компетентностей","если да = 1",null,1,"да + 3б",{"$f":"IF(G18=1,3,0)","v":3}]
[7,null,null,"программа реализуется в сетевом взаимодействии с другими Центрами","если да = 1",null,1,"да + 2б",{"$f":"IF(G19=1,2,0)","v":2}]
[8,null,null,"доля слушателей, привлеченных из других ОУ","количество",null,null,"100% + 3б",{"$f":"ROUND((G20/H7*3),1)","v":0}]
[9,null,"полнота реализации","Программа реализуется в полном объеме","если да = 1",null,1,"да + 1,5б,\nнет + 1б",{"$f":"IF(G21=1,1.5,1)","v":1.5}]
[10,null,null,"Программа изменилась при лучших условиях","если да = 1",null,1,"да + 0,5б",{"$f":"IF(G22=1,0.5,0)","v":0.5}]
[11,"Организация образовательного процесса","кадровое обеспечение","укомплектованность преподавательского состава в соответствии с Программой","состав полностью укомплектован = 1",null,1,"да + 2б,\nнет + 1б",{"$f":"IF(G23=1,2,1)","v":2}]
[12,null,null,"подготовка преподавателей по теме Программы","количество",null,3,"100% + 2б",{"$f":"ROUND((G24/(H8+H9+H10)*2),1)","v":0.9}]
[13,null,null,"привлечение специалистов из профессионального сообщества","количество",null,{"$f":"H10","v":4},"100% + 2б",{"$f":"ROUND((G25/(H9+H10+H8)*2),1)","v":1.1000000000000001}]
[14,null,null,"привлечение консультантов из числа обучающихся, выпускников","количество",null,{"$f":"H9","v":0},"100% + 2б",{"$f":"ROUND((G26/(H10+H9+H8)*2),1)","v":0}]
[15,null,"материально-техническое обеспечение","наличие достаточной материальной базы для проведения знаний","если да = 1",null,1,"да + 2б,\nнет + 1б",{"$f":"IF(G27=1,2,1)","v":2}]
[16,null,null,"использование материальной базы иных организаций","если да = 1",null,1,"да + 2б",{"$f":"IF(G28=1,2,0)","v":2}]
[17,null,null,"наличие оборудованных рабочих мест для слушателей и преподавателей","если да = 1, \nтолько преподавателей = 2",null,1,"1 + 1б, \n2 + 0,5б",{"$f":"IF(G29=1,1,0)+IF(G29=2,0.5,0)","v":1}]
[18,null,"информационно-технологическое обеспечение","наличие страницы Центра на сайте образовательного учреждения  ","если да = 1",null,1,"да + 1б",{"$f":"IF(G30=1,1,0)","v":1}]
[19,null,null,"регулярность обновления страницы Центра на сайте","более 1 раза в месяц = 1, \nреже = 2",null,1,"1 + 1б, \n2 + 0,5б",{"$f":"IF(G31=1,1,0)+IF(G31=2,0.5,0)","v":1}]
[20,null,null,"использование доступа в интернет преподавателями и слушателями","если да = 1,  только преподавателями = 2",null,1,"1 + 1б, \n2 + 0,5б",{"$f":"IF(G32=1,1,0)+IF(G32=2,0.5,0)","v":1}]
[21,null,null,"наличие методических материалов Центра на сайте ОУ","если да = 1",null,1,"да + 1б",{"$f":"IF(G33=1,1,0)","v":1}]
[22,null,null,"наличие Совета Центра","если да = 1",null,1,"да + 0,5б",{"$f":"IF(G34=1,0.5,0)","v":0.5}]
[23,null,null,"наличие утвержденного положения о деятельности Центра","если да = 1",null,1,"да + 0,5б",{"$f":"IF(G35=1,0.5,0)","v":0.5}]
[24,null,null,"наличие оформленных договоров с социальными партнерами","если да = 1",null,1,"да + 1б",{"$f":"IF(G36=1,1,0)","v":1}]
[25,null,"учебно-методическое обеспечение","обеспеченность слушателей учебниками, справочной литературой","полное обеспечение = 1,\nчастичное = 2",null,1,"1 + 2б, \n2 + 1б",{"$f":"IF(G37=1,2,0)+IF(G37=2,1,0)","v":2}]
[26,null,null,"обеспеченность преподавателей методической литературой, программными средствами обучения","полное обеспечение = 1,\nчастичное = 2",null,1,"1 + 2б, \n2 + 1б",{"$f":"IF(G38=1,2,0)+IF(G38=2,1,0)","v":2}]
[27,"Результаты образовательной деятельности","уровень и качество общеобразовательной подготовки слушателей","слушатели, применившие полученную информацию на практике","количество",null,20,"100% + 2б",{"$f":"ROUND(G39/H7*2,1)","v":2}]
[28,null,null,"слушатели, освоившие программу и получившие удостоверение","количество",null,20,"100% + 4б",{"$f":"ROUND(G40/$H$7*4,1)","v":4}]
[29,null,null,"слушатели, получившие сертификат","количество",null,null,"100% + 1б",{"$f":"ROUND(G41/H7*1,1)","v":0}]
[30,null,"сформированность ключевых компетентностей слушателей","слушатели, имеющие документально подтвержденные достижения по теме Программы:"]
[null,null,null," - на школьном уровне","количество",null,20,"100% + 2б",{"$f":"ROUND(G43/$H$7*2,1)","v":2}]
[null,null,null," - на муниципальном уровне","количество",null,20,"100% + 3б",{"$f":"ROUND(G44/$H$7*3,1)","v":3}]
[null,null,null," - на региональном уровне","количество",null,20,"100% + 4б",{"$f":"ROUND(G45/$H$7*4,1)","v":4}]
[null,null,null," - на федеральном  и международном уровнях","количество",null,14,"100% + 5б",{"$f":"ROUND(G46/$H$7*5,1)","v":3.5}]
[31,null,"уровень обобщения и представления опыта деятельности Центра по теме Программы","публичное представление промежуточных результатов реализации образовательной Программы:"]
[null,null,null," - на школьном уровне","количество",null,4,"за 1 + 0,1б",{"$f":"G48*0.1","v":0.4}]
[null,null,null," - на муниципальном уровне","количество",null,4,"за 1 + 0,2б",{"$f":"G49*0.2","v":0.8}]
[null,null,null," - на региональном уровне","количество",null,4,"за 1 + 0,3б",{"$f":"G50*0.3","v":1.2}]
[null,null,null," - на федеральном  и международном уровнях","количество",null,4,"за 1 + 0,5б",{"$f":"G51*0.4","v":1.6}]
[32,null,null,"организация мероприятий, семинаров различного уровня по теме образовательной Программы:"]
[null,null,null," - на муниципальном уровне","количество",null,13,"за 1 + 0,3б",{"$f":"G53*0.3","v":3.9}]
[null,null,null," - на региональном уровне","количество",null,3,"за 1 + 0,5б",{"$f":"G54*0.5","v":1.5}]
[null,null,null," - на федеральном  и международном уровнях","количество",null,null,"за 1 + 0,7б",{"$f":"G55*0.7","v":0}]
[33,null,null,"внешкольная экспертная деятельность преподавателей Центра по теме Программы","количество часов",null,30,"за 100ч + 2б",{"$f":"G56*0.02","v":0.6}]
[34,null,null,"наличие публикаций в методических изданиях по теме Программы","количество страниц А4, интервал 1,5, шрифт 14 ",null,8,"за 24 стр. + 2б",{"$f":"ROUND(G57*2/24,1)","v":0.7}]
[35,null,null,"количество публикаций в СМИ муниципального и регионального уровня по теме Программы","количество статей",null,1,"за 1 ст. + 0,1б",{"$f":"G58*0.1","v":0.1}]
[36,null,"уровень организации и степень достижения целей и задач инновационной деятельности","наличие рецензии на образовательную Программу","если да = 1",null,1,"да + 2б",{"$f":"IF(G59=1,2,0)","v":2}]
[37,null,null,"Программа Центра является частью программы развития ОУ","если да = 1",null,1,"да + 1б",{"$f":"IF(G60=1,1,0)","v":1}]
[38,null,null,"Программа Центра является частью муниципальной программы развития","если да = 1",null,null,"да + 2б",{"$f":"IF(G61=1,2,0)","v":0}]
[39,null,null,"наличие общественной экспертизы результатов реализации образовательной Программы","если да = 1",null,1,"да + 1б",{"$f":"IF(G62=1,1,0)","v":1}]
[40,null,null,"публичное представление результатов инновационной деятельности на научно-практических конференциях"]
[null,null,null," - на школьном уровне","если да = 1",null,1,"да + 0,3б",{"$f":"IF(G64=1,0.3,0)","v":0.3}]
[null,null,null," - на муниципальном уровне","если да = 1",null,1,"да + 0,5б",{"$f":"IF(G65=1,0.5,0)","v":0.5}]
[null,null,null," - на региональном уровне","если да = 1",null,1,"да + 1б",{"$f":"IF(G66=1,1,0)","v":1}]
[null,null,null," - на федеральном  и международном уровнях","если да = 1",null,1,"да + 2б",{"$f":"IF(G67=1,2,0)","v":2}]
["Общее рейтинговое значение ",null,null,null,null,null,null,null,{"$f":"SUM(I13:I41,I43:I46,I48:I51,I53:I62,I64:I67)","v":69.100000000000009}]

{"sheet":"ЗС №197","index":15,"n_rows":68,"n_cols":9,"rows_kept":68,"cut":false,"hidden":false,"merged":[[7,0,7,6],[0,0,0,2],[0,3,2,8],[1,0,1,1],[2,0,2,1],[3,0,3,1],[3,3,3,8],[4,0,4,1],[4,3,4,8],[5,0,5,1],[5,3,5,8],[6,0,6,6],[8,0,8,6],[9,0,9,6],[10,0,10,6],[11,2,11,3],[12,1,21,1],[12,2,15,2],[12,4,12,5],[13,4,13,5],[14,4,14,5],[15,4,15,5],[26,2,28,2],[26,4,26,5],[27,4,27,5],[28,4,28,5],[16,2,19,2],[16,4,16,5],[17,4,17,5],[18,4,18,5],[19,4,19,5],[20,2,21,2],[20,4,20,5],[21,4,21,5],[29,2,35,2],[29,4,29,5],[30,4,30,5],[31,4,31,5],[32,4,32,5],[33,4,33,5],[34,4,34,5],[35,4,35,5],[36,2,37,2],[36,4,36,5],[37,4,37,5],[38,1,66,1],[38,2,40,2],[38,4,38,5],[39,4,39,5],[40,4,40,5],[53,4,53,5],[54,4,54,5],[22,1,37,1],[22,2,25,2],[22,4,22,5],[23,4,23,5],[24,4,24,5],[25,4,25,5],[41,0,45,0],[41,2,45,2],[41,3,41,8],[42,4,42,5],[43,4,43,5],[44,4,44,5],[45,4,45,5],[46,0,50,0],[46,2,57,2],[46,3,46,8],[47,4,47,5],[48,4,48,5],[49,4,49,5],[50,4,50,5],[51,0,54,0],[51,3,51,8],[52,4,52,5],[55,4,55,5],[56,4,56,5],[57,4,57,5],[67,0,67,7],[62,0,66,0],[62,3,62,8],[63,4,63,5],[64,4,64,5],[65,4,65,5],[66,4,66,5],[58,2,66,2],[58,4,58,5],[59,4,59,5],[60,4,60,5],[61,4,61,5]]}
["РЕЙТИНГ",null,null,"ОЦЕНОЧНЫЙ ЛИСТ РЕЙТИНГА РЕЗУЛЬТАТИВНОСТИ ОБРАЗОВАТЕЛЬНЫХ ПРОГРАММ ЦЕНТРОВ ГРАЖДАНСКОГО ОБРАЗОВАНИЯ 2012-2013  "]
["первый",null,{"$f":"SUM(I13:I22)","v":13.8}]
["второй",null,{"$f":"SUM(I23:I38)","v":16.8}]
["третий",null,{"$f":"SUM(I39:I41,I43:I46,I48:I51,I53:I62,I64:I67)","v":14.400000000000002},"МБОУ \"СОШ № 197\""]
["общее",null,{"$f":"SUM(C2:C4)","v":45},"Центр Гражданского образования \"Рост\""]
[1.04,null,{"$f":"C5*A6","v":46.800000000000004},"Образовательная программа \"Развитие\""]
["Общее количество слушателей образовательной Программы",null,null,null,null,null,null,25,"человек"]
["Количество педагогических работников ",null,null,null,null,null,null,5,"человек"]
["Количество консультантов из числа опытных старшеклассников, выпускников Центра",null,null,null,null,null,null,3,"человек"]
["Количество привлеченных специалистов",null,null,null,null,null,null,1,"человек"]
["Продолжительность образовательной Программы",null,null,null,null,null,null,28,"часов"]
["№","Направ-ление","Критерии",null,"Значение критерия","Единица измерения","Значение в единицах измерения","Система оценки","Рейтинговое значение"]
[1,"Образовательная программа","адаптированность","продолжительность образовательной Программы","количество часов",null,{"$f":"H11","v":28},"18-24 + 1б,\n25-48 + 2б,  \nболее 48 + 3б",{"$f":"IF($G$13>17,1,0)+IF($G$13>24,1,0)+IF($G$13>48,1,0)","v":2}]
[2,null,null,"наличие модулей в образовательной Программе для разновозрастных групп","для обучающихся = 1,\n для обучающихся и взрослых = 2",null,0,"1 + 1б,\n2 + 2б",{"$f":"IF(G14=1,1,0)+IF(G14=2,2,0)","v":0}]
[3,null,null,"наличие в образовательной Программе активных и интерактивных форм обучения","менее 50% занятий = 1,\n более 50% занятий = 2",null,2,"1 + 1б,\n2 + 2б",{"$f":"IF(G15=1,1,0)+IF(G15=2,2,0)","v":2}]
[4,null,null,"преемственность образовательных Программ из года в год","если существует = 1",null,1,"да + 1б",{"$f":"IF(G16=1,1,0)","v":1}]
[5,null,"доступность","наличие модулей, предложенных слушателям на выбор","если 2 модуля = 1,\n3 и более модулей = 2",null,0,"1 + 1б,\n2 + 2б",{"$f":"IF(G17=1,1,0)+IF(G17=2,2,0)","v":0}]
[6,null,null,"проведение мониторинга уровня сформированности ключевых компетентностей","если да = 1",null,1,"да + 3б",{"$f":"IF(G18=1,3,0)","v":3}]
[7,null,null,"программа реализуется в сетевом взаимодействии с другими Центрами","если да = 1",null,1,"да + 2б",{"$f":"IF(G19=1,2,0)","v":2}]
[8,null,null,"доля слушателей, привлеченных из других ОУ","количество",null,15,"100% + 3б",{"$f":"ROUND((G20/H7*3),1)","v":1.8}]
[9,null,"полнота реализации","Программа реализуется в полном объеме","если да = 1",null,1,"да + 1,5б,\nнет + 1б",{"$f":"IF(G21=1,1.5,1)","v":1.5}]
[10,null,null,"Программа изменилась при лучших условиях","если да = 1",null,1,"да + 0,5б",{"$f":"IF(G22=1,0.5,0)","v":0.5}]
[11,"Организация образовательного процесса","кадровое обеспечение","укомплектованность преподавательского состава в соответствии с Программой","состав полностью укомплектован = 1",null,1,"да + 2б,\nнет + 1б",{"$f":"IF(G23=1,2,1)","v":2}]
[12,null,null,"подготовка преподавателей по теме Программы","количество",null,4,"100% + 2б",{"$f":"ROUND((G24/(H8+H9+H10)*2),1)","v":0.9}]
[13,null,null,"привлечение специалистов из профессионального сообщества","количество",null,{"$f":"H10","v":1},"100% + 2б",{"$f":"ROUND((G25/(H9+H10+H8)*2),1)","v":0.2}]
[14,null,null,"привлечение консультантов из числа обучающихся, выпускников","количество",null,{"$f":"H9","v":3},"100% + 2б",{"$f":"ROUND((G26/(H10+H9+H8)*2),1)","v":0.7}]
[15,null,"материально-техническое обеспечение","наличие достаточной материальной базы для проведения знаний","если да = 1",null,1,"да + 2б,\nнет + 1б",{"$f":"IF(G27=1,2,1)","v":2}]
[16,null,null,"использование материальной базы иных организаций","если да = 1",null,0,"да + 2б",{"$f":"IF(G28=1,2,0)","v":0}]
[17,null,null,"наличие оборудованных рабочих мест для слушателей и преподавателей","если да = 1, \nтолько преподавателей = 2",null,1,"1 + 1б, \n2 + 0,5б",{"$f":"IF(G29=1,1,0)+IF(G29=2,0.5,0)","v":1}]
[18,null,"информационно-технологическое обеспечение","наличие страницы Центра на сайте образовательного учреждения  ","если да = 1",null,1,"да + 1б",{"$f":"IF(G30=1,1,0)","v":1}]
[19,null,null,"регулярность обновления страницы Центра на сайте","более 1 раза в месяц = 1, \nреже = 2",null,1,"1 + 1б, \n2 + 0,5б",{"$f":"IF(G31=1,1,0)+IF(G31=2,0.5,0)","v":1}]
[20,null,null,"использование доступа в интернет преподавателями и слушателями","если да = 1,  только преподавателями = 2",null,1,"1 + 1б, \n2 + 0,5б",{"$f":"IF(G32=1,1,0)+IF(G32=2,0.5,0)","v":1}]
[21,null,null,"наличие методических материалов Центра на сайте ОУ","если да = 1",null,1,"да + 1б",{"$f":"IF(G33=1,1,0)","v":1}]
[22,null,null,"наличие Совета Центра","если да = 1",null,1,"да + 0,5б",{"$f":"IF(G34=1,0.5,0)","v":0.5}]
[23,null,null,"наличие утвержденного положения о деятельности Центра","если да = 1",null,1,"да + 0,5б",{"$f":"IF(G35=1,0.5,0)","v":0.5}]
[24,null,null,"наличие оформленных договоров с социальными партнерами","если да = 1",null,1,"да + 1б",{"$f":"IF(G36=1,1,0)","v":1}]
[25,null,"учебно-методическое обеспечение","обеспеченность слушателей учебниками, справочной литературой","полное обеспечение = 1,\nчастичное = 2",null,1,"1 + 2б, \n2 + 1б",{"$f":"IF(G37=1,2,0)+IF(G37=2,1,0)","v":2}]
[26,null,null,"обеспеченность преподавателей методической литературой, программными средствами обучения","полное обеспечение = 1,\nчастичное = 2",null,1,"1 + 2б, \n2 + 1б",{"$f":"IF(G38=1,2,0)+IF(G38=2,1,0)","v":2}]
[27,"Результаты образовательной деятельности","уровень и качество общеобразовательной подготовки слушателей","слушатели, применившие полученную информацию на практике","количество",null,25,"100% + 2б",{"$f":"ROUND(G39/H7*2,1)","v":2}]
[28,null,null,"слушатели, освоившие программу и получившие удостоверение","количество",null,10,"100% + 4б",{"$f":"ROUND(G40/$H$7*4,1)","v":1.6}]
[29,null,null,"слушатели, получившие сертификат","количество",null,15,"100% + 1б",{"$f":"ROUND(G41/H7*1,1)","v":0.6}]
[30,null,"сформированность ключевых компетентностей слушателей","слушатели, имеющие документально подтвержденные достижения по теме Программы:"]
[null,null,null," - на школьном уровне","количество",null,25,"100% + 2б",{"$f":"ROUND(G43/$H$7*2,1)","v":2}]
[null,null,null," - на муниципальном уровне","количество",null,9,"100% + 3б",{"$f":"ROUND(G44/$H$7*3,1)","v":1.1000000000000001}]
[null,null,null," - на региональном уровне","количество",null,10,"100% + 4б",{"$f":"ROUND(G45/$H$7*4,1)","v":1.6}]
[null,null,null," - на федеральном  и международном уровнях","количество",null,null,"100% + 5б",{"$f":"ROUND(G46/$H$7*5,1)","v":0}]
[31,null,"уровень обобщения и представления опыта деятельности Центра по теме Программы","публичное представление промежуточных результатов реализации образовательной Программы:"]
[null,null,null," - на школьном уровне","количество",null,3,"за 1 + 0,1б",{"$f":"G48*0.1","v":0.30000000000000004}]
[null,null,null," - на муниципальном уровне","количество",null,null,"за 1 + 0,2б",{"$f":"G49*0.2","v":0}]
[null,null,null," - на региональном уровне","количество",null,null,"за 1 + 0,3б",{"$f":"G50*0.3","v":0}]
[null,null,null," - на федеральном  и международном уровнях","количество",null,null,"за 1 + 0,5б",{"$f":"G51*0.4","v":0}]
[32,null,null,"организация мероприятий, семинаров различного уровня по теме образовательной Программы:"]
[null,null,null," - на муниципальном уровне","количество",null,null,"за 1 + 0,3б",{"$f":"G53*0.3","v":0}]
[null,null,null," - на региональном уровне","количество",null,1,"за 1 + 0,5б",{"$f":"G54*0.5","v":0.5}]
[null,null,null," - на федеральном  и международном уровнях","количество",null,null,"за 1 + 0,7б",{"$f":"G55*0.7","v":0}]
[33,null,null,"внешкольная экспертная деятельность преподавателей Центра по теме Программы","количество часов",null,20,"за 100ч + 2б",{"$f":"G56*0.02","v":0.4}]
[34,null,null,"наличие публикаций в методических изданиях по теме Программы","количество страниц А4, интервал 1,5, шрифт 14 ",null,0,"за 24 стр. + 2б",{"$f":"ROUND(G57*2/24,1)","v":0}]
[35,null,null,"количество публикаций в СМИ муниципального и регионального уровня по теме Программы","количество статей",null,null,"за 1 ст. + 0,1б",{"$f":"G58*0.1","v":0}]
[36,null,"уровень организации и степень достижения целей и задач инновационной деятельности","наличие рецензии на образовательную Программу","если да = 1",null,null,"да + 2б",{"$f":"IF(G59=1,2,0)","v":0}]
[37,null,null,"Программа Центра является частью программы развития ОУ","если да = 1",null,1,"да + 1б",{"$f":"IF(G60=1,1,0)","v":1}]
[38,null,null,"Программа Центра является частью муниципальной программы развития","если да = 1",null,1,"да + 2б",{"$f":"IF(G61=1,2,0)","v":2}]
[39,null,null,"наличие общественной экспертизы результатов реализации образовательной Программы","если да = 1",null,null,"да + 1б",{"$f":"IF(G62=1,1,0)","v":0}]
[40,null,null,"публичное представление результатов инновационной деятельности на научно-практических конференциях"]
[null,null,null," - на школьном уровне","если да = 1",null,1,"да + 0,3б",{"$f":"IF(G64=1,0.3,0)","v":0.3}]
[null,null,null," - на муниципальном уровне","если да = 1",null,null,"да + 0,5б",{"$f":"IF(G65=1,0.5,0)","v":0}]
[null,null,null," - на региональном уровне","если да = 1",null,1,"да + 1б",{"$f":"IF(G66=1,1,0)","v":1}]
[null,null,null," - на федеральном  и международном уровнях","если да = 1",null,null,"да + 2б",{"$f":"IF(G67=1,2,0)","v":0}]
["Общее рейтинговое значение ",null,null,null,null,null,null,null,{"$f":"SUM(I13:I41,I43:I46,I48:I51,I53:I62,I64:I67)","v":44.999999999999993}]

{"sheet":"АР  №2","index":16,"n_rows":68,"n_cols":9,"rows_kept":68,"cut":false,"hidden":false,"merged":[[65,4,65,5],[57,4,57,5],[46,3,46,8],[66,4,66,5],[58,2,66,2],[62,3,62,8],[61,4,61,5],[63,4,63,5],[59,4,59,5],[58,4,58,5],[46,2,57,2],[64,4,64,5],[60,4,60,5],[44,4,44,5],[56,4,56,5],[55,4,55,5],[51,3,51,8],[48,4,48,5],[49,4,49,5],[54,4,54,5],[13,4,13,5],[22,2,25,2],[9,0,9,6],[12,4,12,5],[14,4,14,5],[16,4,16,5],[12,2,15,2],[10,0,10,6],[15,4,15,5],[11,2,11,3],[23,4,23,5],[12,1,21,1],[21,4,21,5],[16,2,19,2],[22,1,37,1],[17,4,17,5],[18,4,18,5],[20,4,20,5],[20,2,21,2],[19,4,19,5],[26,4,26,5],[25,4,25,5],[37,4,37,5],[26,2,28,2],[27,4,27,5],[29,4,29,5],[31,4,31,5],[32,4,32,5],[30,4,30,5],[35,4,35,5],[1,0,1,1],[2,0,2,1],[6,0,6,6],[7,0,7,6],[8,0,8,6],[3,0,3,1],[0,3,2,8],[0,0,0,2],[46,0,50,0],[36,2,37,2],[53,4,53,5],[41,0,45,0],[43,4,43,5],[47,4,47,5],[36,4,36,5],[41,2,45,2],[45,4,45,5],[38,4,38,5],[39,4,39,5],[41,3,41,8],[42,4,42,5],[38,2,40,2],[38,1,66,1],[40,4,40,5],[67,0,67,7],[3,3,3,8],[29,2,35,2],[28,4,28,5],[50,4,50,5],[52,4,52,5],[33,4,33,5],[34,4,34,5],[4,0,4,1],[5,0,5,1],[4,3,4,8],[5,3,5,8],[22,4,22,5],[62,0,66,0],[24,4,24,5],[51,0,54,0]]}
["РЕЙТИНГ",null,null,"ОЦЕНОЧНЫЙ ЛИСТ РЕЙТИНГА РЕЗУЛЬТАТИВНОСТИ ОБРАЗОВАТЕЛЬНЫХ ПРОГРАММ ЦЕНТРОВ ГРАЖДАНСКОГО ОБРАЗОВАНИЯ 2012-2013  "]
["первый",null,{"$f":"SUM(I13:I22)","v":13}]
["второй",null,{"$f":"SUM(I23:I38)","v":17}]
["третий",null,{"$f":"SUM(I39:I41,I43:I46,I48:I51,I53:I62,I64:I67)","v":24.9},"МБОУ гимназия №2 города Асино"]
["общее",null,{"$f":"SUM(C2:C4)","v":54.9},"Центр гражданского образования \"Лидер XXIвека\""]
[1.04,null,{"$f":"C5*A6","v":57.096000000000004},"Образовательная программа \"Школа молодого гражданина\""]
["Общее количество слушателей образовательной Программы",null,null,null,null,null,null,25,"человек"]
["Количество педагогических работников ",null,null,null,null,null,null,3,"человек"]
["Количество консультантов из числа опытных старшеклассников, выпускников Центра",null,null,null,null,null,null,0,"человек"]
["Количество привлеченных специалистов",null,null,null,null,null,null,12,"человек"]
["Продолжительность образовательной Программы",null,null,null,null,null,null,96,"часов"]
["№","Направ-ление","Критерии",null,"Значение критерия","Единица измерения","Значение в единицах измерения","Система оценки","Рейтинговое значение"]
[1,"Образовательная программа","адаптированность","продолжительность образовательной Программы","количество часов",null,{"$f":"H11","v":96},"18-24 + 1б,\n25-48 + 2б,  \nболее 48 + 3б",{"$f":"IF($G$13>17,1,0)+IF($G$13>24,1,0)+IF($G$13>48,1,0)","v":3}]
[2,null,null,"наличие модулей в образовательной Программе для разновозрастных групп","для обучающихся = 1,\n для обучающихся и взрослых = 2",null,0,"1 + 1б,\n2 + 2б",{"$f":"IF(G14=1,1,0)+IF(G14=2,2,0)","v":0}]
[3,null,null,"наличие в образовательной Программе активных и интерактивных форм обучения","менее 50% занятий = 1,\n более 50% занятий = 2",null,2,"1 + 1б,\n2 + 2б",{"$f":"IF(G15=1,1,0)+IF(G15=2,2,0)","v":2}]
[4,null,null,"преемственность образовательных Программ из года в год","если существует = 1",null,1,"да + 1б",{"$f":"IF(G16=1,1,0)","v":1}]
[5,null,"доступность","наличие модулей, предложенных слушателям на выбор","если 2 модуля = 1,\n3 и более модулей = 2",null,0,"1 + 1б,\n2 + 2б",{"$f":"IF(G17=1,1,0)+IF(G17=2,2,0)","v":0}]
[6,null,null,"проведение мониторинга уровня сформированности ключевых компетентностей","если да = 1",null,1,"да + 3б",{"$f":"IF(G18=1,3,0)","v":3}]
[7,null,null,"программа реализуется в сетевом взаимодействии с другими Центрами","если да = 1",null,1,"да + 2б",{"$f":"IF(G19=1,2,0)","v":2}]
[8,null,null,"доля слушателей, привлеченных из других ОУ","количество",null,0,"100% + 3б",{"$f":"ROUND((G20/H7*3),1)","v":0}]
[9,null,"полнота реализации","Программа реализуется в полном объеме","если да = 1",null,1,"да + 1,5б,\nнет + 1б",{"$f":"IF(G21=1,1.5,1)","v":1.5}]
[10,null,null,"Программа изменилась при лучших условиях","если да = 1",null,1,"да + 0,5б",{"$f":"IF(G22=1,0.5,0)","v":0.5}]
[11,"Организация образовательного процесса","кадровое обеспечение","укомплектованность преподавательского состава в соответствии с Программой","состав полностью укомплектован = 1",null,1,"да + 2б,\nнет + 1б",{"$f":"IF(G23=1,2,1)","v":2}]
[12,null,null,"подготовка преподавателей по теме Программы","количество",null,3,"100% + 2б",{"$f":"ROUND((G24/(H8+H9+H10)*2),1)","v":0.4}]
[13,null,null,"привлечение специалистов из профессионального сообщества","количество",null,{"$f":"H10","v":12},"100% + 2б",{"$f":"ROUND((G25/(H9+H10+H8)*2),1)","v":1.6}]
[14,null,null,"привлечение консультантов из числа обучающихся, выпускников","количество",null,{"$f":"H9","v":0},"100% + 2б",{"$f":"ROUND((G26/(H10+H9+H8)*2),1)","v":0}]
[15,null,"материально-техническое обеспечение","наличие достаточной материальной базы для проведения знаний","если да = 1",null,1,"да + 2б,\nнет + 1б",{"$f":"IF(G27=1,2,1)","v":2}]
[16,null,null,"использование материальной базы иных организаций","если да = 1",null,1,"да + 2б",{"$f":"IF(G28=1,2,0)","v":2}]
[17,null,null,"наличие оборудованных рабочих мест для слушателей и преподавателей","если да = 1, \nтолько преподавателей = 2",null,1,"1 + 1б, \n2 + 0,5б",{"$f":"IF(G29=1,1,0)+IF(G29=2,0.5,0)","v":1}]
[18,null,"информационно-технологическое обеспечение","наличие страницы Центра на сайте образовательного учреждения  ","если да = 1",null,1,"да + 1б",{"$f":"IF(G30=1,1,0)","v":1}]
[19,null,null,"регулярность обновления страницы Центра на сайте","более 1 раза в месяц = 1, \nреже = 2",null,1,"1 + 1б, \n2 + 0,5б",{"$f":"IF(G31=1,1,0)+IF(G31=2,0.5,0)","v":1}]
[20,null,null,"использование доступа в интернет преподавателями и слушателями","если да = 1,  только преподавателями = 2",null,1,"1 + 1б, \n2 + 0,5б",{"$f":"IF(G32=1,1,0)+IF(G32=2,0.5,0)","v":1}]
[21,null,null,"наличие методических материалов Центра на сайте ОУ","если да = 1",null,1,"да + 1б",{"$f":"IF(G33=1,1,0)","v":1}]
[22,null,null,"наличие Совета Центра","если да = 1",null,1,"да + 0,5б",{"$f":"IF(G34=1,0.5,0)","v":0.5}]
[23,null,null,"наличие утвержденного положения о деятельности Центра","если да = 1",null,1,"да + 0,5б",{"$f":"IF(G35=1,0.5,0)","v":0.5}]
[24,null,null,"наличие оформленных договоров с социальными партнерами","если да = 1",null,1,"да + 1б",{"$f":"IF(G36=1,1,0)","v":1}]
[25,null,"учебно-методическое обеспечение","обеспеченность слушателей учебниками, справочной литературой","полное обеспечение = 1,\nчастичное = 2",null,2,"1 + 2б, \n2 + 1б",{"$f":"IF(G37=1,2,0)+IF(G37=2,1,0)","v":1}]
[26,null,null,"обеспеченность преподавателей методической литературой, программными средствами обучения","полное обеспечение = 1,\nчастичное = 2",null,2,"1 + 2б, \n2 + 1б",{"$f":"IF(G38=1,2,0)+IF(G38=2,1,0)","v":1}]
[27,"Результаты образовательной деятельности","уровень и качество общеобразовательной подготовки слушателей","слушатели, применившие полученную информацию на практике","количество",null,25,"100% + 2б",{"$f":"ROUND(G39/H7*2,1)","v":2}]
[28,null,null,"слушатели, освоившие программу и получившие удостоверение","количество",null,25,"100% + 4б",{"$f":"ROUND(G40/$H$7*4,1)","v":4}]
[29,null,null,"слушатели, получившие сертификат","количество",null,0,"100% + 1б",{"$f":"ROUND(G41/H7*1,1)","v":0}]
[30,null,"сформированность ключевых компетентностей слушателей","слушатели, имеющие документально подтвержденные достижения по теме Программы:"]
[null,null,null," - на школьном уровне","количество",null,25,"100% + 2б",{"$f":"ROUND(G43/$H$7*2,1)","v":2}]
[null,null,null," - на муниципальном уровне","количество",null,25,"100% + 3б",{"$f":"ROUND(G44/$H$7*3,1)","v":3}]
[null,null,null," - на региональном уровне","количество",null,25,"100% + 4б",{"$f":"ROUND(G45/$H$7*4,1)","v":4}]
[null,null,null," - на федеральном  и международном уровнях","количество",null,7,"100% + 5б",{"$f":"ROUND(G46/$H$7*5,1)","v":1.4}]
[31,null,"уровень обобщения и представления опыта деятельности Центра по теме Программы","публичное представление промежуточных результатов реализации образовательной Программы:"]
[null,null,null," - на школьном уровне","количество",null,1,"за 1 + 0,1б",{"$f":"G48*0.1","v":0.1}]
[null,null,null," - на муниципальном уровне","количество",null,0,"за 1 + 0,2б",{"$f":"G49*0.2","v":0}]
[null,null,null," - на региональном уровне","количество",null,0,"за 1 + 0,3б",{"$f":"G50*0.3","v":0}]
[null,null,null," - на федеральном  и международном уровнях","количество",null,0,"за 1 + 0,5б",{"$f":"G51*0.4","v":0}]
[32,null,null,"организация мероприятий, семинаров различного уровня по теме образовательной Программы:"]
[null,null,null," - на муниципальном уровне","количество",null,0,"за 1 + 0,3б",{"$f":"G53*0.3","v":0}]
[null,null,null," - на региональном уровне","количество",null,2,"за 1 + 0,5б",{"$f":"G54*0.5","v":1}]
[null,null,null," - на федеральном  и международном уровнях","количество",null,0,"за 1 + 0,7б",{"$f":"G55*0.7","v":0}]
[33,null,null,"внешкольная экспертная деятельность преподавателей Центра по теме Программы","количество часов",null,0,"за 100ч + 2б",{"$f":"G56*0.02","v":0}]
[34,null,null,"наличие публикаций в методических изданиях по теме Программы","количество страниц А4, интервал 1,5, шрифт 14 ",null,0,"за 24 стр. + 2б",{"$f":"ROUND(G57*2/24,1)","v":0}]
[35,null,null,"количество публикаций в СМИ муниципального и регионального уровня по теме Программы","количество статей",null,9,"за 1 ст. + 0,1б",{"$f":"G58*0.1","v":0.9}]
[36,null,"уровень организации и степень достижения целей и задач инновационной деятельности","наличие рецензии на образовательную Программу","если да = 1",null,1,"да + 2б",{"$f":"IF(G59=1,2,0)","v":2}]
[37,null,null,"Программа Центра является частью программы развития ОУ","если да = 1",null,1,"да + 1б",{"$f":"IF(G60=1,1,0)","v":1}]
[38,null,null,"Программа Центра является частью муниципальной программы развития","если да = 1",null,1,"да + 2б",{"$f":"IF(G61=1,2,0)","v":2}]
[39,null,null,"наличие общественной экспертизы результатов реализации образовательной Программы","если да = 1",null,1,"да + 1б",{"$f":"IF(G62=1,1,0)","v":1}]
[40,null,null,"публичное представление результатов инновационной деятельности на научно-практических конференциях"]
[null,null,null," - на школьном уровне","если да = 1",null,0,"да + 0,3б",{"$f":"IF(G64=1,0.3,0)","v":0}]
[null,null,null," - на муниципальном уровне","если да = 1",null,1,"да + 0,5б",{"$f":"IF(G65=1,0.5,0)","v":0.5}]
[null,null,null," - на региональном уровне","если да = 1",null,0,"да + 1б",{"$f":"IF(G66=1,1,0)","v":0}]
[null,null,null," - на федеральном  и международном уровнях","если да = 1",null,0,"да + 2б",{"$f":"IF(G67=1,2,0)","v":0}]
["Общее рейтинговое значение ",null,null,null,null,null,null,null,{"$f":"SUM(I13:I41,I43:I46,I48:I51,I53:I62,I64:I67)","v":54.9}]

{"sheet":"АР №4","index":17,"n_rows":68,"n_cols":9,"rows_kept":68,"cut":false,"hidden":false,"merged":[[0,0,0,2],[67,0,67,7],[3,3,3,8],[29,2,35,2],[28,4,28,5],[50,4,50,5],[36,2,37,2],[53,4,53,5],[34,4,34,5],[4,0,4,1],[52,4,52,5],[33,4,33,5],[29,4,29,5],[31,4,31,5],[35,4,35,5],[47,4,47,5],[5,0,5,1],[4,3,4,8],[5,3,5,8],[22,4,22,5],[23,4,23,5],[21,4,21,5],[16,2,19,2],[11,2,11,3],[6,0,6,6],[7,0,7,6],[8,0,8,6],[9,0,9,6],[19,4,19,5],[15,4,15,5],[12,1,21,1],[62,0,66,0],[24,4,24,5],[25,4,25,5],[37,4,37,5],[26,2,28,2],[51,0,54,0],[26,4,26,5],[46,0,50,0],[44,4,44,5],[49,4,49,5],[27,4,27,5],[46,3,46,8],[41,0,45,0],[36,4,36,5],[43,4,43,5],[41,3,41,8],[0,3,2,8],[13,4,13,5],[22,2,25,2],[22,1,37,1],[17,4,17,5],[18,4,18,5],[20,4,20,5],[20,2,21,2],[1,0,1,1],[2,0,2,1],[3,0,3,1],[12,4,12,5],[14,4,14,5],[16,4,16,5],[12,2,15,2],[10,0,10,6],[42,4,42,5],[46,2,57,2],[51,3,51,8],[48,4,48,5],[57,4,57,5],[41,2,45,2],[65,4,65,5],[58,4,58,5],[32,4,32,5],[30,4,30,5],[38,1,66,1],[45,4,45,5],[40,4,40,5],[38,4,38,5],[39,4,39,5],[66,4,66,5],[58,2,66,2],[64,4,64,5],[54,4,54,5],[38,2,40,2],[56,4,56,5],[55,4,55,5],[62,3,62,8],[61,4,61,5],[63,4,63,5],[59,4,59,5],[60,4,60,5]]}
["РЕЙТИНГ",null,null,"ОЦЕНОЧНЫЙ ЛИСТ РЕЙТИНГА РЕЗУЛЬТАТИВНОСТИ ОБРАЗОВАТЕЛЬНЫХ ПРОГРАММ ЦЕНТРОВ ГРАЖДАНСКОГО ОБРАЗОВАНИЯ 2012-2013  "]
["первый",null,{"$f":"SUM(I13:I22)","v":14.6}]
["второй",null,{"$f":"SUM(I23:I38)","v":19}]
["третий",null,{"$f":"SUM(I39:I41,I43:I46,I48:I51,I53:I62,I64:I67)","v":35.139999999999993},"МБОУ СОШ №4 г.Асино"]
["общее",null,{"$f":"SUM(C2:C4)","v":68.739999999999995},"Центр гражданского образования \"Следопыт\""]
[1.04,null,{"$f":"C5*A6","v":71.489599999999996},"Образовательная Программа \"Быть гражданином\""]
["Общее количество слушателей образовательной Программы",null,null,null,null,null,null,25,"человек"]
["Количество педагогических работников ",null,null,null,null,null,null,3,"человек"]
["Количество консультантов из числа опытных старшеклассников, выпускников Центра",null,null,null,null,null,null,2,"человек"]
["Количество привлеченных специалистов",null,null,null,null,null,null,5,"человек"]
["Продолжительность образовательной Программы",null,null,null,null,null,null,68,"часов"]
["№","Направ-ление","Критерии",null,"Значение критерия","Единица измерения","Значение в единицах измерения","Система оценки","Рейтинговое значение"]
[1,"Образовательная программа","адаптированность","продолжительность образовательной Программы","количество часов",null,{"$f":"H11","v":68},"18-24 + 1б,\n25-48 + 2б,  \nболее 48 + 3б",{"$f":"IF($G$13>17,1,0)+IF($G$13>24,1,0)+IF($G$13>48,1,0)","v":3}]
[2,null,null,"наличие модулей в образовательной Программе для разновозрастных групп","для обучающихся = 1,\n для обучающихся и взрослых = 2",null,1,"1 + 1б,\n2 + 2б",{"$f":"IF(G14=1,1,0)+IF(G14=2,2,0)","v":1}]
[3,null,null,"наличие в образовательной Программе активных и интерактивных форм обучения","менее 50% занятий = 1,\n более 50% занятий = 2",null,2,"1 + 1б,\n2 + 2б",{"$f":"IF(G15=1,1,0)+IF(G15=2,2,0)","v":2}]
[4,null,null,"преемственность образовательных Программ из года в год","если существует = 1",null,1,"да + 1б",{"$f":"IF(G16=1,1,0)","v":1}]
[5,null,"доступность","наличие модулей, предложенных слушателям на выбор","если 2 модуля = 1,\n3 и более модулей = 2",null,0,"1 + 1б,\n2 + 2б",{"$f":"IF(G17=1,1,0)+IF(G17=2,2,0)","v":0}]
[6,null,null,"проведение мониторинга уровня сформированности ключевых компетентностей","если да = 1",null,1,"да + 3б",{"$f":"IF(G18=1,3,0)","v":3}]
[7,null,null,"программа реализуется в сетевом взаимодействии с другими Центрами","если да = 1",null,1,"да + 2б",{"$f":"IF(G19=1,2,0)","v":2}]
[8,null,null,"доля слушателей, привлеченных из других ОУ","количество",null,5,"100% + 3б",{"$f":"ROUND((G20/H7*3),1)","v":0.6}]
[9,null,"полнота реализации","Программа реализуется в полном объеме","если да = 1",null,1,"да + 1,5б,\nнет + 1б",{"$f":"IF(G21=1,1.5,1)","v":1.5}]
[10,null,null,"Программа изменилась при лучших условиях","если да = 1",null,1,"да + 0,5б",{"$f":"IF(G22=1,0.5,0)","v":0.5}]
[11,"Организация образовательного процесса","кадровое обеспечение","укомплектованность преподавательского состава в соответствии с Программой","состав полностью укомплектован = 1",null,1,"да + 2б,\nнет + 1б",{"$f":"IF(G23=1,2,1)","v":2}]
[12,null,null,"подготовка преподавателей по теме Программы","количество",null,3,"100% + 2б",{"$f":"ROUND((G24/(H8+H9+H10)*2),1)","v":0.6}]
[13,null,null,"привлечение специалистов из профессионального сообщества","количество",null,{"$f":"H10","v":5},"100% + 2б",{"$f":"ROUND((G25/(H9+H10+H8)*2),1)","v":1}]
[14,null,null,"привлечение консультантов из числа обучающихся, выпускников","количество",null,{"$f":"H9","v":2},"100% + 2б",{"$f":"ROUND((G26/(H10+H9+H8)*2),1)","v":0.4}]
[15,null,"материально-техническое обеспечение","наличие достаточной материальной базы для проведения знаний","если да = 1",null,1,"да + 2б,\nнет + 1б",{"$f":"IF(G27=1,2,1)","v":2}]
[16,null,null,"использование материальной базы иных организаций","если да = 1",null,1,"да + 2б",{"$f":"IF(G28=1,2,0)","v":2}]
[17,null,null,"наличие оборудованных рабочих мест для слушателей и преподавателей","если да = 1, \nтолько преподавателей = 2",null,1,"1 + 1б, \n2 + 0,5б",{"$f":"IF(G29=1,1,0)+IF(G29=2,0.5,0)","v":1}]
[18,null,"информационно-технологическое обеспечение","наличие страницы Центра на сайте образовательного учреждения  ","если да = 1",null,1,"да + 1б",{"$f":"IF(G30=1,1,0)","v":1}]
[19,null,null,"регулярность обновления страницы Центра на сайте","более 1 раза в месяц = 1, \nреже = 2",null,1,"1 + 1б, \n2 + 0,5б",{"$f":"IF(G31=1,1,0)+IF(G31=2,0.5,0)","v":1}]
[20,null,null,"использование доступа в интернет преподавателями и слушателями","если да = 1,  только преподавателями = 2",null,1,"1 + 1б, \n2 + 0,5б",{"$f":"IF(G32=1,1,0)+IF(G32=2,0.5,0)","v":1}]
[21,null,null,"наличие методических материалов Центра на сайте ОУ","если да = 1",null,1,"да + 1б",{"$f":"IF(G33=1,1,0)","v":1}]
[22,null,null,"наличие Совета Центра","если да = 1",null,1,"да + 0,5б",{"$f":"IF(G34=1,0.5,0)","v":0.5}]
[23,null,null,"наличие утвержденного положения о деятельности Центра","если да = 1",null,1,"да + 0,5б",{"$f":"IF(G35=1,0.5,0)","v":0.5}]
[24,null,null,"наличие оформленных договоров с социальными партнерами","если да = 1",null,1,"да + 1б",{"$f":"IF(G36=1,1,0)","v":1}]
[25,null,"учебно-методическое обеспечение","обеспеченность слушателей учебниками, справочной литературой","полное обеспечение = 1,\nчастичное = 2",null,1,"1 + 2б, \n2 + 1б",{"$f":"IF(G37=1,2,0)+IF(G37=2,1,0)","v":2}]
[26,null,null,"обеспеченность преподавателей методической литературой, программными средствами обучения","полное обеспечение = 1,\nчастичное = 2",null,1,"1 + 2б, \n2 + 1б",{"$f":"IF(G38=1,2,0)+IF(G38=2,1,0)","v":2}]
[27,"Результаты образовательной деятельности","уровень и качество общеобразовательной подготовки слушателей","слушатели, применившие полученную информацию на практике","количество",null,25,"100% + 2б",{"$f":"ROUND(G39/H7*2,1)","v":2}]
[28,null,null,"слушатели, освоившие программу и получившие удостоверение","количество",null,25,"100% + 4б",{"$f":"ROUND(G40/$H$7*4,1)","v":4}]
[29,null,null,"слушатели, получившие сертификат","количество",null,null,"100% + 1б",{"$f":"ROUND(G41/H7*1,1)","v":0}]
[30,null,"сформированность ключевых компетентностей слушателей","слушатели, имеющие документально подтвержденные достижения по теме Программы:"]
[null,null,null," - на школьном уровне","количество",null,25,"100% + 2б",{"$f":"ROUND(G43/$H$7*2,1)","v":2}]
[null,null,null," - на муниципальном уровне","количество",null,13,"100% + 3б",{"$f":"ROUND(G44/$H$7*3,1)","v":1.6}]
[null,null,null," - на региональном уровне","количество",null,25,"100% + 4б",{"$f":"ROUND(G45/$H$7*4,1)","v":4}]
[null,null,null," - на федеральном  и международном уровнях","количество",null,22,"100% + 5б",{"$f":"ROUND(G46/$H$7*5,1)","v":4.4000000000000004}]
[31,null,"уровень обобщения и представления опыта деятельности Центра по теме Программы","публичное представление промежуточных результатов реализации образовательной Программы:"]
[null,null,null," - на школьном уровне","количество",null,2,"за 1 + 0,1б",{"$f":"G48*0.1","v":0.2}]
[null,null,null," - на муниципальном уровне","количество",null,2,"за 1 + 0,2б",{"$f":"G49*0.2","v":0.4}]
[null,null,null," - на региональном уровне","количество",null,8,"за 1 + 0,3б",{"$f":"G50*0.3","v":2.4}]
[null,null,null," - на федеральном  и международном уровнях","количество",null,2,"за 1 + 0,5б",{"$f":"G51*0.4","v":0.8}]
[32,null,null,"организация мероприятий, семинаров различного уровня по теме образовательной Программы:"]
[null,null,null," - на муниципальном уровне","количество",null,5,"за 1 + 0,3б",{"$f":"G53*0.3","v":1.5}]
[null,null,null," - на региональном уровне","количество",null,2,"за 1 + 0,5б",{"$f":"G54*0.5","v":1}]
[null,null,null," - на федеральном  и международном уровнях","количество",null,null,"за 1 + 0,7б",{"$f":"G55*0.7","v":0}]
[33,null,null,"внешкольная экспертная деятельность преподавателей Центра по теме Программы","количество часов",null,32,"за 100ч + 2б",{"$f":"G56*0.02","v":0.64}]
[34,null,null,"наличие публикаций в методических изданиях по теме Программы","количество страниц А4, интервал 1,5, шрифт 14 ",null,12,"за 24 стр. + 2б",{"$f":"ROUND(G57*2/24,1)","v":1}]
[35,null,null,"количество публикаций в СМИ муниципального и регионального уровня по теме Программы","количество статей",null,4,"за 1 ст. + 0,1б",{"$f":"G58*0.1","v":0.4}]
[36,null,"уровень организации и степень достижения целей и задач инновационной деятельности","наличие рецензии на образовательную Программу","если да = 1",null,1,"да + 2б",{"$f":"IF(G59=1,2,0)","v":2}]
[37,null,null,"Программа Центра является частью программы развития ОУ","если да = 1",null,1,"да + 1б",{"$f":"IF(G60=1,1,0)","v":1}]
[38,null,null,"Программа Центра является частью муниципальной программы развития","если да = 1",null,1,"да + 2б",{"$f":"IF(G61=1,2,0)","v":2}]
[39,null,null,"наличие общественной экспертизы результатов реализации образовательной Программы","если да = 1",null,1,"да + 1б",{"$f":"IF(G62=1,1,0)","v":1}]
[40,null,null,"публичное представление результатов инновационной деятельности на научно-практических конференциях"]
[null,null,null," - на школьном уровне","если да = 1",null,1,"да + 0,3б",{"$f":"IF(G64=1,0.3,0)","v":0.3}]
[null,null,null," - на муниципальном уровне","если да = 1",null,1,"да + 0,5б",{"$f":"IF(G65=1,0.5,0)","v":0.5}]
[null,null,null," - на региональном уровне","если да = 1",null,0,"да + 1б",{"$f":"IF(G66=1,1,0)","v":0}]
[null,null,null," - на федеральном  и международном уровнях","если да = 1",null,1,"да + 2б",{"$f":"IF(G67=1,2,0)","v":2}]
["Общее рейтинговое значение ",null,null,null,null,null,null,null,{"$f":"SUM(I13:I41,I43:I46,I48:I51,I53:I62,I64:I67)","v":68.739999999999995}]

{"sheet":"АР Нов","index":18,"n_rows":68,"n_cols":9,"rows_kept":68,"cut":false,"hidden":false,"merged":[[0,0,0,2],[67,0,67,7],[3,3,3,8],[29,2,35,2],[28,4,28,5],[50,4,50,5],[36,2,37,2],[53,4,53,5],[34,4,34,5],[4,0,4,1],[52,4,52,5],[33,4,33,5],[29,4,29,5],[31,4,31,5],[35,4,35,5],[47,4,47,5],[5,0,5,1],[4,3,4,8],[5,3,5,8],[22,4,22,5],[23,4,23,5],[21,4,21,5],[16,2,19,2],[11,2,11,3],[6,0,6,6],[7,0,7,6],[8,0,8,6],[9,0,9,6],[19,4,19,5],[15,4,15,5],[12,1,21,1],[62,0,66,0],[24,4,24,5],[25,4,25,5],[37,4,37,5],[26,2,28,2],[51,0,54,0],[26,4,26,5],[46,0,50,0],[44,4,44,5],[49,4,49,5],[27,4,27,5],[46,3,46,8],[41,0,45,0],[36,4,36,5],[43,4,43,5],[41,3,41,8],[0,3,2,8],[13,4,13,5],[22,2,25,2],[22,1,37,1],[17,4,17,5],[18,4,18,5],[20,4,20,5],[20,2,21,2],[1,0,1,1],[2,0,2,1],[3,0,3,1],[12,4,12,5],[14,4,14,5],[16,4,16,5],[12,2,15,2],[10,0,10,6],[42,4,42,5],[46,2,57,2],[51,3,51,8],[48,4,48,5],[57,4,57,5],[41,2,45,2],[65,4,65,5],[58,4,58,5],[32,4,32,5],[30,4,30,5],[38,1,66,1],[45,4,45,5],[40,4,40,5],[38,4,38,5],[39,4,39,5],[66,4,66,5],[58,2,66,2],[64,4,64,5],[54,4,54,5],[38,2,40,2],[56,4,56,5],[55,4,55,5],[62,3,62,8],[61,4,61,5],[63,4,63,5],[59,4,59,5],[60,4,60,5]]}
["РЕЙТИНГ",null,null,"ОЦЕНОЧНЫЙ ЛИСТ РЕЙТИНГА РЕЗУЛЬТАТИВНОСТИ ОБРАЗОВАТЕЛЬНЫХ ПРОГРАММ ЦЕНТРОВ ГРАЖДАНСКОГО ОБРАЗОВАНИЯ 2012-2013  "]
["первый",null,{"$f":"SUM(I13:I22)","v":12.5}]
["второй",null,{"$f":"SUM(I23:I38)","v":18.5}]
["третий",null,{"$f":"SUM(I39:I41,I43:I46,I48:I51,I53:I62,I64:I67)","v":13.900000000000002},"МБОУ-СОШ с.Ново-Кусково Асиновского района Томской области"]
["общее",null,{"$f":"SUM(C2:C4)","v":44.900000000000006},"Цнтр гражданского образования \"Школа социального успеха\""]
[1.17,null,{"$f":"C5*A6","v":52.533000000000001},"Образовательная программа \"Лестница успеха\""]
["Общее количество слушателей образовательной Программы",null,null,null,null,null,null,10,"человек"]
["Количество педагогических работников ",null,null,null,null,null,null,3,"человек"]
["Количество консультантов из числа опытных старшеклассников, выпускников Центра",null,null,null,null,null,null,6,"человек"]
["Количество привлеченных специалистов",null,null,null,null,null,null,1,"человек"]
["Продолжительность образовательной Программы",null,null,null,null,null,null,60,"часов"]
["№","Направ-ление","Критерии",null,"Значение критерия","Единица измерения","Значение в единицах измерения","Система оценки","Рейтинговое значение"]
[1,"Образовательная программа","адаптированность","продолжительность образовательной Программы","количество часов",null,{"$f":"H11","v":60},"18-24 + 1б,\n25-48 + 2б,  \nболее 48 + 3б",{"$f":"IF($G$13>17,1,0)+IF($G$13>24,1,0)+IF($G$13>48,1,0)","v":3}]
[2,null,null,"наличие модулей в образовательной Программе для разновозрастных групп","для обучающихся = 1,\n для обучающихся и взрослых = 2",null,1,"1 + 1б,\n2 + 2б",{"$f":"IF(G14=1,1,0)+IF(G14=2,2,0)","v":1}]
[3,null,null,"наличие в образовательной Программе активных и интерактивных форм обучения","менее 50% занятий = 1,\n более 50% занятий = 2",null,2,"1 + 1б,\n2 + 2б",{"$f":"IF(G15=1,1,0)+IF(G15=2,2,0)","v":2}]
[4,null,null,"преемственность образовательных Программ из года в год","если существует = 1",null,0,"да + 1б",{"$f":"IF(G16=1,1,0)","v":0}]
[5,null,"доступность","наличие модулей, предложенных слушателям на выбор","если 2 модуля = 1,\n3 и более модулей = 2",null,0,"1 + 1б,\n2 + 2б",{"$f":"IF(G17=1,1,0)+IF(G17=2,2,0)","v":0}]
[6,null,null,"проведение мониторинга уровня сформированности ключевых компетентностей","если да = 1",null,1,"да + 3б",{"$f":"IF(G18=1,3,0)","v":3}]
[7,null,null,"программа реализуется в сетевом взаимодействии с другими Центрами","если да = 1",null,1,"да + 2б",{"$f":"IF(G19=1,2,0)","v":2}]
[8,null,null,"доля слушателей, привлеченных из других ОУ","количество",null,0,"100% + 3б",{"$f":"ROUND((G20/H7*3),1)","v":0}]
[9,null,"полнота реализации","Программа реализуется в полном объеме","если да = 1",null,1,"да + 1,5б,\nнет + 1б",{"$f":"IF(G21=1,1.5,1)","v":1.5}]
[10,null,null,"Программа изменилась при лучших условиях","если да = 1",null,0,"да + 0,5б",{"$f":"IF(G22=1,0.5,0)","v":0}]
[11,"Организация образовательного процесса","кадровое обеспечение","укомплектованность преподавательского состава в соответствии с Программой","состав полностью укомплектован = 1",null,1,"да + 2б,\nнет + 1б",{"$f":"IF(G23=1,2,1)","v":2}]
[12,null,null,"подготовка преподавателей по теме Программы","количество",null,3,"100% + 2б",{"$f":"ROUND((G24/(H8+H9+H10)*2),1)","v":0.6}]
[13,null,null,"привлечение специалистов из профессионального сообщества","количество",null,{"$f":"H10","v":1},"100% + 2б",{"$f":"ROUND((G25/(H9+H10+H8)*2),1)","v":0.2}]
[14,null,null,"привлечение консультантов из числа обучающихся, выпускников","количество",null,{"$f":"H9","v":6},"100% + 2б",{"$f":"ROUND((G26/(H10+H9+H8)*2),1)","v":1.2}]
[15,null,"материально-техническое обеспечение","наличие достаточной материальной базы для проведения знаний","если да = 1",null,1,"да + 2б,\nнет + 1б",{"$f":"IF(G27=1,2,1)","v":2}]
[16,null,null,"использование материальной базы иных организаций","если да = 1",null,1,"да + 2б",{"$f":"IF(G28=1,2,0)","v":2}]
[17,null,null,"наличие оборудованных рабочих мест для слушателей и преподавателей","если да = 1, \nтолько преподавателей = 2",null,1,"1 + 1б, \n2 + 0,5б",{"$f":"IF(G29=1,1,0)+IF(G29=2,0.5,0)","v":1}]
[18,null,"информационно-технологическое обеспечение","наличие страницы Центра на сайте образовательного учреждения  ","если да = 1",null,1,"да + 1б",{"$f":"IF(G30=1,1,0)","v":1}]
[19,null,null,"регулярность обновления страницы Центра на сайте","более 1 раза в месяц = 1, \nреже = 2",null,2,"1 + 1б, \n2 + 0,5б",{"$f":"IF(G31=1,1,0)+IF(G31=2,0.5,0)","v":0.5}]
[20,null,null,"использование доступа в интернет преподавателями и слушателями","если да = 1,  только преподавателями = 2",null,1,"1 + 1б, \n2 + 0,5б",{"$f":"IF(G32=1,1,0)+IF(G32=2,0.5,0)","v":1}]
[21,null,null,"наличие методических материалов Центра на сайте ОУ","если да = 1",null,1,"да + 1б",{"$f":"IF(G33=1,1,0)","v":1}]
[22,null,null,"наличие Совета Центра","если да = 1",null,1,"да + 0,5б",{"$f":"IF(G34=1,0.5,0)","v":0.5}]
[23,null,null,"наличие утвержденного положения о деятельности Центра","если да = 1",null,1,"да + 0,5б",{"$f":"IF(G35=1,0.5,0)","v":0.5}]
[24,null,null,"наличие оформленных договоров с социальными партнерами","если да = 1",null,1,"да + 1б",{"$f":"IF(G36=1,1,0)","v":1}]
[25,null,"учебно-методическое обеспечение","обеспеченность слушателей учебниками, справочной литературой","полное обеспечение = 1,\nчастичное = 2",null,1,"1 + 2б, \n2 + 1б",{"$f":"IF(G37=1,2,0)+IF(G37=2,1,0)","v":2}]
[26,null,null,"обеспеченность преподавателей методической литературой, программными средствами обучения","полное обеспечение = 1,\nчастичное = 2",null,1,"1 + 2б, \n2 + 1б",{"$f":"IF(G38=1,2,0)+IF(G38=2,1,0)","v":2}]
[27,"Результаты образовательной деятельности","уровень и качество общеобразовательной подготовки слушателей","слушатели, применившие полученную информацию на практике","количество",null,10,"100% + 2б",{"$f":"ROUND(G39/H7*2,1)","v":2}]
[28,null,null,"слушатели, освоившие программу и получившие удостоверение","количество",null,6,"100% + 4б",{"$f":"ROUND(G40/$H$7*4,1)","v":2.4}]
[29,null,null,"слушатели, получившие сертификат","количество",null,4,"100% + 1б",{"$f":"ROUND(G41/H7*1,1)","v":0.4}]
[30,null,"сформированность ключевых компетентностей слушателей","слушатели, имеющие документально подтвержденные достижения по теме Программы:"]
[null,null,null," - на школьном уровне","количество",null,0,"100% + 2б",{"$f":"ROUND(G43/$H$7*2,1)","v":0}]
[null,null,null," - на муниципальном уровне","количество",null,1,"100% + 3б",{"$f":"ROUND(G44/$H$7*3,1)","v":0.3}]
[null,null,null," - на региональном уровне","количество",null,10,"100% + 4б",{"$f":"ROUND(G45/$H$7*4,1)","v":4}]
[null,null,null," - на федеральном  и международном уровнях","количество",null,0,"100% + 5б",{"$f":"ROUND(G46/$H$7*5,1)","v":0}]
[31,null,"уровень обобщения и представления опыта деятельности Центра по теме Программы","публичное представление промежуточных результатов реализации образовательной Программы:"]
[null,null,null," - на школьном уровне","количество",null,0,"за 1 + 0,1б",{"$f":"G48*0.1","v":0}]
[null,null,null," - на муниципальном уровне","количество",null,0,"за 1 + 0,2б",{"$f":"G49*0.2","v":0}]
[null,null,null," - на региональном уровне","количество",null,1,"за 1 + 0,3б",{"$f":"G50*0.3","v":0.3}]
[null,null,null," - на федеральном  и международном уровнях","количество",null,0,"за 1 + 0,5б",{"$f":"G51*0.4","v":0}]
[32,null,null,"организация мероприятий, семинаров различного уровня по теме образовательной Программы:"]
[null,null,null," - на муниципальном уровне","количество",null,0,"за 1 + 0,3б",{"$f":"G53*0.3","v":0}]
[null,null,null," - на региональном уровне","количество",null,1,"за 1 + 0,5б",{"$f":"G54*0.5","v":0.5}]
[null,null,null," - на федеральном  и международном уровнях","количество",null,0,"за 1 + 0,7б",{"$f":"G55*0.7","v":0}]
[33,null,null,"внешкольная экспертная деятельность преподавателей Центра по теме Программы","количество часов",null,0,"за 100ч + 2б",{"$f":"G56*0.02","v":0}]
[34,null,null,"наличие публикаций в методических изданиях по теме Программы","количество страниц А4, интервал 1,5, шрифт 14 ",null,0,"за 24 стр. + 2б",{"$f":"ROUND(G57*2/24,1)","v":0}]
[35,null,null,"количество публикаций в СМИ муниципального и регионального уровня по теме Программы","количество статей",null,0,"за 1 ст. + 0,1б",{"$f":"G58*0.1","v":0}]
[36,null,"уровень организации и степень достижения целей и задач инновационной деятельности","наличие рецензии на образовательную Программу","если да = 1",null,0,"да + 2б",{"$f":"IF(G59=1,2,0)","v":0}]
[37,null,null,"Программа Центра является частью программы развития ОУ","если да = 1",null,1,"да + 1б",{"$f":"IF(G60=1,1,0)","v":1}]
[38,null,null,"Программа Центра является частью муниципальной программы развития","если да = 1",null,1,"да + 2б",{"$f":"IF(G61=1,2,0)","v":2}]
[39,null,null,"наличие общественной экспертизы результатов реализации образовательной Программы","если да = 1",null,1,"да + 1б",{"$f":"IF(G62=1,1,0)","v":1}]
[40,null,null,"публичное представление результатов инновационной деятельности на научно-практических конференциях"]
[null,null,null," - на школьном уровне","если да = 1",null,0,"да + 0,3б",{"$f":"IF(G64=1,0.3,0)","v":0}]
[null,null,null," - на муниципальном уровне","если да = 1",null,0,"да + 0,5б",{"$f":"IF(G65=1,0.5,0)","v":0}]
[null,null,null," - на региональном уровне","если да = 1",null,0,"да + 1б",{"$f":"IF(G66=1,1,0)","v":0}]
[null,null,null," - на федеральном  и международном уровнях","если да = 1",null,0,"да + 2б",{"$f":"IF(G67=1,2,0)","v":0}]
["Общее рейтинговое значение ",null,null,null,null,null,null,null,{"$f":"SUM(I13:I41,I43:I46,I48:I51,I53:I62,I64:I67)","v":44.899999999999991}]

{"sheet":"АР ДДТ","index":19,"n_rows":68,"n_cols":9,"rows_kept":68,"cut":false,"hidden":false,"merged":[[60,4,60,5],[65,4,65,5],[38,1,66,1],[45,4,45,5],[40,4,40,5],[38,4,38,5],[39,4,39,5],[41,3,41,8],[64,4,64,5],[54,4,54,5],[46,3,46,8],[66,4,66,5],[58,2,66,2],[62,3,62,8],[61,4,61,5],[63,4,63,5],[59,4,59,5],[58,4,58,5],[44,4,44,5],[11,2,11,3],[38,2,40,2],[56,4,56,5],[55,4,55,5],[42,4,42,5],[46,2,57,2],[51,3,51,8],[48,4,48,5],[49,4,49,5],[41,2,45,2],[57,4,57,5],[32,4,32,5],[30,4,30,5],[0,3,2,8],[13,4,13,5],[22,2,25,2],[22,1,37,1],[17,4,17,5],[18,4,18,5],[20,4,20,5],[20,2,21,2],[1,0,1,1],[2,0,2,1],[6,0,6,6],[7,0,7,6],[8,0,8,6],[9,0,9,6],[19,4,19,5],[36,4,36,5],[3,0,3,1],[12,4,12,5],[14,4,14,5],[16,4,16,5],[12,2,15,2],[10,0,10,6],[15,4,15,5],[12,1,21,1],[21,4,21,5],[16,2,19,2],[23,4,23,5],[27,4,27,5],[29,4,29,5],[31,4,31,5],[62,0,66,0],[24,4,24,5],[25,4,25,5],[37,4,37,5],[26,2,28,2],[51,0,54,0],[26,4,26,5],[46,0,50,0],[36,2,37,2],[53,4,53,5],[41,0,45,0],[43,4,43,5],[35,4,35,5],[47,4,47,5],[0,0,0,2],[67,0,67,7],[3,3,3,8],[29,2,35,2],[28,4,28,5],[50,4,50,5],[52,4,52,5],[33,4,33,5],[34,4,34,5],[4,0,4,1],[5,0,5,1],[4,3,4,8],[5,3,5,8],[22,4,22,5]]}
["РЕЙТИНГ",null,null,"ОЦЕНОЧНЫЙ ЛИСТ РЕЙТИНГА РЕЗУЛЬТАТИВНОСТИ ОБРАЗОВАТЕЛЬНЫХ ПРОГРАММ ЦЕНТРОВ ГРАЖДАНСКОГО ОБРАЗОВАНИЯ 2012-2013  "]
["первый",null,{"$f":"SUM(I13:I22)","v":15}]
["второй",null,{"$f":"SUM(I23:I38)","v":17.600000000000001}]
["третий",null,{"$f":"SUM(I39:I41,I43:I46,I48:I51,I53:I62,I64:I67)","v":12.67},"МБОУ ДОД ДДТ г.Асино"]
["общее",null,{"$f":"SUM(C2:C4)","v":45.27},"Центр гражданского образования \"Маршрут успеха\""]
[1,null,{"$f":"C5*A6","v":45.27},"Образовательная программа \"Экологический транзит\""]
["Общее количество слушателей образовательной Программы",null,null,null,null,null,null,10,"человек"]
["Количество педагогических работников ",null,null,null,null,null,null,2,"человек"]
["Количество консультантов из числа опытных старшеклассников, выпускников Центра",null,null,null,null,null,null,2,"человек"]
["Количество привлеченных специалистов",null,null,null,null,null,null,2,"человек"]
["Продолжительность образовательной Программы",null,null,null,null,null,null,180,"часов"]
["№","Направ-ление","Критерии",null,"Значение критерия","Единица измерения","Значение в единицах измерения","Система оценки","Рейтинговое значение"]
[1,"Образовательная программа","адаптированность","продолжительность образовательной Программы","количество часов",null,{"$f":"H11","v":180},"18-24 + 1б,\n25-48 + 2б,  \nболее 48 + 3б",{"$f":"IF($G$13>17,1,0)+IF($G$13>24,1,0)+IF($G$13>48,1,0)","v":3}]
[2,null,null,"наличие модулей в образовательной Программе для разновозрастных групп","для обучающихся = 1,\n для обучающихся и взрослых = 2",null,1,"1 + 1б,\n2 + 2б",{"$f":"IF(G14=1,1,0)+IF(G14=2,2,0)","v":1}]
[3,null,null,"наличие в образовательной Программе активных и интерактивных форм обучения","менее 50% занятий = 1,\n более 50% занятий = 2",null,2,"1 + 1б,\n2 + 2б",{"$f":"IF(G15=1,1,0)+IF(G15=2,2,0)","v":2}]
[4,null,null,"преемственность образовательных Программ из года в год","если существует = 1",null,1,"да + 1б",{"$f":"IF(G16=1,1,0)","v":1}]
[5,null,"доступность","наличие модулей, предложенных слушателям на выбор","если 2 модуля = 1,\n3 и более модулей = 2",null,0,"1 + 1б,\n2 + 2б",{"$f":"IF(G17=1,1,0)+IF(G17=2,2,0)","v":0}]
[6,null,null,"проведение мониторинга уровня сформированности ключевых компетентностей","если да = 1",null,1,"да + 3б",{"$f":"IF(G18=1,3,0)","v":3}]
[7,null,null,"программа реализуется в сетевом взаимодействии с другими Центрами","если да = 1",null,0,"да + 2б",{"$f":"IF(G19=1,2,0)","v":0}]
[8,null,null,"доля слушателей, привлеченных из других ОУ","количество",null,10,"100% + 3б",{"$f":"ROUND((G20/H7*3),1)","v":3}]
[9,null,"полнота реализации","Программа реализуется в полном объеме","если да = 1",null,1,"да + 1,5б,\nнет + 1б",{"$f":"IF(G21=1,1.5,1)","v":1.5}]
[10,null,null,"Программа изменилась при лучших условиях","если да = 1",null,1,"да + 0,5б",{"$f":"IF(G22=1,0.5,0)","v":0.5}]
[11,"Организация образовательного процесса","кадровое обеспечение","укомплектованность преподавательского состава в соответствии с Программой","состав полностью укомплектован = 1",null,1,"да + 2б,\nнет + 1б",{"$f":"IF(G23=1,2,1)","v":2}]
[12,null,null,"подготовка преподавателей по теме Программы","количество",null,2,"100% + 2б",{"$f":"ROUND((G24/(H8+H9+H10)*2),1)","v":0.7}]
[13,null,null,"привлечение специалистов из профессионального сообщества","количество",null,{"$f":"H10","v":2},"100% + 2б",{"$f":"ROUND((G25/(H9+H10+H8)*2),1)","v":0.7}]
[14,null,null,"привлечение консультантов из числа обучающихся, выпускников","количество",null,{"$f":"H9","v":2},"100% + 2б",{"$f":"ROUND((G26/(H10+H9+H8)*2),1)","v":0.7}]
[15,null,"материально-техническое обеспечение","наличие достаточной материальной базы для проведения знаний","если да = 1",null,1,"да + 2б,\nнет + 1б",{"$f":"IF(G27=1,2,1)","v":2}]
[16,null,null,"использование материальной базы иных организаций","если да = 1",null,1,"да + 2б",{"$f":"IF(G28=1,2,0)","v":2}]
[17,null,null,"наличие оборудованных рабочих мест для слушателей и преподавателей","если да = 1, \nтолько преподавателей = 2",null,1,"1 + 1б, \n2 + 0,5б",{"$f":"IF(G29=1,1,0)+IF(G29=2,0.5,0)","v":1}]
[18,null,"информационно-технологическое обеспечение","наличие страницы Центра на сайте образовательного учреждения  ","если да = 1",null,1,"да + 1б",{"$f":"IF(G30=1,1,0)","v":1}]
[19,null,null,"регулярность обновления страницы Центра на сайте","более 1 раза в месяц = 1, \nреже = 2",null,1,"1 + 1б, \n2 + 0,5б",{"$f":"IF(G31=1,1,0)+IF(G31=2,0.5,0)","v":1}]
[20,null,null,"использование доступа в интернет преподавателями и слушателями","если да = 1,  только преподавателями = 2",null,1,"1 + 1б, \n2 + 0,5б",{"$f":"IF(G32=1,1,0)+IF(G32=2,0.5,0)","v":1}]
[21,null,null,"наличие методических материалов Центра на сайте ОУ","если да = 1",null,0,"да + 1б",{"$f":"IF(G33=1,1,0)","v":0}]
[22,null,null,"наличие Совета Центра","если да = 1",null,0,"да + 0,5б",{"$f":"IF(G34=1,0.5,0)","v":0}]
[23,null,null,"наличие утвержденного положения о деятельности Центра","если да = 1",null,1,"да + 0,5б",{"$f":"IF(G35=1,0.5,0)","v":0.5}]
[24,null,null,"наличие оформленных договоров с социальными партнерами","если да = 1",null,1,"да + 1б",{"$f":"IF(G36=1,1,0)","v":1}]
[25,null,"учебно-методическое обеспечение","обеспеченность слушателей учебниками, справочной литературой","полное обеспечение = 1,\nчастичное = 2",null,1,"1 + 2б, \n2 + 1б",{"$f":"IF(G37=1,2,0)+IF(G37=2,1,0)","v":2}]
[26,null,null,"обеспеченность преподавателей методической литературой, программными средствами обучения","полное обеспечение = 1,\nчастичное = 2",null,1,"1 + 2б, \n2 + 1б",{"$f":"IF(G38=1,2,0)+IF(G38=2,1,0)","v":2}]
[27,"Результаты образовательной деятельности","уровень и качество общеобразовательной подготовки слушателей","слушатели, применившие полученную информацию на практике","количество",null,10,"100% + 2б",{"$f":"ROUND(G39/H7*2,1)","v":2}]
[28,null,null,"слушатели, освоившие программу и получившие удостоверение","количество",null,0,"100% + 4б",{"$f":"ROUND(G40/$H$7*4,1)","v":0}]
[29,null,null,"слушатели, получившие сертификат","количество",null,8,"100% + 1б",{"$f":"ROUND(G41/H7*1,1)","v":0.8}]
[30,null,"сформированность ключевых компетентностей слушателей","слушатели, имеющие документально подтвержденные достижения по теме Программы:"]
[null,null,null," - на школьном уровне","количество",null,8,"100% + 2б",{"$f":"ROUND(G43/$H$7*2,1)","v":1.6}]
[null,null,null," - на муниципальном уровне","количество",null,8,"100% + 3б",{"$f":"ROUND(G44/$H$7*3,1)","v":2.4}]
[null,null,null," - на региональном уровне","количество",null,4,"100% + 4б",{"$f":"ROUND(G45/$H$7*4,1)","v":1.6}]
[null,null,null," - на федеральном  и международном уровнях","количество",null,null,"100% + 5б",{"$f":"ROUND(G46/$H$7*5,1)","v":0}]
[31,null,"уровень обобщения и представления опыта деятельности Центра по теме Программы","публичное представление промежуточных результатов реализации образовательной Программы:"]
[null,null,null," - на школьном уровне","количество",null,0,"за 1 + 0,1б",{"$f":"G48*0.1","v":0}]
[null,null,null," - на муниципальном уровне","количество",null,0,"за 1 + 0,2б",{"$f":"G49*0.2","v":0}]
[null,null,null," - на региональном уровне","количество",null,3,"за 1 + 0,3б",{"$f":"G50*0.3","v":0.89999999999999991}]
[null,null,null," - на федеральном  и международном уровнях","количество",null,0,"за 1 + 0,5б",{"$f":"G51*0.4","v":0}]
[32,null,null,"организация мероприятий, семинаров различного уровня по теме образовательной Программы:"]
[null,null,null," - на муниципальном уровне","количество",null,2,"за 1 + 0,3б",{"$f":"G53*0.3","v":0.6}]
[null,null,null," - на региональном уровне","количество",null,0,"за 1 + 0,5б",{"$f":"G54*0.5","v":0}]
[null,null,null," - на федеральном  и международном уровнях","количество",null,0,"за 1 + 0,7б",{"$f":"G55*0.7","v":0}]
[33,null,null,"внешкольная экспертная деятельность преподавателей Центра по теме Программы","количество часов",null,3.5,"за 100ч + 2б",{"$f":"G56*0.02","v":7.0000000000000007E-2}]
[34,null,null,"наличие публикаций в методических изданиях по теме Программы","количество страниц А4, интервал 1,5, шрифт 14 ",null,0,"за 24 стр. + 2б",{"$f":"ROUND(G57*2/24,1)","v":0}]
[35,null,null,"количество публикаций в СМИ муниципального и регионального уровня по теме Программы","количество статей",null,2,"за 1 ст. + 0,1б",{"$f":"G58*0.1","v":0.2}]
[36,null,"уровень организации и степень достижения целей и задач инновационной деятельности","наличие рецензии на образовательную Программу","если да = 1",null,0,"да + 2б",{"$f":"IF(G59=1,2,0)","v":0}]
[37,null,null,"Программа Центра является частью программы развития ОУ","если да = 1",null,1,"да + 1б",{"$f":"IF(G60=1,1,0)","v":1}]
[38,null,null,"Программа Центра является частью муниципальной программы развития","если да = 1",null,0,"да + 2б",{"$f":"IF(G61=1,2,0)","v":0}]
[39,null,null,"наличие общественной экспертизы результатов реализации образовательной Программы","если да = 1",null,0,"да + 1б",{"$f":"IF(G62=1,1,0)","v":0}]
[40,null,null,"публичное представление результатов инновационной деятельности на научно-практических конференциях"]
[null,null,null," - на школьном уровне","если да = 1",null,0,"да + 0,3б",{"$f":"IF(G64=1,0.3,0)","v":0}]
[null,null,null," - на муниципальном уровне","если да = 1",null,1,"да + 0,5б",{"$f":"IF(G65=1,0.5,0)","v":0.5}]
[null,null,null," - на региональном уровне","если да = 1",null,1,"да + 1б",{"$f":"IF(G66=1,1,0)","v":1}]
[null,null,null," - на федеральном  и международном уровнях","если да = 1",null,null,"да + 2б",{"$f":"IF(G67=1,2,0)","v":0}]
["Общее рейтинговое значение ",null,null,null,null,null,null,null,{"$f":"SUM(I13:I41,I43:I46,I48:I51,I53:I62,I64:I67)","v":45.269999999999996}]

{"sheet":"БР Выс","index":20,"n_rows":68,"n_cols":10,"rows_kept":68,"cut":false,"hidden":false,"merged":[[0,0,0,2],[67,0,67,7],[3,3,3,8],[29,2,35,2],[28,4,28,5],[50,4,50,5],[52,4,52,5],[33,4,33,5],[23,4,23,5],[27,4,27,5],[29,4,29,5],[31,4,31,5],[35,4,35,5],[4,0,4,1],[5,0,5,1],[4,3,4,8],[5,3,5,8],[22,4,22,5],[62,0,66,0],[24,4,24,5],[25,4,25,5],[37,4,37,5],[26,2,28,2],[51,0,54,0],[26,4,26,5],[46,0,50,0],[36,2,37,2],[53,4,53,5],[34,4,34,5],[47,4,47,5],[41,2,45,2],[57,4,57,5],[0,3,2,8],[13,4,13,5],[22,2,25,2],[22,1,37,1],[17,4,17,5],[18,4,18,5],[20,4,20,5],[20,2,21,2],[1,0,1,1],[2,0,2,1],[3,0,3,1],[12,4,12,5],[14,4,14,5],[16,4,16,5],[12,2,15,2],[10,0,10,6],[41,0,45,0],[6,0,6,6],[7,0,7,6],[8,0,8,6],[9,0,9,6],[19,4,19,5],[36,4,36,5],[43,4,43,5],[44,4,44,5],[11,2,11,3],[15,4,15,5],[12,1,21,1],[21,4,21,5],[16,2,19,2],[32,4,32,5],[30,4,30,5],[38,1,66,1],[45,4,45,5],[40,4,40,5],[38,4,38,5],[39,4,39,5],[41,3,41,8],[64,4,64,5],[54,4,54,5],[38,2,40,2],[56,4,56,5],[55,4,55,5],[42,4,42,5],[46,2,57,2],[51,3,51,8],[46,3,46,8],[66,4,66,5],[48,4,48,5],[49,4,49,5],[58,2,66,2],[62,3,62,8],[61,4,61,5],[63,4,63,5],[59,4,59,5],[58,4,58,5],[60,4,60,5],[65,4,65,5]]}
["РЕЙТИНГ",null,null,"ОЦЕНОЧНЫЙ ЛИСТ РЕЙТИНГА РЕЗУЛЬТАТИВНОСТИ ОБРАЗОВАТЕЛЬНЫХ ПРОГРАММ ЦЕНТРОВ ГРАЖДАНСКОГО ОБРАЗОВАНИЯ 2012-2013  "]
["первый",null,{"$f":"SUM(I13:I22)","v":16}]
["второй",null,{"$f":"SUM(I23:I38)","v":19}]
["третий",null,{"$f":"SUM(I39:I41,I43:I46,I48:I51,I53:I62,I64:I67)","v":18.100000000000001},"МКОУ \"Высокоярская СОШ\" Бакчарского района Томской области"]
["общее",null,{"$f":"SUM(C2:C4)","v":53.1},"ЦГО \"Действие\""]
[1.0900000000000001,null,{"$f":"C5*A6","v":57.879000000000005},"ОП \"Гражданство\""]
["Общее количество слушателей образовательной Программы",null,null,null,null,null,null,65,"человек"]
["Количество педагогических работников ",null,null,null,null,null,null,3,"человек"]
["Количество консультантов из числа опытных старшеклассников, выпускников Центра",null,null,null,null,null,null,2,"человек"]
["Количество привлеченных специалистов",null,null,null,null,null,null,0,"человек","            "]
["Продолжительность образовательной Программы",null,null,null,null,null,null,271,"часов"]
["№","Направ-ление","Критерии",null,"Значение критерия","Единица измерения","Значение в единицах измерения","Система оценки","Рейтинговое значение"]
[1,"Образовательная программа","адаптированность","продолжительность образовательной Программы","количество часов",null,{"$f":"H11","v":271},"18-24 + 1б,\n25-48 + 2б,  \nболее 48 + 3б",{"$f":"IF($G$13>17,1,0)+IF($G$13>24,1,0)+IF($G$13>48,1,0)","v":3}]
[2,null,null,"наличие модулей в образовательной Программе для разновозрастных групп","для обучающихся = 1,\n для обучающихся и взрослых = 2",null,1,"1 + 1б,\n2 + 2б",{"$f":"IF(G14=1,1,0)+IF(G14=2,2,0)","v":1}]
[3,null,null,"наличие в образовательной Программе активных и интерактивных форм обучения","менее 50% занятий = 1,\n более 50% занятий = 2",null,2,"1 + 1б,\n2 + 2б",{"$f":"IF(G15=1,1,0)+IF(G15=2,2,0)","v":2}]
[4,null,null,"преемственность образовательных Программ из года в год","если существует = 1",null,1,"да + 1б",{"$f":"IF(G16=1,1,0)","v":1}]
[5,null,"доступность","наличие модулей, предложенных слушателям на выбор","если 2 модуля = 1,\n3 и более модулей = 2",null,2,"1 + 1б,\n2 + 2б",{"$f":"IF(G17=1,1,0)+IF(G17=2,2,0)","v":2}]
[6,null,null,"проведение мониторинга уровня сформированности ключевых компетентностей","если да = 1",null,1,"да + 3б",{"$f":"IF(G18=1,3,0)","v":3}]
[7,null,null,"программа реализуется в сетевом взаимодействии с другими Центрами","если да = 1",null,1,"да + 2б",{"$f":"IF(G19=1,2,0)","v":2}]
[8,null,null,"доля слушателей, привлеченных из других ОУ","количество",null,0,"100% + 3б",{"$f":"ROUND((G20/H7*3),1)","v":0}]
[9,null,"полнота реализации","Программа реализуется в полном объеме","если да = 1",null,1,"да + 1,5б,\nнет + 1б",{"$f":"IF(G21=1,1.5,1)","v":1.5}]
[10,null,null,"Программа изменилась при лучших условиях","если да = 1",null,1,"да + 0,5б",{"$f":"IF(G22=1,0.5,0)","v":0.5}]
[11,"Организация образовательного процесса","кадровое обеспечение","укомплектованность преподавательского состава в соответствии с Программой","состав полностью укомплектован = 1",null,1,"да + 2б,\nнет + 1б",{"$f":"IF(G23=1,2,1)","v":2}]
[12,null,null,"подготовка преподавателей по теме Программы","количество",null,3,"100% + 2б",{"$f":"ROUND((G24/(H8+H9+H10)*2),1)","v":1.2}]
[13,null,null,"привлечение специалистов из профессионального сообщества","количество",null,{"$f":"H10","v":0},"100% + 2б",{"$f":"ROUND((G25/(H9+H10+H8)*2),1)","v":0}]
[14,null,null,"привлечение консультантов из числа обучающихся, выпускников","количество",null,{"$f":"H9","v":2},"100% + 2б",{"$f":"ROUND((G26/(H10+H9+H8)*2),1)","v":0.8}]
[15,null,"материально-техническое обеспечение","наличие достаточной материальной базы для проведения знаний","если да = 1",null,1,"да + 2б,\nнет + 1б",{"$f":"IF(G27=1,2,1)","v":2}]
[16,null,null,"использование материальной базы иных организаций","если да = 1",null,1,"да + 2б",{"$f":"IF(G28=1,2,0)","v":2}]
[17,null,null,"наличие оборудованных рабочих мест для слушателей и преподавателей","если да = 1, \nтолько преподавателей = 2",null,1,"1 + 1б, \n2 + 0,5б",{"$f":"IF(G29=1,1,0)+IF(G29=2,0.5,0)","v":1}]
[18,null,"информационно-технологическое обеспечение","наличие страницы Центра на сайте образовательного учреждения  ","если да = 1",null,1,"да + 1б",{"$f":"IF(G30=1,1,0)","v":1}]
[19,null,null,"регулярность обновления страницы Центра на сайте","более 1 раза в месяц = 1, \nреже = 2",null,1,"1 + 1б, \n2 + 0,5б",{"$f":"IF(G31=1,1,0)+IF(G31=2,0.5,0)","v":1}]
[20,null,null,"использование доступа в интернет преподавателями и слушателями","если да = 1,  только преподавателями = 2",null,1,"1 + 1б, \n2 + 0,5б",{"$f":"IF(G32=1,1,0)+IF(G32=2,0.5,0)","v":1}]
[21,null,null,"наличие методических материалов Центра на сайте ОУ","если да = 1",null,1,"да + 1б",{"$f":"IF(G33=1,1,0)","v":1}]
[22,null,null,"наличие Совета Центра","если да = 1",null,1,"да + 0,5б",{"$f":"IF(G34=1,0.5,0)","v":0.5}]
[23,null,null,"наличие утвержденного положения о деятельности Центра","если да = 1",null,1,"да + 0,5б",{"$f":"IF(G35=1,0.5,0)","v":0.5}]
[24,null,null,"наличие оформленных договоров с социальными партнерами","если да = 1",null,1,"да + 1б",{"$f":"IF(G36=1,1,0)","v":1}]
[25,null,"учебно-методическое обеспечение","обеспеченность слушателей учебниками, справочной литературой","полное обеспечение = 1,\nчастичное = 2",null,1,"1 + 2б, \n2 + 1б",{"$f":"IF(G37=1,2,0)+IF(G37=2,1,0)","v":2}]
[26,null,null,"обеспеченность преподавателей методической литературой, программными средствами обучения","полное обеспечение = 1,\nчастичное = 2",null,1,"1 + 2б, \n2 + 1б",{"$f":"IF(G38=1,2,0)+IF(G38=2,1,0)","v":2}]
[27,"Результаты образовательной деятельности","уровень и качество общеобразовательной подготовки слушателей","слушатели, применившие полученную информацию на практике","количество",null,65,"100% + 2б",{"$f":"ROUND(G39/H7*2,1)","v":2}]
[28,null,null,"слушатели, освоившие программу и получившие удостоверение","количество",null,16,"100% + 4б",{"$f":"ROUND(G40/$H$7*4,1)","v":1}]
[29,null,null,"слушатели, получившие сертификат","количество",null,49,"100% + 1б",{"$f":"ROUND(G41/H7*1,1)","v":0.8}]
[30,null,"сформированность ключевых компетентностей слушателей","слушатели, имеющие документально подтвержденные достижения по теме Программы:"]
[null,null,null," - на школьном уровне","количество",null,65,"100% + 2б",{"$f":"ROUND(G43/$H$7*2,1)","v":2}]
[null,null,null," - на муниципальном уровне","количество",null,57,"100% + 3б",{"$f":"ROUND(G44/$H$7*3,1)","v":2.6}]
[null,null,null," - на региональном уровне","количество",null,19,"100% + 4б",{"$f":"ROUND(G45/$H$7*4,1)","v":1.2}]
[null,null,null," - на федеральном  и международном уровнях","количество",null,4,"100% + 5б",{"$f":"ROUND(G46/$H$7*5,1)","v":0.3}]
[31,null,"уровень обобщения и представления опыта деятельности Центра по теме Программы","публичное представление промежуточных результатов реализации образовательной Программы:"]
[null,null,null," - на школьном уровне","количество",null,1,"за 1 + 0,1б",{"$f":"G48*0.1","v":0.1}]
[null,null,null," - на муниципальном уровне","количество",null,1,"за 1 + 0,2б",{"$f":"G49*0.2","v":0.2}]
[null,null,null," - на региональном уровне","количество",null,0,"за 1 + 0,3б",{"$f":"G50*0.3","v":0}]
[null,null,null," - на федеральном  и международном уровнях","количество",null,0,"за 1 + 0,5б",{"$f":"G51*0.4","v":0}]
[32,null,null,"организация мероприятий, семинаров различного уровня по теме образовательной Программы:"]
[null,null,null," - на муниципальном уровне","количество",null,null,"за 1 + 0,3б",{"$f":"G53*0.3","v":0}]
[null,null,null," - на региональном уровне","количество",null,2,"за 1 + 0,5б",{"$f":"G54*0.5","v":1}]
[null,null,null," - на федеральном  и международном уровнях","количество",null,0,"за 1 + 0,7б",{"$f":"G55*0.7","v":0}]
[33,null,null,"внешкольная экспертная деятельность преподавателей Центра по теме Программы","количество часов",null,5,"за 100ч + 2б",{"$f":"G56*0.02","v":0.1}]
[34,null,null,"наличие публикаций в методических изданиях по теме Программы","количество страниц А4, интервал 1,5, шрифт 14 ",null,0,"за 24 стр. + 2б",{"$f":"ROUND(G57*2/24,1)","v":0}]
[35,null,null,"количество публикаций в СМИ муниципального и регионального уровня по теме Программы","количество статей",null,3,"за 1 ст. + 0,1б",{"$f":"G58*0.1","v":0.30000000000000004}]
[36,null,"уровень организации и степень достижения целей и задач инновационной деятельности","наличие рецензии на образовательную Программу","если да = 1",null,1,"да + 2б",{"$f":"IF(G59=1,2,0)","v":2}]
[37,null,null,"Программа Центра является частью программы развития ОУ","если да = 1",null,1,"да + 1б",{"$f":"IF(G60=1,1,0)","v":1}]
[38,null,null,"Программа Центра является частью муниципальной программы развития","если да = 1",null,1,"да + 2б",{"$f":"IF(G61=1,2,0)","v":2}]
[39,null,null,"наличие общественной экспертизы результатов реализации образовательной Программы","если да = 1",null,1,"да + 1б",{"$f":"IF(G62=1,1,0)","v":1}]
[40,null,null,"публичное представление результатов инновационной деятельности на научно-практических конференциях"]
[null,null,null," - на школьном уровне","если да = 1",null,0,"да + 0,3б",{"$f":"IF(G64=1,0.3,0)","v":0}]
[null,null,null," - на муниципальном уровне","если да = 1",null,1,"да + 0,5б",{"$f":"IF(G65=1,0.5,0)","v":0.5}]
[null,null,null," - на региональном уровне","если да = 1",null,0,"да + 1б",{"$f":"IF(G66=1,1,0)","v":0}]
[null,null,null," - на федеральном  и международном уровнях","если да = 1",null,0,"да + 2б",{"$f":"IF(G67=1,2,0)","v":0}]
["Общее рейтинговое значение ",null,null,null,null,null,null,null,{"$f":"SUM(I13:I41,I43:I46,I48:I51,I53:I62,I64:I67)","v":53.1}]

{"sheet":"БР Бак","index":21,"n_rows":68,"n_cols":9,"rows_kept":68,"cut":false,"hidden":false,"merged":[[0,0,0,2],[67,0,67,7],[3,3,3,8],[29,2,35,2],[28,4,28,5],[50,4,50,5],[52,4,52,5],[33,4,33,5],[4,0,4,1],[5,0,5,1],[4,3,4,8],[5,3,5,8],[22,4,22,5],[62,0,66,0],[24,4,24,5],[25,4,25,5],[51,0,54,0],[26,4,26,5],[46,0,50,0],[36,2,37,2],[53,4,53,5],[34,4,34,5],[27,4,27,5],[29,4,29,5],[31,4,31,5],[35,4,35,5],[47,4,47,5],[41,2,45,2],[41,0,45,0],[36,4,36,5],[38,2,40,2],[0,3,2,8],[13,4,13,5],[22,2,25,2],[22,1,37,1],[17,4,17,5],[18,4,18,5],[20,4,20,5],[20,2,21,2],[1,0,1,1],[2,0,2,1],[3,0,3,1],[12,4,12,5],[14,4,14,5],[16,4,16,5],[12,2,15,2],[10,0,10,6],[6,0,6,6],[7,0,7,6],[8,0,8,6],[9,0,9,6],[19,4,19,5],[11,2,11,3],[15,4,15,5],[12,1,21,1],[21,4,21,5],[16,2,19,2],[23,4,23,5],[32,4,32,5],[30,4,30,5],[38,1,66,1],[45,4,45,5],[40,4,40,5],[38,4,38,5],[39,4,39,5],[41,3,41,8],[37,4,37,5],[26,2,28,2],[58,2,66,2],[62,3,62,8],[61,4,61,5],[63,4,63,5],[59,4,59,5],[42,4,42,5],[46,2,57,2],[51,3,51,8],[43,4,43,5],[44,4,44,5],[57,4,57,5],[46,3,46,8],[66,4,66,5],[48,4,48,5],[49,4,49,5],[64,4,64,5],[54,4,54,5],[58,4,58,5],[60,4,60,5],[65,4,65,5],[56,4,56,5],[55,4,55,5]]}
["РЕЙТИНГ",null,null,"ОЦЕНОЧНЫЙ ЛИСТ РЕЙТИНГА РЕЗУЛЬТАТИВНОСТИ ОБРАЗОВАТЕЛЬНЫХ ПРОГРАММ ЦЕНТРОВ ГРАЖДАНСКОГО ОБРАЗОВАНИЯ 2012-2013  "]
["первый",null,{"$f":"SUM(I13:I22)","v":4.5}]
["второй",null,{"$f":"SUM(I23:I38)","v":15.8}]
["третий",null,{"$f":"SUM(I39:I41,I43:I46,I48:I51,I53:I62,I64:I67)","v":14.219999999999999},"МБОУ \"Бакчарская СОШ\""]
["общее",null,{"$f":"SUM(C2:C4)","v":34.519999999999996},"Центр гражданского образования \"Искра\""]
[1.04,null,{"$f":"C5*A6","v":35.900799999999997},"Образовательная программа \"Лидер XXI века\""]
["Общее количество слушателей образовательной Программы",null,null,null,null,null,null,15,"человек"]
["Количество педагогических работников ",null,null,null,null,null,null,5,"человек"]
["Количество консультантов из числа опытных старшеклассников, выпускников Центра",null,null,null,null,null,null,3,"человек"]
["Количество привлеченных специалистов",null,null,null,null,null,null,0,"человек"]
["Продолжительность образовательной Программы",null,null,null,null,null,null,46,"часов"]
["№","Направ-ление","Критерии",null,"Значение критерия","Единица измерения","Значение в единицах измерения","Система оценки","Рейтинговое значение"]
[1,"Образовательная программа","адаптированность","продолжительность образовательной Программы","количество часов",null,{"$f":"H11","v":46},"18-24 + 1б,\n25-48 + 2б,  \nболее 48 + 3б",{"$f":"IF($G$13>17,1,0)+IF($G$13>24,1,0)+IF($G$13>48,1,0)","v":2}]
[2,null,null,"наличие модулей в образовательной Программе для разновозрастных групп","для обучающихся = 1,\n для обучающихся и взрослых = 2",null,0,"1 + 1б,\n2 + 2б",{"$f":"IF(G14=1,1,0)+IF(G14=2,2,0)","v":0}]
[3,null,null,"наличие в образовательной Программе активных и интерактивных форм обучения","менее 50% занятий = 1,\n более 50% занятий = 2",null,1,"1 + 1б,\n2 + 2б",{"$f":"IF(G15=1,1,0)+IF(G15=2,2,0)","v":1}]
[4,null,null,"преемственность образовательных Программ из года в год","если существует = 1",null,null,"да + 1б",{"$f":"IF(G16=1,1,0)","v":0}]
[5,null,"доступность","наличие модулей, предложенных слушателям на выбор","если 2 модуля = 1,\n3 и более модулей = 2",null,0,"1 + 1б,\n2 + 2б",{"$f":"IF(G17=1,1,0)+IF(G17=2,2,0)","v":0}]
[6,null,null,"проведение мониторинга уровня сформированности ключевых компетентностей","если да = 1",null,null,"да + 3б",{"$f":"IF(G18=1,3,0)","v":0}]
[7,null,null,"программа реализуется в сетевом взаимодействии с другими Центрами","если да = 1",null,null,"да + 2б",{"$f":"IF(G19=1,2,0)","v":0}]
[8,null,null,"доля слушателей, привлеченных из других ОУ","количество",null,null,"100% + 3б",{"$f":"ROUND((G20/H7*3),1)","v":0}]
[9,null,"полнота реализации","Программа реализуется в полном объеме","если да = 1",null,1,"да + 1,5б,\nнет + 1б",{"$f":"IF(G21=1,1.5,1)","v":1.5}]
[10,null,null,"Программа изменилась при лучших условиях","если да = 1",null,null,"да + 0,5б",{"$f":"IF(G22=1,0.5,0)","v":0}]
[11,"Организация образовательного процесса","кадровое обеспечение","укомплектованность преподавательского состава в соответствии с Программой","состав полностью укомплектован = 1",null,1,"да + 2б,\nнет + 1б",{"$f":"IF(G23=1,2,1)","v":2}]
[12,null,null,"подготовка преподавателей по теме Программы","количество",null,null,"100% + 2б",{"$f":"ROUND((G24/(H8+H9+H10)*2),1)","v":0}]
[13,null,null,"привлечение специалистов из профессионального сообщества","количество",null,{"$f":"H10","v":0},"100% + 2б",{"$f":"ROUND((G25/(H9+H10+H8)*2),1)","v":0}]
[14,null,null,"привлечение консультантов из числа обучающихся, выпускников","количество",null,{"$f":"H9","v":3},"100% + 2б",{"$f":"ROUND((G26/(H10+H9+H8)*2),1)","v":0.8}]
[15,null,"материально-техническое обеспечение","наличие достаточной материальной базы для проведения знаний","если да = 1",null,1,"да + 2б,\nнет + 1б",{"$f":"IF(G27=1,2,1)","v":2}]
[16,null,null,"использование материальной базы иных организаций","если да = 1",null,1,"да + 2б",{"$f":"IF(G28=1,2,0)","v":2}]
[17,null,null,"наличие оборудованных рабочих мест для слушателей и преподавателей","если да = 1, \nтолько преподавателей = 2",null,1,"1 + 1б, \n2 + 0,5б",{"$f":"IF(G29=1,1,0)+IF(G29=2,0.5,0)","v":1}]
[18,null,"информационно-технологическое обеспечение","наличие страницы Центра на сайте образовательного учреждения  ","если да = 1",null,1,"да + 1б",{"$f":"IF(G30=1,1,0)","v":1}]
[19,null,null,"регулярность обновления страницы Центра на сайте","более 1 раза в месяц = 1, \nреже = 2",null,1,"1 + 1б, \n2 + 0,5б",{"$f":"IF(G31=1,1,0)+IF(G31=2,0.5,0)","v":1}]
[20,null,null,"использование доступа в интернет преподавателями и слушателями","если да = 1,  только преподавателями = 2",null,2,"1 + 1б, \n2 + 0,5б",{"$f":"IF(G32=1,1,0)+IF(G32=2,0.5,0)","v":0.5}]
[21,null,null,"наличие методических материалов Центра на сайте ОУ","если да = 1",null,null,"да + 1б",{"$f":"IF(G33=1,1,0)","v":0}]
[22,null,null,"наличие Совета Центра","если да = 1",null,null,"да + 0,5б",{"$f":"IF(G34=1,0.5,0)","v":0}]
[23,null,null,"наличие утвержденного положения о деятельности Центра","если да = 1",null,1,"да + 0,5б",{"$f":"IF(G35=1,0.5,0)","v":0.5}]
[24,null,null,"наличие оформленных договоров с социальными партнерами","если да = 1",null,1,"да + 1б",{"$f":"IF(G36=1,1,0)","v":1}]
[25,null,"учебно-методическое обеспечение","обеспеченность слушателей учебниками, справочной литературой","полное обеспечение = 1,\nчастичное = 2",null,1,"1 + 2б, \n2 + 1б",{"$f":"IF(G37=1,2,0)+IF(G37=2,1,0)","v":2}]
[26,null,null,"обеспеченность преподавателей методической литературой, программными средствами обучения","полное обеспечение = 1,\nчастичное = 2",null,1,"1 + 2б, \n2 + 1б",{"$f":"IF(G38=1,2,0)+IF(G38=2,1,0)","v":2}]
[27,"Результаты образовательной деятельности","уровень и качество общеобразовательной подготовки слушателей","слушатели, применившие полученную информацию на практике","количество",null,15,"100% + 2б",{"$f":"ROUND(G39/H7*2,1)","v":2}]
[28,null,null,"слушатели, освоившие программу и получившие удостоверение","количество",null,11,"100% + 4б",{"$f":"ROUND(G40/$H$7*4,1)","v":2.9}]
[29,null,null,"слушатели, получившие сертификат","количество",null,4,"100% + 1б",{"$f":"ROUND(G41/H7*1,1)","v":0.3}]
[30,null,"сформированность ключевых компетентностей слушателей","слушатели, имеющие документально подтвержденные достижения по теме Программы:"]
[null,null,null," - на школьном уровне","количество",null,15,"100% + 2б",{"$f":"ROUND(G43/$H$7*2,1)","v":2}]
[null,null,null," - на муниципальном уровне","количество",null,11,"100% + 3б",{"$f":"ROUND(G44/$H$7*3,1)","v":2.2000000000000002}]
[null,null,null," - на региональном уровне","количество",null,null,"100% + 4б",{"$f":"ROUND(G45/$H$7*4,1)","v":0}]
[null,null,null," - на федеральном  и международном уровнях","количество",null,null,"100% + 5б",{"$f":"ROUND(G46/$H$7*5,1)","v":0}]
[31,null,"уровень обобщения и представления опыта деятельности Центра по теме Программы","публичное представление промежуточных результатов реализации образовательной Программы:"]
[null,null,null," - на школьном уровне","количество",null,null,"за 1 + 0,1б",{"$f":"G48*0.1","v":0}]
[null,null,null," - на муниципальном уровне","количество",null,5,"за 1 + 0,2б",{"$f":"G49*0.2","v":1}]
[null,null,null," - на региональном уровне","количество",null,2,"за 1 + 0,3б",{"$f":"G50*0.3","v":0.6}]
[null,null,null," - на федеральном  и международном уровнях","количество",null,null,"за 1 + 0,5б",{"$f":"G51*0.4","v":0}]
[32,null,null,"организация мероприятий, семинаров различного уровня по теме образовательной Программы:"]
[null,null,null," - на муниципальном уровне","количество",null,null,"за 1 + 0,3б",{"$f":"G53*0.3","v":0}]
[null,null,null," - на региональном уровне","количество",null,null,"за 1 + 0,5б",{"$f":"G54*0.5","v":0}]
[null,null,null," - на федеральном  и международном уровнях","количество",null,null,"за 1 + 0,7б",{"$f":"G55*0.7","v":0}]
[33,null,null,"внешкольная экспертная деятельность преподавателей Центра по теме Программы","количество часов",null,6,"за 100ч + 2б",{"$f":"G56*0.02","v":0.12}]
[34,null,null,"наличие публикаций в методических изданиях по теме Программы","количество страниц А4, интервал 1,5, шрифт 14 ",null,null,"за 24 стр. + 2б",{"$f":"ROUND(G57*2/24,1)","v":0}]
[35,null,null,"количество публикаций в СМИ муниципального и регионального уровня по теме Программы","количество статей",null,1,"за 1 ст. + 0,1б",{"$f":"G58*0.1","v":0.1}]
[36,null,"уровень организации и степень достижения целей и задач инновационной деятельности","наличие рецензии на образовательную Программу","если да = 1",null,1,"да + 2б",{"$f":"IF(G59=1,2,0)","v":2}]
[37,null,null,"Программа Центра является частью программы развития ОУ","если да = 1",null,1,"да + 1б",{"$f":"IF(G60=1,1,0)","v":1}]
[38,null,null,"Программа Центра является частью муниципальной программы развития","если да = 1",null,null,"да + 2б",{"$f":"IF(G61=1,2,0)","v":0}]
[39,null,null,"наличие общественной экспертизы результатов реализации образовательной Программы","если да = 1",null,null,"да + 1б",{"$f":"IF(G62=1,1,0)","v":0}]
[40,null,null,"публичное представление результатов инновационной деятельности на научно-практических конференциях"]
[null,null,null," - на школьном уровне","если да = 1",null,null,"да + 0,3б",{"$f":"IF(G64=1,0.3,0)","v":0}]
[null,null,null," - на муниципальном уровне","если да = 1",null,null,"да + 0,5б",{"$f":"IF(G65=1,0.5,0)","v":0}]
[null,null,null," - на региональном уровне","если да = 1",null,null,"да + 1б",{"$f":"IF(G66=1,1,0)","v":0}]
[null,null,null," - на федеральном  и международном уровнях","если да = 1",null,null,"да + 2б",{"$f":"IF(G67=1,2,0)","v":0}]
["Общее рейтинговое значение ",null,null,null,null,null,null,null,{"$f":"SUM(I13:I41,I43:I46,I48:I51,I53:I62,I64:I67)","v":34.520000000000003}]

{"sheet":"ЗР Зыр","index":22,"n_rows":68,"n_cols":9,"rows_kept":68,"cut":false,"hidden":false,"merged":[[60,4,60,5],[65,4,65,5],[38,1,66,1],[45,4,45,5],[40,4,40,5],[38,4,38,5],[39,4,39,5],[41,3,41,8],[64,4,64,5],[54,4,54,5],[46,3,46,8],[66,4,66,5],[58,2,66,2],[62,3,62,8],[61,4,61,5],[63,4,63,5],[59,4,59,5],[58,4,58,5],[44,4,44,5],[11,2,11,3],[38,2,40,2],[56,4,56,5],[55,4,55,5],[42,4,42,5],[46,2,57,2],[51,3,51,8],[48,4,48,5],[49,4,49,5],[41,2,45,2],[57,4,57,5],[32,4,32,5],[30,4,30,5],[0,3,2,8],[13,4,13,5],[22,2,25,2],[22,1,37,1],[17,4,17,5],[18,4,18,5],[20,4,20,5],[20,2,21,2],[1,0,1,1],[2,0,2,1],[6,0,6,6],[7,0,7,6],[8,0,8,6],[9,0,9,6],[19,4,19,5],[36,4,36,5],[3,0,3,1],[12,4,12,5],[14,4,14,5],[16,4,16,5],[12,2,15,2],[10,0,10,6],[15,4,15,5],[12,1,21,1],[21,4,21,5],[16,2,19,2],[23,4,23,5],[27,4,27,5],[29,4,29,5],[31,4,31,5],[62,0,66,0],[24,4,24,5],[25,4,25,5],[37,4,37,5],[26,2,28,2],[51,0,54,0],[26,4,26,5],[46,0,50,0],[36,2,37,2],[53,4,53,5],[41,0,45,0],[43,4,43,5],[35,4,35,5],[47,4,47,5],[0,0,0,2],[67,0,67,7],[3,3,3,8],[29,2,35,2],[28,4,28,5],[50,4,50,5],[52,4,52,5],[33,4,33,5],[34,4,34,5],[4,0,4,1],[5,0,5,1],[4,3,4,8],[5,3,5,8],[22,4,22,5]]}
["РЕЙТИНГ",null,null,"ОЦЕНОЧНЫЙ ЛИСТ РЕЙТИНГА РЕЗУЛЬТАТИВНОСТИ ОБРАЗОВАТЕЛЬНЫХ ПРОГРАММ ЦЕНТРОВ ГРАЖДАНСКОГО ОБРАЗОВАНИЯ 2012-2013  "]
["первый",null,{"$f":"SUM(I13:I22)","v":14}]
["второй",null,{"$f":"SUM(I23:I38)","v":18.600000000000001}]
["третий",null,{"$f":"SUM(I39:I41,I43:I46,I48:I51,I53:I62,I64:I67)","v":19.600000000000001},"Сокращенное наименование образовательного учреждения МБОУ \"Зырянская СОШ\""]
["общее",null,{"$f":"SUM(C2:C4)","v":52.2},"Центр гражданского образования \"Социальное проектирование\""]
[1.04,null,{"$f":"C5*A6","v":54.288000000000004},"Образовательная Программа \"Социальное проектирование\""]
["Общее количество слушателей образовательной Программы",null,null,null,null,null,null,26,"человек"]
["Количество педагогических работников ",null,null,null,null,null,null,3,"человек"]
["Количество консультантов из числа опытных старшеклассников, выпускников Центра",null,null,null,null,null,null,5,"человек"]
["Количество привлеченных специалистов",null,null,null,null,null,null,0,"человек"]
["Продолжительность образовательной Программы",null,null,null,null,null,null,68,"часов"]
["№","Направ-ление","Критерии",null,"Значение критерия","Единица измерения","Значение в единицах измерения","Система оценки","Рейтинговое значение"]
[1,"Образовательная программа","адаптированность","продолжительность образовательной Программы","количество часов",null,{"$f":"H11","v":68},"18-24 + 1б,\n25-48 + 2б,  \nболее 48 + 3б",{"$f":"IF($G$13>17,1,0)+IF($G$13>24,1,0)+IF($G$13>48,1,0)","v":3}]
[2,null,null,"наличие модулей в образовательной Программе для разновозрастных групп","для обучающихся = 1,\n для обучающихся и взрослых = 2",null,1,"1 + 1б,\n2 + 2б",{"$f":"IF(G14=1,1,0)+IF(G14=2,2,0)","v":1}]
[3,null,null,"наличие в образовательной Программе активных и интерактивных форм обучения","менее 50% занятий = 1,\n более 50% занятий = 2",null,2,"1 + 1б,\n2 + 2б",{"$f":"IF(G15=1,1,0)+IF(G15=2,2,0)","v":2}]
[4,null,null,"преемственность образовательных Программ из года в год","если существует = 1",null,1,"да + 1б",{"$f":"IF(G16=1,1,0)","v":1}]
[5,null,"доступность","наличие модулей, предложенных слушателям на выбор","если 2 модуля = 1,\n3 и более модулей = 2",null,0,"1 + 1б,\n2 + 2б",{"$f":"IF(G17=1,1,0)+IF(G17=2,2,0)","v":0}]
[6,null,null,"проведение мониторинга уровня сформированности ключевых компетентностей","если да = 1",null,1,"да + 3б",{"$f":"IF(G18=1,3,0)","v":3}]
[7,null,null,"программа реализуется в сетевом взаимодействии с другими Центрами","если да = 1",null,1,"да + 2б",{"$f":"IF(G19=1,2,0)","v":2}]
[8,null,null,"доля слушателей, привлеченных из других ОУ","количество",null,{"$f":"-G211","v":0},"100% + 3б",{"$f":"ROUND((G20/H7*3),1)","v":0}]
[9,null,"полнота реализации","Программа реализуется в полном объеме","если да = 1",null,1,"да + 1,5б,\nнет + 1б",{"$f":"IF(G21=1,1.5,1)","v":1.5}]
[10,null,null,"Программа изменилась при лучших условиях","если да = 1",null,1,"да + 0,5б",{"$f":"IF(G22=1,0.5,0)","v":0.5}]
[11,"Организация образовательного процесса","кадровое обеспечение","укомплектованность преподавательского состава в соответствии с Программой","состав полностью укомплектован = 1",null,1,"да + 2б,\nнет + 1б",{"$f":"IF(G23=1,2,1)","v":2}]
[12,null,null,"подготовка преподавателей по теме Программы","количество",null,1,"100% + 2б",{"$f":"ROUND((G24/(H8+H9+H10)*2),1)","v":0.3}]
[13,null,null,"привлечение специалистов из профессионального сообщества","количество",null,{"$f":"H10","v":0},"100% + 2б",{"$f":"ROUND((G25/(H9+H10+H8)*2),1)","v":0}]
[14,null,null,"привлечение консультантов из числа обучающихся, выпускников","количество",null,{"$f":"H9","v":5},"100% + 2б",{"$f":"ROUND((G26/(H10+H9+H8)*2),1)","v":1.3}]
[15,null,"материально-техническое обеспечение","наличие достаточной материальной базы для проведения знаний","если да = 1",null,1,"да + 2б,\nнет + 1б",{"$f":"IF(G27=1,2,1)","v":2}]
[16,null,null,"использование материальной базы иных организаций","если да = 1",null,1,"да + 2б",{"$f":"IF(G28=1,2,0)","v":2}]
[17,null,null,"наличие оборудованных рабочих мест для слушателей и преподавателей","если да = 1, \nтолько преподавателей = 2",null,1,"1 + 1б, \n2 + 0,5б",{"$f":"IF(G29=1,1,0)+IF(G29=2,0.5,0)","v":1}]
[18,null,"информационно-технологическое обеспечение","наличие страницы Центра на сайте образовательного учреждения  ","если да = 1",null,1,"да + 1б",{"$f":"IF(G30=1,1,0)","v":1}]
[19,null,null,"регулярность обновления страницы Центра на сайте","более 1 раза в месяц = 1, \nреже = 2",null,1,"1 + 1б, \n2 + 0,5б",{"$f":"IF(G31=1,1,0)+IF(G31=2,0.5,0)","v":1}]
[20,null,null,"использование доступа в интернет преподавателями и слушателями","если да = 1,  только преподавателями = 2",null,1,"1 + 1б, \n2 + 0,5б",{"$f":"IF(G32=1,1,0)+IF(G32=2,0.5,0)","v":1}]
[21,null,null,"наличие методических материалов Центра на сайте ОУ","если да = 1",null,1,"да + 1б",{"$f":"IF(G33=1,1,0)","v":1}]
[22,null,null,"наличие Совета Центра","если да = 1",null,1,"да + 0,5б",{"$f":"IF(G34=1,0.5,0)","v":0.5}]
[23,null,null,"наличие утвержденного положения о деятельности Центра","если да = 1",null,1,"да + 0,5б",{"$f":"IF(G35=1,0.5,0)","v":0.5}]
[24,null,null,"наличие оформленных договоров с социальными партнерами","если да = 1",null,1,"да + 1б",{"$f":"IF(G36=1,1,0)","v":1}]
[25,null,"учебно-методическое обеспечение","обеспеченность слушателей учебниками, справочной литературой","полное обеспечение = 1,\nчастичное = 2",null,1,"1 + 2б, \n2 + 1б",{"$f":"IF(G37=1,2,0)+IF(G37=2,1,0)","v":2}]
[26,null,null,"обеспеченность преподавателей методической литературой, программными средствами обучения","полное обеспечение = 1,\nчастичное = 2",null,1,"1 + 2б, \n2 + 1б",{"$f":"IF(G38=1,2,0)+IF(G38=2,1,0)","v":2}]
[27,"Результаты образовательной деятельности","уровень и качество общеобразовательной подготовки слушателей","слушатели, применившие полученную информацию на практике","количество",null,26,"100% + 2б",{"$f":"ROUND(G39/H7*2,1)","v":2}]
[28,null,null,"слушатели, освоившие программу и получившие удостоверение","количество",null,26,"100% + 4б",{"$f":"ROUND(G40/$H$7*4,1)","v":4}]
[29,null,null,"слушатели, получившие сертификат","количество",null,{"$f":"-G4326","v":0},"100% + 1б",{"$f":"ROUND(G41/H7*1,1)","v":0}]
[30,null,"сформированность ключевых компетентностей слушателей","слушатели, имеющие документально подтвержденные достижения по теме Программы:"]
[null,null,null," - на школьном уровне","количество",null,25,"100% + 2б",{"$f":"ROUND(G43/$H$7*2,1)","v":1.9}]
[null,null,null," - на муниципальном уровне","количество",null,26,"100% + 3б",{"$f":"ROUND(G44/$H$7*3,1)","v":3}]
[null,null,null," - на региональном уровне","количество",null,14,"100% + 4б",{"$f":"ROUND(G45/$H$7*4,1)","v":2.2000000000000002}]
[null,null,null," - на федеральном  и международном уровнях","количество",null,{"$f":"-G485","v":0},"100% + 5б",{"$f":"ROUND(G46/$H$7*5,1)","v":0}]
[31,null,"уровень обобщения и представления опыта деятельности Центра по теме Программы","публичное представление промежуточных результатов реализации образовательной Программы:"]
[null,null,null," - на школьном уровне","количество",null,0,"за 1 + 0,1б",{"$f":"G48*0.1","v":0}]
[null,null,null," - на муниципальном уровне","количество",null,1,"за 1 + 0,2б",{"$f":"G49*0.2","v":0.2}]
[null,null,null," - на региональном уровне","количество",null,0,"за 1 + 0,3б",{"$f":"G50*0.3","v":0}]
[null,null,null," - на федеральном  и международном уровнях","количество",null,{"$f":"-G531","v":0},"за 1 + 0,5б",{"$f":"G51*0.4","v":0}]
[32,null,null,"организация мероприятий, семинаров различного уровня по теме образовательной Программы:"]
[null,null,null," - на муниципальном уровне","количество",null,2,"за 1 + 0,3б",{"$f":"G53*0.3","v":0.6}]
[null,null,null," - на региональном уровне","количество",null,0,"за 1 + 0,5б",{"$f":"G54*0.5","v":0}]
[null,null,null," - на федеральном  и международном уровнях","количество",null,0,"за 1 + 0,7б",{"$f":"G55*0.7","v":0}]
[33,null,null,"внешкольная экспертная деятельность преподавателей Центра по теме Программы","количество часов",null,5,"за 100ч + 2б",{"$f":"G56*0.02","v":0.1}]
[34,null,null,"наличие публикаций в методических изданиях по теме Программы","количество страниц А4, интервал 1,5, шрифт 14 ",null,{"$f":"-G5811","v":0},"за 24 стр. + 2б",{"$f":"ROUND(G57*2/24,1)","v":0}]
[35,null,null,"количество публикаций в СМИ муниципального и регионального уровня по теме Программы","количество статей",null,1,"за 1 ст. + 0,1б",{"$f":"G58*0.1","v":0.1}]
[36,null,"уровень организации и степень достижения целей и задач инновационной деятельности","наличие рецензии на образовательную Программу","если да = 1",null,null,"да + 2б",{"$f":"IF(G59=1,2,0)","v":0}]
[37,null,null,"Программа Центра является частью программы развития ОУ","если да = 1",null,1,"да + 1б",{"$f":"IF(G60=1,1,0)","v":1}]
[38,null,null,"Программа Центра является частью муниципальной программы развития","если да = 1",null,1,"да + 2б",{"$f":"IF(G61=1,2,0)","v":2}]
[39,null,null,"наличие общественной экспертизы результатов реализации образовательной Программы","если да = 1",null,1,"да + 1б",{"$f":"IF(G62=1,1,0)","v":1}]
[40,null,null,"публичное представление результатов инновационной деятельности на научно-практических конференциях"]
[null,null,null," - на школьном уровне","если да = 1",null,0,"да + 0,3б",{"$f":"IF(G64=1,0.3,0)","v":0}]
[null,null,null," - на муниципальном уровне","если да = 1",null,1,"да + 0,5б",{"$f":"IF(G65=1,0.5,0)","v":0.5}]
[null,null,null," - на региональном уровне","если да = 1",null,1,"да + 1б",{"$f":"IF(G66=1,1,0)","v":1}]
[null,null,null," - на федеральном  и международном уровнях","если да = 1",null,0,"да + 2б",{"$f":"IF(G67=1,2,0)","v":0}]
["Общее рейтинговое значение ",null,null,null,null,null,null,null,{"$f":"SUM(I13:I41,I43:I46,I48:I51,I53:I62,I64:I67)","v":52.20000000000001}]

{"sheet":"ЗР Зыр Выс","index":23,"n_rows":68,"n_cols":9,"rows_kept":68,"cut":false,"hidden":false,"merged":[[65,4,65,5],[57,4,57,5],[46,3,46,8],[66,4,66,5],[58,2,66,2],[62,3,62,8],[61,4,61,5],[63,4,63,5],[59,4,59,5],[58,4,58,5],[46,2,57,2],[64,4,64,5],[60,4,60,5],[44,4,44,5],[56,4,56,5],[55,4,55,5],[51,3,51,8],[48,4,48,5],[49,4,49,5],[54,4,54,5],[13,4,13,5],[22,2,25,2],[9,0,9,6],[12,4,12,5],[14,4,14,5],[16,4,16,5],[12,2,15,2],[10,0,10,6],[15,4,15,5],[11,2,11,3],[23,4,23,5],[12,1,21,1],[21,4,21,5],[16,2,19,2],[22,1,37,1],[17,4,17,5],[18,4,18,5],[20,4,20,5],[20,2,21,2],[19,4,19,5],[26,4,26,5],[25,4,25,5],[37,4,37,5],[26,2,28,2],[27,4,27,5],[29,4,29,5],[31,4,31,5],[32,4,32,5],[30,4,30,5],[35,4,35,5],[1,0,1,1],[2,0,2,1],[6,0,6,6],[7,0,7,6],[8,0,8,6],[3,0,3,1],[0,3,2,8],[0,0,0,2],[46,0,50,0],[36,2,37,2],[53,4,53,5],[41,0,45,0],[43,4,43,5],[47,4,47,5],[36,4,36,5],[41,2,45,2],[45,4,45,5],[38,4,38,5],[39,4,39,5],[41,3,41,8],[42,4,42,5],[38,2,40,2],[38,1,66,1],[40,4,40,5],[67,0,67,7],[3,3,3,8],[29,2,35,2],[28,4,28,5],[50,4,50,5],[52,4,52,5],[33,4,33,5],[34,4,34,5],[4,0,4,1],[5,0,5,1],[4,3,4,8],[5,3,5,8],[22,4,22,5],[62,0,66,0],[24,4,24,5],[51,0,54,0]]}
["РЕЙТИНГ",null,null,"ОЦЕНОЧНЫЙ ЛИСТ РЕЙТИНГА РЕЗУЛЬТАТИВНОСТИ ОБРАЗОВАТЕЛЬНЫХ ПРОГРАММ ЦЕНТРОВ ГРАЖДАНСКОГО ОБРАЗОВАНИЯ 2012-2013  "]
["первый",null,{"$f":"SUM(I13:I22)","v":12.5}]
["второй",null,{"$f":"SUM(I23:I38)","v":8.8000000000000007}]
["третий",null,{"$f":"SUM(I39:I41,I43:I46,I48:I51,I53:I62,I64:I67)","v":10.9},"МОУ \"Высоковская СОШ\""]
["общее",null,{"$f":"SUM(C2:C4)","v":32.200000000000003},"Центр гражданского образования \"Искорка\""]
[1.17,null,{"$f":"C5*A6","v":37.673999999999999},"Образовательная программа \"Новое поколение\""]
["Общее количество слушателей образовательной Программы",null,null,null,null,null,null,15,"человек"]
["Количество педагогических работников ",null,null,null,null,null,null,3,"человек"]
["Количество консультантов из числа опытных старшеклассников, выпускников Центра",null,null,null,null,null,null,0,"человек"]
["Количество привлеченных специалистов",null,null,null,null,null,null,0,"человек"]
["Продолжительность образовательной Программы",null,null,null,null,null,null,68,"часов"]
["№","Направ-ление","Критерии",null,"Значение критерия","Единица измерения","Значение в единицах измерения","Система оценки","Рейтинговое значение"]
[1,"Образовательная программа","адаптированность","продолжительность образовательной Программы","количество часов",null,{"$f":"H11","v":68},"18-24 + 1б,\n25-48 + 2б,  \nболее 48 + 3б",{"$f":"IF($G$13>17,1,0)+IF($G$13>24,1,0)+IF($G$13>48,1,0)","v":3}]
[2,null,null,"наличие модулей в образовательной Программе для разновозрастных групп","для обучающихся = 1,\n для обучающихся и взрослых = 2",null,1,"1 + 1б,\n2 + 2б",{"$f":"IF(G14=1,1,0)+IF(G14=2,2,0)","v":1}]
[3,null,null,"наличие в образовательной Программе активных и интерактивных форм обучения","менее 50% занятий = 1,\n более 50% занятий = 2",null,1,"1 + 1б,\n2 + 2б",{"$f":"IF(G15=1,1,0)+IF(G15=2,2,0)","v":1}]
[4,null,null,"преемственность образовательных Программ из года в год","если существует = 1",null,1,"да + 1б",{"$f":"IF(G16=1,1,0)","v":1}]
[5,null,"доступность","наличие модулей, предложенных слушателям на выбор","если 2 модуля = 1,\n3 и более модулей = 2",null,0,"1 + 1б,\n2 + 2б",{"$f":"IF(G17=1,1,0)+IF(G17=2,2,0)","v":0}]
[6,null,null,"проведение мониторинга уровня сформированности ключевых компетентностей","если да = 1",null,1,"да + 3б",{"$f":"IF(G18=1,3,0)","v":3}]
[7,null,null,"программа реализуется в сетевом взаимодействии с другими Центрами","если да = 1",null,1,"да + 2б",{"$f":"IF(G19=1,2,0)","v":2}]
[8,null,null,"доля слушателей, привлеченных из других ОУ","количество",null,0,"100% + 3б",{"$f":"ROUND((G20/H7*3),1)","v":0}]
[9,null,"полнота реализации","Программа реализуется в полном объеме","если да = 1",null,1,"да + 1,5б,\nнет + 1б",{"$f":"IF(G21=1,1.5,1)","v":1.5}]
[10,null,null,"Программа изменилась при лучших условиях","если да = 1",null,0,"да + 0,5б",{"$f":"IF(G22=1,0.5,0)","v":0}]
[11,"Организация образовательного процесса","кадровое обеспечение","укомплектованность преподавательского состава в соответствии с Программой","состав полностью укомплектован = 1",null,0,"да + 2б,\nнет + 1б",{"$f":"IF(G23=1,2,1)","v":1}]
[12,null,null,"подготовка преподавателей по теме Программы","количество",null,2,"100% + 2б",{"$f":"ROUND((G24/(H8+H9+H10)*2),1)","v":1.3}]
[13,null,null,"привлечение специалистов из профессионального сообщества","количество",null,{"$f":"H10","v":0},"100% + 2б",{"$f":"ROUND((G25/(H9+H10+H8)*2),1)","v":0}]
[14,null,null,"привлечение консультантов из числа обучающихся, выпускников","количество",null,{"$f":"H9","v":0},"100% + 2б",{"$f":"ROUND((G26/(H10+H9+H8)*2),1)","v":0}]
[15,null,"материально-техническое обеспечение","наличие достаточной материальной базы для проведения знаний","если да = 1",null,0,"да + 2б,\nнет + 1б",{"$f":"IF(G27=1,2,1)","v":1}]
[16,null,null,"использование материальной базы иных организаций","если да = 1",null,1,"да + 2б",{"$f":"IF(G28=1,2,0)","v":2}]
[17,null,null,"наличие оборудованных рабочих мест для слушателей и преподавателей","если да = 1, \nтолько преподавателей = 2",null,1,"1 + 1б, \n2 + 0,5б",{"$f":"IF(G29=1,1,0)+IF(G29=2,0.5,0)","v":1}]
[18,null,"информационно-технологическое обеспечение","наличие страницы Центра на сайте образовательного учреждения  ","если да = 1",null,0,"да + 1б",{"$f":"IF(G30=1,1,0)","v":0}]
[19,null,null,"регулярность обновления страницы Центра на сайте","более 1 раза в месяц = 1, \nреже = 2",null,0,"1 + 1б, \n2 + 0,5б",{"$f":"IF(G31=1,1,0)+IF(G31=2,0.5,0)","v":0}]
[20,null,null,"использование доступа в интернет преподавателями и слушателями","если да = 1,  только преподавателями = 2",null,1,"1 + 1б, \n2 + 0,5б",{"$f":"IF(G32=1,1,0)+IF(G32=2,0.5,0)","v":1}]
[21,null,null,"наличие методических материалов Центра на сайте ОУ","если да = 1",null,0,"да + 1б",{"$f":"IF(G33=1,1,0)","v":0}]
[22,null,null,"наличие Совета Центра","если да = 1",null,0,"да + 0,5б",{"$f":"IF(G34=1,0.5,0)","v":0}]
[23,null,null,"наличие утвержденного положения о деятельности Центра","если да = 1",null,1,"да + 0,5б",{"$f":"IF(G35=1,0.5,0)","v":0.5}]
[24,null,null,"наличие оформленных договоров с социальными партнерами","если да = 1",null,0,"да + 1б",{"$f":"IF(G36=1,1,0)","v":0}]
[25,null,"учебно-методическое обеспечение","обеспеченность слушателей учебниками, справочной литературой","полное обеспечение = 1,\nчастичное = 2",null,0,"1 + 2б, \n2 + 1б",{"$f":"IF(G37=1,2,0)+IF(G37=2,1,0)","v":0}]
[26,null,null,"обеспеченность преподавателей методической литературой, программными средствами обучения","полное обеспечение = 1,\nчастичное = 2",null,2,"1 + 2б, \n2 + 1б",{"$f":"IF(G38=1,2,0)+IF(G38=2,1,0)","v":1}]
[27,"Результаты образовательной деятельности","уровень и качество общеобразовательной подготовки слушателей","слушатели, применившие полученную информацию на практике","количество",null,15,"100% + 2б",{"$f":"ROUND(G39/H7*2,1)","v":2}]
[28,null,null,"слушатели, освоившие программу и получившие удостоверение","количество",null,15,"100% + 4б",{"$f":"ROUND(G40/$H$7*4,1)","v":4}]
[29,null,null,"слушатели, получившие сертификат","количество",null,0,"100% + 1б",{"$f":"ROUND(G41/H7*1,1)","v":0}]
[30,null,"сформированность ключевых компетентностей слушателей","слушатели, имеющие документально подтвержденные достижения по теме Программы:"]
[null,null,null," - на школьном уровне","количество",null,14,"100% + 2б",{"$f":"ROUND(G43/$H$7*2,1)","v":1.9}]
[null,null,null," - на муниципальном уровне","количество",null,3,"100% + 3б",{"$f":"ROUND(G44/$H$7*3,1)","v":0.6}]
[null,null,null," - на региональном уровне","количество",null,2,"100% + 4б",{"$f":"ROUND(G45/$H$7*4,1)","v":0.5}]
[null,null,null," - на федеральном  и международном уровнях","количество",null,3,"100% + 5б",{"$f":"ROUND(G46/$H$7*5,1)","v":1}]
[31,null,"уровень обобщения и представления опыта деятельности Центра по теме Программы","публичное представление промежуточных результатов реализации образовательной Программы:"]
[null,null,null," - на школьном уровне","количество",null,1,"за 1 + 0,1б",{"$f":"G48*0.1","v":0.1}]
[null,null,null," - на муниципальном уровне","количество",null,1,"за 1 + 0,2б",{"$f":"G49*0.2","v":0.2}]
[null,null,null," - на региональном уровне","количество",null,0,"за 1 + 0,3б",{"$f":"G50*0.3","v":0}]
[null,null,null," - на федеральном  и международном уровнях","количество",null,0,"за 1 + 0,5б",{"$f":"G51*0.4","v":0}]
[32,null,null,"организация мероприятий, семинаров различного уровня по теме образовательной Программы:"]
[null,null,null," - на муниципальном уровне","количество",null,1,"за 1 + 0,3б",{"$f":"G53*0.3","v":0.3}]
[null,null,null," - на региональном уровне","количество",null,0,"за 1 + 0,5б",{"$f":"G54*0.5","v":0}]
[null,null,null," - на федеральном  и международном уровнях","количество",null,0,"за 1 + 0,7б",{"$f":"G55*0.7","v":0}]
[33,null,null,"внешкольная экспертная деятельность преподавателей Центра по теме Программы","количество часов",null,0,"за 100ч + 2б",{"$f":"G56*0.02","v":0}]
[34,null,null,"наличие публикаций в методических изданиях по теме Программы","количество страниц А4, интервал 1,5, шрифт 14 ",null,0,"за 24 стр. + 2б",{"$f":"ROUND(G57*2/24,1)","v":0}]
[35,null,null,"количество публикаций в СМИ муниципального и регионального уровня по теме Программы","количество статей",null,0,"за 1 ст. + 0,1б",{"$f":"G58*0.1","v":0}]
[36,null,"уровень организации и степень достижения целей и задач инновационной деятельности","наличие рецензии на образовательную Программу","если да = 1",null,0,"да + 2б",{"$f":"IF(G59=1,2,0)","v":0}]
[37,null,null,"Программа Центра является частью программы развития ОУ","если да = 1",null,0,"да + 1б",{"$f":"IF(G60=1,1,0)","v":0}]
[38,null,null,"Программа Центра является частью муниципальной программы развития","если да = 1",null,0,"да + 2б",{"$f":"IF(G61=1,2,0)","v":0}]
[39,null,null,"наличие общественной экспертизы результатов реализации образовательной Программы","если да = 1",null,0,"да + 1б",{"$f":"IF(G62=1,1,0)","v":0}]
[40,null,null,"публичное представление результатов инновационной деятельности на научно-практических конференциях"]
[null,null,null," - на школьном уровне","если да = 1",null,1,"да + 0,3б",{"$f":"IF(G64=1,0.3,0)","v":0.3}]
[null,null,null," - на муниципальном уровне","если да = 1",null,0,"да + 0,5б",{"$f":"IF(G65=1,0.5,0)","v":0}]
[null,null,null," - на региональном уровне","если да = 1",null,0,"да + 1б",{"$f":"IF(G66=1,1,0)","v":0}]
[null,null,null," - на федеральном  и международном уровнях","если да = 1",null,0,"да + 2б",{"$f":"IF(G67=1,2,0)","v":0}]
["Общее рейтинговое значение ",null,null,null,null,null,null,null,{"$f":"SUM(I13:I41,I43:I46,I48:I51,I53:I62,I64:I67)","v":32.200000000000003}]

{"sheet":" КР Кож №1","index":24,"n_rows":68,"n_cols":9,"rows_kept":68,"cut":false,"hidden":false,"merged":[[60,4,60,5],[65,4,65,5],[38,1,66,1],[45,4,45,5],[40,4,40,5],[38,4,38,5],[39,4,39,5],[41,3,41,8],[64,4,64,5],[54,4,54,5],[46,3,46,8],[66,4,66,5],[58,2,66,2],[62,3,62,8],[61,4,61,5],[63,4,63,5],[59,4,59,5],[58,4,58,5],[44,4,44,5],[11,2,11,3],[38,2,40,2],[56,4,56,5],[55,4,55,5],[42,4,42,5],[46,2,57,2],[51,3,51,8],[48,4,48,5],[49,4,49,5],[41,2,45,2],[57,4,57,5],[32,4,32,5],[30,4,30,5],[0,3,2,8],[13,4,13,5],[22,2,25,2],[22,1,37,1],[17,4,17,5],[18,4,18,5],[20,4,20,5],[20,2,21,2],[1,0,1,1],[2,0,2,1],[6,0,6,6],[7,0,7,6],[8,0,8,6],[9,0,9,6],[19,4,19,5],[36,4,36,5],[3,0,3,1],[12,4,12,5],[14,4,14,5],[16,4,16,5],[12,2,15,2],[10,0,10,6],[15,4,15,5],[12,1,21,1],[21,4,21,5],[16,2,19,2],[23,4,23,5],[27,4,27,5],[29,4,29,5],[31,4,31,5],[62,0,66,0],[24,4,24,5],[25,4,25,5],[37,4,37,5],[26,2,28,2],[51,0,54,0],[26,4,26,5],[46,0,50,0],[36,2,37,2],[53,4,53,5],[41,0,45,0],[43,4,43,5],[35,4,35,5],[47,4,47,5],[0,0,0,2],[67,0,67,7],[3,3,3,8],[29,2,35,2],[28,4,28,5],[50,4,50,5],[52,4,52,5],[33,4,33,5],[34,4,34,5],[4,0,4,1],[5,0,5,1],[4,3,4,8],[5,3,5,8],[22,4,22,5]]}
["РЕЙТИНГ",null,null,"ОЦЕНОЧНЫЙ ЛИСТ РЕЙТИНГА РЕЗУЛЬТАТИВНОСТИ ОБРАЗОВАТЕЛЬНЫХ ПРОГРАММ ЦЕНТРОВ ГРАЖДАНСКОГО ОБРАЗОВАНИЯ 2012-2013  "]
["первый",null,{"$f":"SUM(I13:I22)","v":15.9}]
["второй",null,{"$f":"SUM(I23:I38)","v":19.5}]
["третий",null,{"$f":"SUM(I39:I41,I43:I46,I48:I51,I53:I62,I64:I67)","v":20.880000000000003},"МБОУ \"Кожевниковская СОШ №1\""]
["общее",null,{"$f":"SUM(C2:C4)","v":56.28},"Центр гражданского образования \"Школьная параллель\""]
[1.04,null,{"$f":"C5*A6","v":58.531200000000005},"Образовательная программа\"Первый шаг в политику. Лидерство.\""]
["Общее количество слушателей образовательной Программы",null,null,null,null,null,null,184,"человек"]
["Количество педагогических работников ",null,null,null,null,null,null,5,"человек"]
["Количество консультантов из числа опытных старшеклассников, выпускников Центра",null,null,null,null,null,null,4,"человек"]
["Количество привлеченных специалистов",null,null,null,null,null,null,1,"человек"]
["Продолжительность образовательной Программы",null,null,null,null,null,null,42,"часов"]
["№","Направ-ление","Критерии",null,"Значение критерия","Единица измерения","Значение в единицах измерения","Система оценки","Рейтинговое значение"]
[1,"Образовательная программа","адаптированность","продолжительность образовательной Программы","количество часов",null,{"$f":"H11","v":42},"18-24 + 1б,\n25-48 + 2б,  \nболее 48 + 3б",{"$f":"IF($G$13>17,1,0)+IF($G$13>24,1,0)+IF($G$13>48,1,0)","v":2}]
[2,null,null,"наличие модулей в образовательной Программе для разновозрастных групп","для обучающихся = 1,\n для обучающихся и взрослых = 2",null,2,"1 + 1б,\n2 + 2б",{"$f":"IF(G14=1,1,0)+IF(G14=2,2,0)","v":2}]
[3,null,null,"наличие в образовательной Программе активных и интерактивных форм обучения","менее 50% занятий = 1,\n более 50% занятий = 2",null,2,"1 + 1б,\n2 + 2б",{"$f":"IF(G15=1,1,0)+IF(G15=2,2,0)","v":2}]
[4,null,null,"преемственность образовательных Программ из года в год","если существует = 1",null,1,"да + 1б",{"$f":"IF(G16=1,1,0)","v":1}]
[5,null,"доступность","наличие модулей, предложенных слушателям на выбор","если 2 модуля = 1,\n3 и более модулей = 2",null,1,"1 + 1б,\n2 + 2б",{"$f":"IF(G17=1,1,0)+IF(G17=2,2,0)","v":1}]
[6,null,null,"проведение мониторинга уровня сформированности ключевых компетентностей","если да = 1",null,1,"да + 3б",{"$f":"IF(G18=1,3,0)","v":3}]
[7,null,null,"программа реализуется в сетевом взаимодействии с другими Центрами","если да = 1",null,1,"да + 2б",{"$f":"IF(G19=1,2,0)","v":2}]
[8,null,null,"доля слушателей, привлеченных из других ОУ","количество",null,55,"100% + 3б",{"$f":"ROUND((G20/H7*3),1)","v":0.9}]
[9,null,"полнота реализации","Программа реализуется в полном объеме","если да = 1",null,1,"да + 1,5б,\nнет + 1б",{"$f":"IF(G21=1,1.5,1)","v":1.5}]
[10,null,null,"Программа изменилась при лучших условиях","если да = 1",null,1,"да + 0,5б",{"$f":"IF(G22=1,0.5,0)","v":0.5}]
[11,"Организация образовательного процесса","кадровое обеспечение","укомплектованность преподавательского состава в соответствии с Программой","состав полностью укомплектован = 1",null,1,"да + 2б,\nнет + 1б",{"$f":"IF(G23=1,2,1)","v":2}]
[12,null,null,"подготовка преподавателей по теме Программы","количество",null,5,"100% + 2б",2]
[13,null,null,"привлечение специалистов из профессионального сообщества","количество",null,{"$f":"H10","v":1},"100% + 2б",{"$f":"ROUND((G25/(H9+H10+H8)*2),1)","v":0.2}]
[14,null,null,"привлечение консультантов из числа обучающихся, выпускников","количество",null,{"$f":"H9","v":4},"100% + 2б",{"$f":"ROUND((G26/(H10+H9+H8)*2),1)","v":0.8}]
[15,null,"материально-техническое обеспечение","наличие достаточной материальной базы для проведения знаний","если да = 1",null,1,"да + 2б,\nнет + 1б",{"$f":"IF(G27=1,2,1)","v":2}]
[16,null,null,"использование материальной базы иных организаций","если да = 1",null,1,"да + 2б",{"$f":"IF(G28=1,2,0)","v":2}]
[17,null,null,"наличие оборудованных рабочих мест для слушателей и преподавателей","если да = 1, \nтолько преподавателей = 2",null,1,"1 + 1б, \n2 + 0,5б",{"$f":"IF(G29=1,1,0)+IF(G29=2,0.5,0)","v":1}]
[18,null,"информационно-технологическое обеспечение","наличие страницы Центра на сайте образовательного учреждения  ","если да = 1",null,1,"да + 1б",{"$f":"IF(G30=1,1,0)","v":1}]
[19,null,null,"регулярность обновления страницы Центра на сайте","более 1 раза в месяц = 1, \nреже = 2",null,2,"1 + 1б, \n2 + 0,5б",{"$f":"IF(G31=1,1,0)+IF(G31=2,0.5,0)","v":0.5}]
[20,null,null,"использование доступа в интернет преподавателями и слушателями","если да = 1,  только преподавателями = 2",null,1,"1 + 1б, \n2 + 0,5б",{"$f":"IF(G32=1,1,0)+IF(G32=2,0.5,0)","v":1}]
[21,null,null,"наличие методических материалов Центра на сайте ОУ","если да = 1",null,1,"да + 1б",{"$f":"IF(G33=1,1,0)","v":1}]
[22,null,null,"наличие Совета Центра","если да = 1",null,1,"да + 0,5б",{"$f":"IF(G34=1,0.5,0)","v":0.5}]
[23,null,null,"наличие утвержденного положения о деятельности Центра","если да = 1",null,1,"да + 0,5б",{"$f":"IF(G35=1,0.5,0)","v":0.5}]
[24,null,null,"наличие оформленных договоров с социальными партнерами","если да = 1",null,1,"да + 1б",{"$f":"IF(G36=1,1,0)","v":1}]
[25,null,"учебно-методическое обеспечение","обеспеченность слушателей учебниками, справочной литературой","полное обеспечение = 1,\nчастичное = 2",null,1,"1 + 2б, \n2 + 1б",{"$f":"IF(G37=1,2,0)+IF(G37=2,1,0)","v":2}]
[26,null,null,"обеспеченность преподавателей методической литературой, программными средствами обучения","полное обеспечение = 1,\nчастичное = 2",null,1,"1 + 2б, \n2 + 1б",{"$f":"IF(G38=1,2,0)+IF(G38=2,1,0)","v":2}]
[27,"Результаты образовательной деятельности","уровень и качество общеобразовательной подготовки слушателей","слушатели, применившие полученную информацию на практике","количество",null,184,"100% + 2б",{"$f":"ROUND(G39/H7*2,1)","v":2}]
[28,null,null,"слушатели, освоившие программу и получившие удостоверение","количество",null,90,"100% + 4б",{"$f":"ROUND(G40/$H$7*4,1)","v":2}]
[29,null,null,"слушатели, получившие сертификат","количество",null,94,"100% + 1б",{"$f":"ROUND(G41/H7*1,1)","v":0.5}]
[30,null,"сформированность ключевых компетентностей слушателей","слушатели, имеющие документально подтвержденные достижения по теме Программы:"]
[null,null,null," - на школьном уровне","количество",null,129,"100% + 2б",{"$f":"ROUND(G43/$H$7*2,1)","v":1.4}]
[null,null,null," - на муниципальном уровне","количество",null,23,"100% + 3б",{"$f":"ROUND(G44/$H$7*3,1)","v":0.4}]
[null,null,null," - на региональном уровне","количество",null,93,"100% + 4б",{"$f":"ROUND(G45/$H$7*4,1)","v":2}]
[null,null,null," - на федеральном  и международном уровнях","количество",null,6,"100% + 5б",{"$f":"ROUND(G46/$H$7*5,1)","v":0.2}]
[31,null,"уровень обобщения и представления опыта деятельности Центра по теме Программы","публичное представление промежуточных результатов реализации образовательной Программы:"]
[null,null,null," - на школьном уровне","количество",null,1,"за 1 + 0,1б",{"$f":"G48*0.1","v":0.1}]
[null,null,null," - на муниципальном уровне","количество",null,0,"за 1 + 0,2б",{"$f":"G49*0.2","v":0}]
[null,null,null," - на региональном уровне","количество",null,1,"за 1 + 0,3б",{"$f":"G50*0.3","v":0.3}]
[null,null,null," - на федеральном  и международном уровнях","количество",null,1,"за 1 + 0,5б",{"$f":"G51*0.4","v":0.4}]
[32,null,null,"организация мероприятий, семинаров различного уровня по теме образовательной Программы:"]
[null,null,null," - на муниципальном уровне","количество",null,3,"за 1 + 0,3б",{"$f":"G53*0.3","v":0.89999999999999991}]
[null,null,null," - на региональном уровне","количество",null,4,"за 1 + 0,5б",{"$f":"G54*0.5","v":2}]
[null,null,null," - на федеральном  и международном уровнях","количество",null,0,"за 1 + 0,7б",{"$f":"G55*0.7","v":0}]
[33,null,null,"внешкольная экспертная деятельность преподавателей Центра по теме Программы","количество часов",null,24,"за 100ч + 2б",{"$f":"G56*0.02","v":0.48}]
[34,null,null,"наличие публикаций в методических изданиях по теме Программы","количество страниц А4, интервал 1,5, шрифт 14 ",null,0,"за 24 стр. + 2б",{"$f":"ROUND(G57*2/24,1)","v":0}]
[35,null,null,"количество публикаций в СМИ муниципального и регионального уровня по теме Программы","количество статей",null,2,"за 1 ст. + 0,1б",{"$f":"G58*0.1","v":0.2}]
[36,null,"уровень организации и степень достижения целей и задач инновационной деятельности","наличие рецензии на образовательную Программу","если да = 1",null,1,"да + 2б",{"$f":"IF(G59=1,2,0)","v":2}]
[37,null,null,"Программа Центра является частью программы развития ОУ","если да = 1",null,1,"да + 1б",{"$f":"IF(G60=1,1,0)","v":1}]
[38,null,null,"Программа Центра является частью муниципальной программы развития","если да = 1",null,1,"да + 2б",{"$f":"IF(G61=1,2,0)","v":2}]
[39,null,null,"наличие общественной экспертизы результатов реализации образовательной Программы","если да = 1",null,1,"да + 1б",{"$f":"IF(G62=1,1,0)","v":1}]
[40,null,null,"публичное представление результатов инновационной деятельности на научно-практических конференциях"]
[null,null,null," - на школьном уровне","если да = 1",null,0,"да + 0,3б",{"$f":"IF(G64=1,0.3,0)","v":0}]
[null,null,null," - на муниципальном уровне","если да = 1",null,0,"да + 0,5б",{"$f":"IF(G65=1,0.5,0)","v":0}]
[null,null,null," - на региональном уровне","если да = 1",null,0,"да + 1б",{"$f":"IF(G66=1,1,0)","v":0}]
[null,null,null," - на федеральном  и международном уровнях","если да = 1",null,1,"да + 2б",{"$f":"IF(G67=1,2,0)","v":2}]
["Общее рейтинговое значение ",null,null,null,null,null,null,null,{"$f":"SUM(I13:I41,I43:I46,I48:I51,I53:I62,I64:I67)","v":56.279999999999994}]

{"sheet":"КР Кож №2","index":25,"n_rows":68,"n_cols":9,"rows_kept":68,"cut":false,"hidden":false,"merged":[[66,4,66,5],[58,2,66,2],[62,3,62,8],[61,4,61,5],[63,4,63,5],[59,4,59,5],[60,4,60,5],[65,4,65,5],[64,4,64,5],[58,4,58,5],[55,4,55,5],[42,4,42,5],[46,2,57,2],[51,3,51,8],[48,4,48,5],[43,4,43,5],[44,4,44,5],[41,3,41,8],[49,4,49,5],[30,4,30,5],[38,1,66,1],[45,4,45,5],[40,4,40,5],[38,4,38,5],[39,4,39,5],[41,2,45,2],[32,4,32,5],[34,4,34,5],[54,4,54,5],[38,2,40,2],[57,4,57,5],[46,3,46,8],[56,4,56,5],[6,0,6,6],[7,0,7,6],[8,0,8,6],[9,0,9,6],[19,4,19,5],[11,2,11,3],[10,0,10,6],[15,4,15,5],[12,1,21,1],[21,4,21,5],[16,2,19,2],[17,4,17,5],[13,4,13,5],[14,4,14,5],[16,4,16,5],[18,4,18,5],[20,4,20,5],[20,2,21,2],[12,2,15,2],[51,0,54,0],[26,4,26,5],[46,0,50,0],[36,2,37,2],[53,4,53,5],[27,4,27,5],[29,4,29,5],[22,1,37,1],[22,2,25,2],[22,4,22,5],[23,4,23,5],[41,0,45,0],[36,4,36,5],[0,0,0,2],[4,0,4,1],[5,0,5,1],[4,3,4,8],[5,3,5,8],[1,0,1,1],[2,0,2,1],[3,0,3,1],[0,3,2,8],[67,0,67,7],[3,3,3,8],[29,2,35,2],[28,4,28,5],[50,4,50,5],[52,4,52,5],[33,4,33,5],[31,4,31,5],[35,4,35,5],[47,4,47,5],[62,0,66,0],[24,4,24,5],[25,4,25,5],[37,4,37,5],[26,2,28,2],[12,4,12,5]]}
["РЕЙТИНГ",null,null,"ОЦЕНОЧНЫЙ ЛИСТ РЕЙТИНГА РЕЗУЛЬТАТИВНОСТИ ОБРАЗОВАТЕЛЬНЫХ ПРОГРАММ ЦЕНТРОВ ГРАЖДАНСКОГО ОБРАЗОВАНИЯ 2011-2012  "]
["первый",null,{"$f":"SUM(I13:I22)","v":13.7}]
["второй",null,{"$f":"SUM(I23:I38)","v":17.5}]
["третий",null,{"$f":"SUM(I39:I41,I43:I46,I48:I51,I53:I62,I64:I67)","v":10.82},"МАОУ  \"Кожевниковская СОШ № 2\""]
["общее",null,{"$f":"SUM(C2:C4)","v":42.019999999999996},"ЦГО \"Время перемен\""]
[1.04,null,{"$f":"C5*A6","v":43.700799999999994},"Образовательная программа \"Школа социального проектирования\""]
["Общее количество слушателей образовательной Программы",null,null,null,null,null,null,76,"человек"]
["Количество педагогических работников ",null,null,null,null,null,null,5,"человек"]
["Количество консультантов из числа опытных старшеклассников, выпускников Центра",null,null,null,null,null,null,0,"человек"]
["Количество привлеченных специалистов",null,null,null,null,null,null,1,"человек"]
["Продолжительность образовательной Программы",null,null,null,null,null,null,24,"часов"]
["№","Направ-ление","Критерии",null,"Значение критерия","Единица измерения","Значение в единицах измерения","Система оценки","Рейтинговое значение"]
[1,"Образовательная программа","адаптированность","продолжительность образовательной Программы","количество часов",null,{"$f":"H11","v":24},"18-24 + 1б,\n25-48 + 2б,  \nболее 48 + 3б",{"$f":"IF($G$13>17,1,0)+IF($G$13>24,1,0)+IF($G$13>48,1,0)","v":1}]
[2,null,null,"наличие модулей в образовательной Программе для разновозрастных групп","для обучающихся = 1,\n для обучающихся и взрослых = 2",null,1,"1 + 1б,\n2 + 2б",{"$f":"IF(G14=1,1,0)+IF(G14=2,2,0)","v":1}]
[3,null,null,"наличие в образовательной Программе активных и интерактивных форм обучения","менее 50% занятий = 1,\n более 50% занятий = 2",null,2,"1 + 1б,\n2 + 2б",{"$f":"IF(G15=1,1,0)+IF(G15=2,2,0)","v":2}]
[4,null,null,"преемственность образовательных Программ из года в год","если существует = 1",null,1,"да + 1б",{"$f":"IF(G16=1,1,0)","v":1}]
[5,null,"доступность","наличие модулей, предложенных слушателям на выбор","если 2 модуля = 1,\n3 и более модулей = 2",null,0,"1 + 1б,\n2 + 2б",{"$f":"IF(G17=1,1,0)+IF(G17=2,2,0)","v":0}]
[6,null,null,"проведение мониторинга уровня сформированности ключевых компетентностей","если да = 1",null,1,"да + 3б",{"$f":"IF(G18=1,3,0)","v":3}]
[7,null,null,"программа реализуется в сетевом взаимодействии с другими Центрами","если да = 1",null,1,"да + 2б",{"$f":"IF(G19=1,2,0)","v":2}]
[8,null,null,"доля слушателей, привлеченных из других ОУ","количество",null,44,"100% + 3б",{"$f":"ROUND((G20/H7*3),1)","v":1.7}]
[9,null,"полнота реализации","Программа реализуется в полном объеме","если да = 1",null,1,"да + 1,5б,\nнет + 1б",{"$f":"IF(G21=1,1.5,1)","v":1.5}]
[10,null,null,"Программа изменилась при лучших условиях","если да = 1",null,1,"да + 0,5б",{"$f":"IF(G22=1,0.5,0)","v":0.5}]
[11,"Организация образовательного процесса","кадровое обеспечение","укомплектованность преподавательского состава в соответствии с Программой","состав полностью укомплектован = 1",null,1,"да + 2б,\nнет + 1б",{"$f":"IF(G23=1,2,1)","v":2}]
[12,null,null,"подготовка преподавателей по теме Программы","количество",null,2,"100% + 2б",{"$f":"ROUND((G24/(H8+H9+H10)*2),1)","v":0.7}]
[13,null,null,"привлечение специалистов из профессионального сообщества","количество",null,{"$f":"H10","v":1},"100% + 2б",{"$f":"ROUND((G25/(H9+H10+H8)*2),1)","v":0.3}]
[14,null,null,"привлечение консультантов из числа обучающихся, выпускников","количество",null,{"$f":"H9","v":0},"100% + 2б",{"$f":"ROUND((G26/(H10+H9+H8)*2),1)","v":0}]
[15,null,"материально-техническое обеспечение","наличие достаточной материальной базы для проведения знаний","если да = 1",null,1,"да + 2б,\nнет + 1б",{"$f":"IF(G27=1,2,1)","v":2}]
[16,null,null,"использование материальной базы иных организаций","если да = 1",null,1,"да + 2б",{"$f":"IF(G28=1,2,0)","v":2}]
[17,null,null,"наличие оборудованных рабочих мест для слушателей и преподавателей","если да = 1, \nтолько преподавателей = 2",null,1,"1 + 1б, \n2 + 0,5б",{"$f":"IF(G29=1,1,0)+IF(G29=2,0.5,0)","v":1}]
[18,null,"информационно-технологическое обеспечение","наличие страницы Центра на сайте образовательного учреждения  ","если да = 1",null,1,"да + 1б",{"$f":"IF(G30=1,1,0)","v":1}]
[19,null,null,"регулярность обновления страницы Центра на сайте","более 1 раза в месяц = 1, \nреже = 2",null,2,"1 + 1б, \n2 + 0,5б",{"$f":"IF(G31=1,1,0)+IF(G31=2,0.5,0)","v":0.5}]
[20,null,null,"использование доступа в интернет преподавателями и слушателями","если да = 1,  только преподавателями = 2",null,1,"1 + 1б, \n2 + 0,5б",{"$f":"IF(G32=1,1,0)+IF(G32=2,0.5,0)","v":1}]
[21,null,null,"наличие методических материалов Центра на сайте ОУ","если да = 1",null,1,"да + 1б",{"$f":"IF(G33=1,1,0)","v":1}]
[22,null,null,"наличие Совета Центра","если да = 1",null,1,"да + 0,5б",{"$f":"IF(G34=1,0.5,0)","v":0.5}]
[23,null,null,"наличие утвержденного положения о деятельности Центра","если да = 1",null,1,"да + 0,5б",{"$f":"IF(G35=1,0.5,0)","v":0.5}]
[24,null,null,"наличие оформленных договоров с социальными партнерами","если да = 1",null,1,"да + 1б",{"$f":"IF(G36=1,1,0)","v":1}]
[25,null,"учебно-методическое обеспечение","обеспеченность слушателей учебниками, справочной литературой","полное обеспечение = 1,\nчастичное = 2",null,1,"1 + 2б, \n2 + 1б",{"$f":"IF(G37=1,2,0)+IF(G37=2,1,0)","v":2}]
[26,null,null,"обеспеченность преподавателей методической литературой, программными средствами обучения","полное обеспечение = 1,\nчастичное = 2",null,1,"1 + 2б, \n2 + 1б",{"$f":"IF(G38=1,2,0)+IF(G38=2,1,0)","v":2}]
[27,"Результаты образовательной деятельности","уровень и качество общеобразовательной подготовки слушателей","слушатели, применившие полученную информацию на практике","количество",null,76,"100% + 2б",{"$f":"ROUND(G39/H7*2,1)","v":2}]
[28,null,null,"слушатели, освоившие программу и получившие удостоверение","количество",null,0,"100% + 4б",{"$f":"ROUND(G40/$H$7*4,1)","v":0}]
[29,null,null,"слушатели, получившие сертификат","количество",null,75,"100% + 1б",{"$f":"ROUND(G41/H7*1,1)","v":1}]
[30,null,"сформированность ключевых компетентностей слушателей","слушатели, имеющие документально подтвержденные достижения по теме Программы:"]
[null,null,null," - на школьном уровне","количество",null,32,"100% + 2б",{"$f":"ROUND(G43/$H$7*2,1)","v":0.8}]
[null,null,null," - на муниципальном уровне","количество",null,76,"100% + 3б",{"$f":"ROUND(G44/$H$7*3,1)","v":3}]
[null,null,null," - на региональном уровне","количество",null,11,"100% + 4б",{"$f":"ROUND(G45/$H$7*4,1)","v":0.6}]
[null,null,null," - на федеральном  и международном уровнях","количество",null,4,"100% + 5б",{"$f":"ROUND(G46/$H$7*5,1)","v":0.3}]
[31,null,"уровень обобщения и представления опыта деятельности Центра по теме Программы","публичное представление промежуточных результатов реализации образовательной Программы:"]
[null,null,null," - на школьном уровне","количество",null,0,"за 1 + 0,1б",{"$f":"G48*0.1","v":0}]
[null,null,null," - на муниципальном уровне","количество",null,0,"за 1 + 0,2б",{"$f":"G49*0.2","v":0}]
[null,null,null," - на региональном уровне","количество",null,0,"за 1 + 0,3б",{"$f":"G50*0.3","v":0}]
[null,null,null," - на федеральном  и международном уровнях","количество",null,0,"за 1 + 0,5б",{"$f":"G51*0.4","v":0}]
[32,null,null,"организация мероприятий, семинаров различного уровня по теме образовательной Программы:"]
[null,null,null," - на муниципальном уровне","количество",null,0,"за 1 + 0,3б",{"$f":"G53*0.3","v":0}]
[null,null,null," - на региональном уровне","количество",null,0,"за 1 + 0,5б",{"$f":"G54*0.5","v":0}]
[null,null,null," - на федеральном  и международном уровнях","количество",null,null,"за 1 + 0,7б",{"$f":"G55*0.7","v":0}]
[33,null,null,"внешкольная экспертная деятельность преподавателей Центра по теме Программы","количество часов",null,6,"за 100ч + 2б",{"$f":"G56*0.02","v":0.12}]
[34,null,null,"наличие публикаций в методических изданиях по теме Программы","количество страниц А4, интервал 1,5, шрифт 14 ",null,0,"за 24 стр. + 2б",{"$f":"ROUND(G57*2/24,1)","v":0}]
[35,null,null,"количество публикаций в СМИ муниципального и регионального уровня по теме Программы","количество статей",null,0,"за 1 ст. + 0,1б",{"$f":"G58*0.1","v":0}]
[36,null,"уровень организации и степень достижения целей и задач инновационной деятельности","наличие рецензии на образовательную Программу","если да = 1",null,1,"да + 2б",{"$f":"IF(G59=1,2,0)","v":2}]
[37,null,null,"Программа Центра является частью программы развития ОУ","если да = 1",null,1,"да + 1б",{"$f":"IF(G60=1,1,0)","v":1}]
[38,null,null,"Программа Центра является частью муниципальной программы развития","если да = 1",null,null,"да + 2б",{"$f":"IF(G61=1,2,0)","v":0}]
[39,null,null,"наличие общественной экспертизы результатов реализации образовательной Программы","если да = 1",null,null,"да + 1б",{"$f":"IF(G62=1,1,0)","v":0}]
[40,null,null,"публичное представление результатов инновационной деятельности на научно-практических конференциях"]
[null,null,null," - на школьном уровне","если да = 1",null,0,"да + 0,3б",{"$f":"IF(G64=1,0.3,0)","v":0}]
[null,null,null," - на муниципальном уровне","если да = 1",null,0,"да + 0,5б",{"$f":"IF(G65=1,0.5,0)","v":0}]
[null,null,null," - на региональном уровне","если да = 1",null,0,"да + 1б",{"$f":"IF(G66=1,1,0)","v":0}]
[null,null,null," - на федеральном  и международном уровнях","если да = 1",null,null,"да + 2б",{"$f":"IF(G67=1,2,0)","v":0}]
["Общее рейтинговое значение ",null,null,null,null,null,null,null,{"$f":"SUM(I13:I41,I43:I46,I48:I51,I53:I62,I64:I67)","v":42.019999999999996}]

{"sheet":"КР Вол Крив","index":26,"n_rows":68,"n_cols":9,"rows_kept":68,"cut":false,"hidden":false,"merged":[[0,0,0,2],[67,0,67,7],[3,3,3,8],[29,2,35,2],[28,4,28,5],[50,4,50,5],[52,4,52,5],[33,4,33,5],[23,4,23,5],[27,4,27,5],[29,4,29,5],[31,4,31,5],[35,4,35,5],[4,0,4,1],[5,0,5,1],[4,3,4,8],[5,3,5,8],[22,4,22,5],[62,0,66,0],[24,4,24,5],[25,4,25,5],[37,4,37,5],[26,2,28,2],[51,0,54,0],[26,4,26,5],[46,0,50,0],[36,2,37,2],[53,4,53,5],[34,4,34,5],[47,4,47,5],[41,2,45,2],[57,4,57,5],[0,3,2,8],[13,4,13,5],[22,2,25,2],[22,1,37,1],[17,4,17,5],[18,4,18,5],[20,4,20,5],[20,2,21,2],[1,0,1,1],[2,0,2,1],[3,0,3,1],[12,4,12,5],[14,4,14,5],[16,4,16,5],[12,2,15,2],[10,0,10,6],[41,0,45,0],[6,0,6,6],[7,0,7,6],[8,0,8,6],[9,0,9,6],[19,4,19,5],[36,4,36,5],[43,4,43,5],[44,4,44,5],[11,2,11,3],[15,4,15,5],[12,1,21,1],[21,4,21,5],[16,2,19,2],[32,4,32,5],[30,4,30,5],[38,1,66,1],[45,4,45,5],[40,4,40,5],[38,4,38,5],[39,4,39,5],[41,3,41,8],[64,4,64,5],[54,4,54,5],[38,2,40,2],[56,4,56,5],[55,4,55,5],[42,4,42,5],[46,2,57,2],[51,3,51,8],[46,3,46,8],[66,4,66,5],[48,4,48,5],[49,4,49,5],[58,2,66,2],[62,3,62,8],[61,4,61,5],[63,4,63,5],[59,4,59,5],[58,4,58,5],[60,4,60,5],[65,4,65,5]]}
["РЕЙТИНГ",null,null,"ОЦЕНОЧНЫЙ ЛИСТ РЕЙТИНГА РЕЗУЛЬТАТИВНОСТИ ОБРАЗОВАТЕЛЬНЫХ ПРОГРАММ ЦЕНТРОВ ГРАЖДАНСКОГО ОБРАЗОВАНИЯ 2012-2013  "]
["первый",null,{"$f":"SUM(I13:I22)","v":12}]
["второй",null,{"$f":"SUM(I23:I38)","v":16.899999999999999}]
["третий",null,{"$f":"SUM(I39:I41,I43:I46,I48:I51,I53:I62,I64:I67)","v":13.3},"МБОУ \"Володинская СОШ\""]
["общее",null,{"$f":"SUM(C2:C4)","v":42.2},"ЦГО \"Юный правовед\""]
[1.17,null,{"$f":"C5*A6","v":49.374000000000002},"Образовательная программа \"Права ребёнка\""]
["Общее количество слушателей образовательной Программы",null,null,null,null,null,null,22,"человек"]
["Количество педагогических работников ",null,null,null,null,null,null,2,"человек"]
["Количество консультантов из числа опытных старшеклассников, выпускников Центра",null,null,null,null,null,null,6,"человек"]
["Количество привлеченных специалистов",null,null,null,null,null,null,2,"человек"]
["Продолжительность образовательной Программы",null,null,null,null,null,null,21,"часов"]
["№","Направ-ление","Критерии",null,"Значение критерия","Единица измерения","Значение в единицах измерения","Система оценки","Рейтинговое значение"]
[1,"Образовательная программа","адаптированность","продолжительность образовательной Программы","количество часов",null,{"$f":"H11","v":21},"18-24 + 1б,\n25-48 + 2б,  \nболее 48 + 3б",{"$f":"IF($G$13>17,1,0)+IF($G$13>24,1,0)+IF($G$13>48,1,0)","v":1}]
[2,null,null,"наличие модулей в образовательной Программе для разновозрастных групп","для обучающихся = 1,\n для обучающихся и взрослых = 2",null,1,"1 + 1б,\n2 + 2б",{"$f":"IF(G14=1,1,0)+IF(G14=2,2,0)","v":1}]
[3,null,null,"наличие в образовательной Программе активных и интерактивных форм обучения","менее 50% занятий = 1,\n более 50% занятий = 2",null,2,"1 + 1б,\n2 + 2б",{"$f":"IF(G15=1,1,0)+IF(G15=2,2,0)","v":2}]
[4,null,null,"преемственность образовательных Программ из года в год","если существует = 1",null,1,"да + 1б",{"$f":"IF(G16=1,1,0)","v":1}]
[5,null,"доступность","наличие модулей, предложенных слушателям на выбор","если 2 модуля = 1,\n3 и более модулей = 2",null,0,"1 + 1б,\n2 + 2б",{"$f":"IF(G17=1,1,0)+IF(G17=2,2,0)","v":0}]
[6,null,null,"проведение мониторинга уровня сформированности ключевых компетентностей","если да = 1",null,1,"да + 3б",{"$f":"IF(G18=1,3,0)","v":3}]
[7,null,null,"программа реализуется в сетевом взаимодействии с другими Центрами","если да = 1",null,1,"да + 2б",{"$f":"IF(G19=1,2,0)","v":2}]
[8,null,null,"доля слушателей, привлеченных из других ОУ","количество",null,null,"100% + 3б",{"$f":"ROUND((G20/H7*3),1)","v":0}]
[9,null,"полнота реализации","Программа реализуется в полном объеме","если да = 1",null,1,"да + 1,5б,\nнет + 1б",{"$f":"IF(G21=1,1.5,1)","v":1.5}]
[10,null,null,"Программа изменилась при лучших условиях","если да = 1",null,1,"да + 0,5б",{"$f":"IF(G22=1,0.5,0)","v":0.5}]
[11,"Организация образовательного процесса","кадровое обеспечение","укомплектованность преподавательского состава в соответствии с Программой","состав полностью укомплектован = 1",null,1,"да + 2б,\nнет + 1б",{"$f":"IF(G23=1,2,1)","v":2}]
[12,null,null,"подготовка преподавателей по теме Программы","количество",null,4,"100% + 2б",{"$f":"ROUND((G24/(H8+H9+H10)*2),1)","v":0.8}]
[13,null,null,"привлечение специалистов из профессионального сообщества","количество",null,{"$f":"H10","v":2},"100% + 2б",{"$f":"ROUND((G25/(H9+H10+H8)*2),1)","v":0.4}]
[14,null,null,"привлечение консультантов из числа обучающихся, выпускников","количество",null,{"$f":"H9","v":6},"100% + 2б",{"$f":"ROUND((G26/(H10+H9+H8)*2),1)","v":1.2}]
[15,null,"материально-техническое обеспечение","наличие достаточной материальной базы для проведения знаний","если да = 1",null,1,"да + 2б,\nнет + 1б",{"$f":"IF(G27=1,2,1)","v":2}]
[16,null,null,"использование материальной базы иных организаций","если да = 1",null,1,"да + 2б",{"$f":"IF(G28=1,2,0)","v":2}]
[17,null,null,"наличие оборудованных рабочих мест для слушателей и преподавателей","если да = 1, \nтолько преподавателей = 2",null,1,"1 + 1б, \n2 + 0,5б",{"$f":"IF(G29=1,1,0)+IF(G29=2,0.5,0)","v":1}]
[18,null,"информационно-технологическое обеспечение","наличие страницы Центра на сайте образовательного учреждения  ","если да = 1",null,2,"да + 1б",{"$f":"IF(G30=1,1,0)","v":0}]
[19,null,null,"регулярность обновления страницы Центра на сайте","более 1 раза в месяц = 1, \nреже = 2",null,2,"1 + 1б, \n2 + 0,5б",{"$f":"IF(G31=1,1,0)+IF(G31=2,0.5,0)","v":0.5}]
[20,null,null,"использование доступа в интернет преподавателями и слушателями","если да = 1,  только преподавателями = 2",null,1,"1 + 1б, \n2 + 0,5б",{"$f":"IF(G32=1,1,0)+IF(G32=2,0.5,0)","v":1}]
[21,null,null,"наличие методических материалов Центра на сайте ОУ","если да = 1",null,null,"да + 1б",{"$f":"IF(G33=1,1,0)","v":0}]
[22,null,null,"наличие Совета Центра","если да = 1",null,1,"да + 0,5б",{"$f":"IF(G34=1,0.5,0)","v":0.5}]
[23,null,null,"наличие утвержденного положения о деятельности Центра","если да = 1",null,1,"да + 0,5б",{"$f":"IF(G35=1,0.5,0)","v":0.5}]
[24,null,null,"наличие оформленных договоров с социальными партнерами","если да = 1",null,1,"да + 1б",{"$f":"IF(G36=1,1,0)","v":1}]
[25,null,"учебно-методическое обеспечение","обеспеченность слушателей учебниками, справочной литературой","полное обеспечение = 1,\nчастичное = 2",null,1,"1 + 2б, \n2 + 1б",{"$f":"IF(G37=1,2,0)+IF(G37=2,1,0)","v":2}]
[26,null,null,"обеспеченность преподавателей методической литературой, программными средствами обучения","полное обеспечение = 1,\nчастичное = 2",null,1,"1 + 2б, \n2 + 1б",{"$f":"IF(G38=1,2,0)+IF(G38=2,1,0)","v":2}]
[27,"Результаты образовательной деятельности","уровень и качество общеобразовательной подготовки слушателей","слушатели, применившие полученную информацию на практике","количество",null,22,"100% + 2б",{"$f":"ROUND(G39/H7*2,1)","v":2}]
[28,null,null,"слушатели, освоившие программу и получившие удостоверение","количество",null,null,"100% + 4б",{"$f":"ROUND(G40/$H$7*4,1)","v":0}]
[29,null,null,"слушатели, получившие сертификат","количество",null,22,"100% + 1б",{"$f":"ROUND(G41/H7*1,1)","v":1}]
[30,null,"сформированность ключевых компетентностей слушателей","слушатели, имеющие документально подтвержденные достижения по теме Программы:"]
[null,null,null," - на школьном уровне","количество",null,7,"100% + 2б",{"$f":"ROUND(G43/$H$7*2,1)","v":0.6}]
[null,null,null," - на муниципальном уровне","количество",null,0,"100% + 3б",{"$f":"ROUND(G44/$H$7*3,1)","v":0}]
[null,null,null," - на региональном уровне","количество",null,22,"100% + 4б",{"$f":"ROUND(G45/$H$7*4,1)","v":4}]
[null,null,null," - на федеральном  и международном уровнях","количество",null,null,"100% + 5б",{"$f":"ROUND(G46/$H$7*5,1)","v":0}]
[31,null,"уровень обобщения и представления опыта деятельности Центра по теме Программы","публичное представление промежуточных результатов реализации образовательной Программы:"]
[null,null,null," - на школьном уровне","количество",null,0,"за 1 + 0,1б",{"$f":"G48*0.1","v":0}]
[null,null,null," - на муниципальном уровне","количество",null,1,"за 1 + 0,2б",{"$f":"G49*0.2","v":0.2}]
[null,null,null," - на региональном уровне","количество",null,null,"за 1 + 0,3б",{"$f":"G50*0.3","v":0}]
[null,null,null," - на федеральном  и международном уровнях","количество",null,null,"за 1 + 0,5б",{"$f":"G51*0.4","v":0}]
[32,null,null,"организация мероприятий, семинаров различного уровня по теме образовательной Программы:"]
[null,null,null," - на муниципальном уровне","количество",null,0,"за 1 + 0,3б",{"$f":"G53*0.3","v":0}]
[null,null,null," - на региональном уровне","количество",null,1,"за 1 + 0,5б",{"$f":"G54*0.5","v":0.5}]
[null,null,null," - на федеральном  и международном уровнях","количество",null,null,"за 1 + 0,7б",{"$f":"G55*0.7","v":0}]
[33,null,null,"внешкольная экспертная деятельность преподавателей Центра по теме Программы","количество часов",null,null,"за 100ч + 2б",{"$f":"G56*0.02","v":0}]
[34,null,null,"наличие публикаций в методических изданиях по теме Программы","количество страниц А4, интервал 1,5, шрифт 14 ",null,null,"за 24 стр. + 2б",{"$f":"ROUND(G57*2/24,1)","v":0}]
[35,null,null,"количество публикаций в СМИ муниципального и регионального уровня по теме Программы","количество статей",null,0,"за 1 ст. + 0,1б",{"$f":"G58*0.1","v":0}]
[36,null,"уровень организации и степень достижения целей и задач инновационной деятельности","наличие рецензии на образовательную Программу","если да = 1",null,1,"да + 2б",{"$f":"IF(G59=1,2,0)","v":2}]
[37,null,null,"Программа Центра является частью программы развития ОУ","если да = 1",null,1,"да + 1б",{"$f":"IF(G60=1,1,0)","v":1}]
[38,null,null,"Программа Центра является частью муниципальной программы развития","если да = 1",null,1,"да + 2б",{"$f":"IF(G61=1,2,0)","v":2}]
[39,null,null,"наличие общественной экспертизы результатов реализации образовательной Программы","если да = 1",null,null,"да + 1б",{"$f":"IF(G62=1,1,0)","v":0}]
[40,null,null,"публичное представление результатов инновационной деятельности на научно-практических конференциях"]
[null,null,null," - на школьном уровне","если да = 1",null,null,"да + 0,3б",{"$f":"IF(G64=1,0.3,0)","v":0}]
[null,null,null," - на муниципальном уровне","если да = 1",null,null,"да + 0,5б",{"$f":"IF(G65=1,0.5,0)","v":0}]
[null,null,null," - на региональном уровне","если да = 1",null,null,"да + 1б",{"$f":"IF(G66=1,1,0)","v":0}]
[null,null,null," - на федеральном  и международном уровнях","если да = 1",null,null,"да + 2б",{"$f":"IF(G67=1,2,0)","v":0}]
["Общее рейтинговое значение ",null,null,null,null,null,null,null,{"$f":"SUM(I13:I41,I43:I46,I48:I51,I53:I62,I64:I67)","v":42.2}]

{"sheet":"КР Крив","index":27,"n_rows":68,"n_cols":9,"rows_kept":68,"cut":false,"hidden":false,"merged":[[0,0,0,2],[67,0,67,7],[3,3,3,8],[29,2,35,2],[28,4,28,5],[50,4,50,5],[52,4,52,5],[33,4,33,5],[23,4,23,5],[27,4,27,5],[29,4,29,5],[31,4,31,5],[35,4,35,5],[4,0,4,1],[5,0,5,1],[4,3,4,8],[5,3,5,8],[22,4,22,5],[62,0,66,0],[24,4,24,5],[25,4,25,5],[37,4,37,5],[26,2,28,2],[51,0,54,0],[26,4,26,5],[46,0,50,0],[36,2,37,2],[53,4,53,5],[34,4,34,5],[47,4,47,5],[41,2,45,2],[57,4,57,5],[0,3,2,8],[13,4,13,5],[22,2,25,2],[22,1,37,1],[17,4,17,5],[18,4,18,5],[20,4,20,5],[20,2,21,2],[1,0,1,1],[2,0,2,1],[3,0,3,1],[12,4,12,5],[14,4,14,5],[16,4,16,5],[12,2,15,2],[10,0,10,6],[41,0,45,0],[6,0,6,6],[7,0,7,6],[8,0,8,6],[9,0,9,6],[19,4,19,5],[36,4,36,5],[43,4,43,5],[44,4,44,5],[11,2,11,3],[15,4,15,5],[12,1,21,1],[21,4,21,5],[16,2,19,2],[32,4,32,5],[30,4,30,5],[38,1,66,1],[45,4,45,5],[40,4,40,5],[38,4,38,5],[39,4,39,5],[41,3,41,8],[64,4,64,5],[54,4,54,5],[38,2,40,2],[56,4,56,5],[55,4,55,5],[42,4,42,5],[46,2,57,2],[51,3,51,8],[46,3,46,8],[66,4,66,5],[48,4,48,5],[49,4,49,5],[58,2,66,2],[62,3,62,8],[61,4,61,5],[63,4,63,5],[59,4,59,5],[58,4,58,5],[60,4,60,5],[65,4,65,5]]}
["РЕЙТИНГ",null,null,"ОЦЕНОЧНЫЙ ЛИСТ РЕЙТИНГА РЕЗУЛЬТАТИВНОСТИ ОБРАЗОВАТЕЛЬНЫХ ПРОГРАММ ЦЕНТРОВ ГРАЖДАНСКОГО ОБРАЗОВАНИЯ 2012-2013  "]
["первый",null,{"$f":"SUM(I13:I22)","v":11}]
["второй",null,{"$f":"SUM(I23:I38)","v":16.5}]
["третий",null,{"$f":"SUM(I39:I41,I43:I46,I48:I51,I53:I62,I64:I67)","v":11.1},"МБОУ \"Кривошеинская СОШ\""]
["общее",null,{"$f":"SUM(C2:C4)","v":38.6},"Центр гражданского образования\"Поколение NEXT\""]
[1.04,null,{"$f":"C5*A6","v":40.144000000000005},"Образовательная програма \"Гражданином быть обязан\""]
["Общее количество слушателей образовательной Программы",null,null,null,null,null,null,24,"человек"]
["Количество педагогических работников ",null,null,null,null,null,null,1,"человек"]
["Количество консультантов из числа опытных старшеклассников, выпускников Центра",null,null,null,null,null,null,3,"человек"]
["Количество привлеченных специалистов",null,null,null,null,null,null,0,"человек"]
["Продолжительность образовательной Программы",null,null,null,null,null,null,19,"часов"]
["№","Направ-ление","Критерии",null,"Значение критерия","Единица измерения","Значение в единицах измерения","Система оценки","Рейтинговое значение"]
[1,"Образовательная программа","адаптированность","продолжительность образовательной Программы","количество часов",null,{"$f":"H11","v":19},"18-24 + 1б,\n25-48 + 2б,  \nболее 48 + 3б",{"$f":"IF($G$13>17,1,0)+IF($G$13>24,1,0)+IF($G$13>48,1,0)","v":1}]
[2,null,null,"наличие модулей в образовательной Программе для разновозрастных групп","для обучающихся = 1,\n для обучающихся и взрослых = 2",null,1,"1 + 1б,\n2 + 2б",{"$f":"IF(G14=1,1,0)+IF(G14=2,2,0)","v":1}]
[3,null,null,"наличие в образовательной Программе активных и интерактивных форм обучения","менее 50% занятий = 1,\n более 50% занятий = 2",null,2,"1 + 1б,\n2 + 2б",{"$f":"IF(G15=1,1,0)+IF(G15=2,2,0)","v":2}]
[4,null,null,"преемственность образовательных Программ из года в год","если существует = 1",null,null,"да + 1б",{"$f":"IF(G16=1,1,0)","v":0}]
[5,null,"доступность","наличие модулей, предложенных слушателям на выбор","если 2 модуля = 1,\n3 и более модулей = 2",null,null,"1 + 1б,\n2 + 2б",{"$f":"IF(G17=1,1,0)+IF(G17=2,2,0)","v":0}]
[6,null,null,"проведение мониторинга уровня сформированности ключевых компетентностей","если да = 1",null,1,"да + 3б",{"$f":"IF(G18=1,3,0)","v":3}]
[7,null,null,"программа реализуется в сетевом взаимодействии с другими Центрами","если да = 1",null,1,"да + 2б",{"$f":"IF(G19=1,2,0)","v":2}]
[8,null,null,"доля слушателей, привлеченных из других ОУ","количество",null,0,"100% + 3б",{"$f":"ROUND((G20/H7*3),1)","v":0}]
[9,null,"полнота реализации","Программа реализуется в полном объеме","если да = 1",null,1,"да + 1,5б,\nнет + 1б",{"$f":"IF(G21=1,1.5,1)","v":1.5}]
[10,null,null,"Программа изменилась при лучших условиях","если да = 1",null,1,"да + 0,5б",{"$f":"IF(G22=1,0.5,0)","v":0.5}]
[11,"Организация образовательного процесса","кадровое обеспечение","укомплектованность преподавательского состава в соответствии с Программой","состав полностью укомплектован = 1",null,1,"да + 2б,\nнет + 1б",{"$f":"IF(G23=1,2,1)","v":2}]
[12,null,null,"подготовка преподавателей по теме Программы","количество",null,1,"100% + 2б",{"$f":"ROUND((G24/(H8+H9+H10)*2),1)","v":0.5}]
[13,null,null,"привлечение специалистов из профессионального сообщества","количество",null,{"$f":"H10","v":0},"100% + 2б",{"$f":"ROUND((G25/(H9+H10+H8)*2),1)","v":0}]
[14,null,null,"привлечение консультантов из числа обучающихся, выпускников","количество",null,{"$f":"H9","v":3},"100% + 2б",{"$f":"ROUND((G26/(H10+H9+H8)*2),1)","v":1.5}]
[15,null,"материально-техническое обеспечение","наличие достаточной материальной базы для проведения знаний","если да = 1",null,1,"да + 2б,\nнет + 1б",{"$f":"IF(G27=1,2,1)","v":2}]
[16,null,null,"использование материальной базы иных организаций","если да = 1",null,null,"да + 2б",{"$f":"IF(G28=1,2,0)","v":0}]
[17,null,null,"наличие оборудованных рабочих мест для слушателей и преподавателей","если да = 1, \nтолько преподавателей = 2",null,1,"1 + 1б, \n2 + 0,5б",{"$f":"IF(G29=1,1,0)+IF(G29=2,0.5,0)","v":1}]
[18,null,"информационно-технологическое обеспечение","наличие страницы Центра на сайте образовательного учреждения  ","если да = 1",null,1,"да + 1б",{"$f":"IF(G30=1,1,0)","v":1}]
[19,null,null,"регулярность обновления страницы Центра на сайте","более 1 раза в месяц = 1, \nреже = 2",null,2,"1 + 1б, \n2 + 0,5б",{"$f":"IF(G31=1,1,0)+IF(G31=2,0.5,0)","v":0.5}]
[20,null,null,"использование доступа в интернет преподавателями и слушателями","если да = 1,  только преподавателями = 2",null,1,"1 + 1б, \n2 + 0,5б",{"$f":"IF(G32=1,1,0)+IF(G32=2,0.5,0)","v":1}]
[21,null,null,"наличие методических материалов Центра на сайте ОУ","если да = 1",null,1,"да + 1б",{"$f":"IF(G33=1,1,0)","v":1}]
[22,null,null,"наличие Совета Центра","если да = 1",null,1,"да + 0,5б",{"$f":"IF(G34=1,0.5,0)","v":0.5}]
[23,null,null,"наличие утвержденного положения о деятельности Центра","если да = 1",null,1,"да + 0,5б",{"$f":"IF(G35=1,0.5,0)","v":0.5}]
[24,null,null,"наличие оформленных договоров с социальными партнерами","если да = 1",null,1,"да + 1б",{"$f":"IF(G36=1,1,0)","v":1}]
[25,null,"учебно-методическое обеспечение","обеспеченность слушателей учебниками, справочной литературой","полное обеспечение = 1,\nчастичное = 2",null,1,"1 + 2б, \n2 + 1б",{"$f":"IF(G37=1,2,0)+IF(G37=2,1,0)","v":2}]
[26,null,null,"обеспеченность преподавателей методической литературой, программными средствами обучения","полное обеспечение = 1,\nчастичное = 2",null,1,"1 + 2б, \n2 + 1б",{"$f":"IF(G38=1,2,0)+IF(G38=2,1,0)","v":2}]
[27,"Результаты образовательной деятельности","уровень и качество общеобразовательной подготовки слушателей","слушатели, применившие полученную информацию на практике","количество",null,24,"100% + 2б",{"$f":"ROUND(G39/H7*2,1)","v":2}]
[28,null,null,"слушатели, освоившие программу и получившие удостоверение","количество",null,24,"100% + 4б",{"$f":"ROUND(G40/$H$7*4,1)","v":4}]
[29,null,null,"слушатели, получившие сертификат","количество",null,null,"100% + 1б",{"$f":"ROUND(G41/H7*1,1)","v":0}]
[30,null,"сформированность ключевых компетентностей слушателей","слушатели, имеющие документально подтвержденные достижения по теме Программы:"]
[null,null,null," - на школьном уровне","количество",null,0,"100% + 2б",{"$f":"ROUND(G43/$H$7*2,1)","v":0}]
[null,null,null," - на муниципальном уровне","количество",null,0,"100% + 3б",{"$f":"ROUND(G44/$H$7*3,1)","v":0}]
[null,null,null," - на региональном уровне","количество",null,2,"100% + 4б",{"$f":"ROUND(G45/$H$7*4,1)","v":0.3}]
[null,null,null," - на федеральном  и международном уровнях","количество",null,0,"100% + 5б",{"$f":"ROUND(G46/$H$7*5,1)","v":0}]
[31,null,"уровень обобщения и представления опыта деятельности Центра по теме Программы","публичное представление промежуточных результатов реализации образовательной Программы:"]
[null,null,null," - на школьном уровне","количество",null,null,"за 1 + 0,1б",{"$f":"G48*0.1","v":0}]
[null,null,null," - на муниципальном уровне","количество",null,1,"за 1 + 0,2б",{"$f":"G49*0.2","v":0.2}]
[null,null,null," - на региональном уровне","количество",null,null,"за 1 + 0,3б",{"$f":"G50*0.3","v":0}]
[null,null,null," - на федеральном  и международном уровнях","количество",null,null,"за 1 + 0,5б",{"$f":"G51*0.4","v":0}]
[32,null,null,"организация мероприятий, семинаров различного уровня по теме образовательной Программы:"]
[null,null,null," - на муниципальном уровне","количество",null,0,"за 1 + 0,3б",{"$f":"G53*0.3","v":0}]
[null,null,null," - на региональном уровне","количество",null,1,"за 1 + 0,5б",{"$f":"G54*0.5","v":0.5}]
[null,null,null," - на федеральном  и международном уровнях","количество",null,null,"за 1 + 0,7б",{"$f":"G55*0.7","v":0}]
[33,null,null,"внешкольная экспертная деятельность преподавателей Центра по теме Программы","количество часов",null,null,"за 100ч + 2б",{"$f":"G56*0.02","v":0}]
[34,null,null,"наличие публикаций в методических изданиях по теме Программы","количество страниц А4, интервал 1,5, шрифт 14 ",null,null,"за 24 стр. + 2б",{"$f":"ROUND(G57*2/24,1)","v":0}]
[35,null,null,"количество публикаций в СМИ муниципального и регионального уровня по теме Программы","количество статей",null,1,"за 1 ст. + 0,1б",{"$f":"G58*0.1","v":0.1}]
[36,null,"уровень организации и степень достижения целей и задач инновационной деятельности","наличие рецензии на образовательную Программу","если да = 1",null,null,"да + 2б",{"$f":"IF(G59=1,2,0)","v":0}]
[37,null,null,"Программа Центра является частью программы развития ОУ","если да = 1",null,1,"да + 1б",{"$f":"IF(G60=1,1,0)","v":1}]
[38,null,null,"Программа Центра является частью муниципальной программы развития","если да = 1",null,1,"да + 2б",{"$f":"IF(G61=1,2,0)","v":2}]
[39,null,null,"наличие общественной экспертизы результатов реализации образовательной Программы","если да = 1",null,1,"да + 1б",{"$f":"IF(G62=1,1,0)","v":1}]
[40,null,null,"публичное представление результатов инновационной деятельности на научно-практических конференциях"]
[null,null,null," - на школьном уровне","если да = 1",null,0,"да + 0,3б",{"$f":"IF(G64=1,0.3,0)","v":0}]
[null,null,null," - на муниципальном уровне","если да = 1",null,0,"да + 0,5б",{"$f":"IF(G65=1,0.5,0)","v":0}]
[null,null,null," - на региональном уровне","если да = 1",null,null,"да + 1б",{"$f":"IF(G66=1,1,0)","v":0}]
[null,null,null," - на федеральном  и международном уровнях","если да = 1",null,null,"да + 2б",{"$f":"IF(G67=1,2,0)","v":0}]
["Общее рейтинговое значение ",null,null,null,null,null,null,null,{"$f":"SUM(I13:I41,I43:I46,I48:I51,I53:I62,I64:I67)","v":38.6}]

{"sheet":" МР Мол","index":28,"n_rows":68,"n_cols":9,"rows_kept":68,"cut":false,"hidden":false,"merged":[[0,0,0,2],[67,0,67,7],[3,3,3,8],[29,2,35,2],[28,4,28,5],[50,4,50,5],[52,4,52,5],[33,4,33,5],[23,4,23,5],[27,4,27,5],[29,4,29,5],[31,4,31,5],[35,4,35,5],[4,0,4,1],[5,0,5,1],[4,3,4,8],[5,3,5,8],[22,4,22,5],[62,0,66,0],[24,4,24,5],[25,4,25,5],[37,4,37,5],[26,2,28,2],[51,0,54,0],[26,4,26,5],[46,0,50,0],[36,2,37,2],[53,4,53,5],[34,4,34,5],[47,4,47,5],[41,2,45,2],[57,4,57,5],[0,3,2,8],[13,4,13,5],[22,2,25,2],[22,1,37,1],[17,4,17,5],[18,4,18,5],[20,4,20,5],[20,2,21,2],[1,0,1,1],[2,0,2,1],[3,0,3,1],[12,4,12,5],[14,4,14,5],[16,4,16,5],[12,2,15,2],[10,0,10,6],[41,0,45,0],[6,0,6,6],[7,0,7,6],[8,0,8,6],[9,0,9,6],[19,4,19,5],[36,4,36,5],[43,4,43,5],[44,4,44,5],[11,2,11,3],[15,4,15,5],[12,1,21,1],[21,4,21,5],[16,2,19,2],[32,4,32,5],[30,4,30,5],[38,1,66,1],[45,4,45,5],[40,4,40,5],[38,4,38,5],[39,4,39,5],[41,3,41,8],[64,4,64,5],[54,4,54,5],[38,2,40,2],[56,4,56,5],[55,4,55,5],[42,4,42,5],[46,2,57,2],[51,3,51,8],[46,3,46,8],[66,4,66,5],[48,4,48,5],[49,4,49,5],[58,2,66,2],[62,3,62,8],[61,4,61,5],[63,4,63,5],[59,4,59,5],[58,4,58,5],[60,4,60,5],[65,4,65,5]]}
["РЕЙТИНГ",null,null,"ОЦЕНОЧНЫЙ ЛИСТ РЕЙТИНГА РЕЗУЛЬТАТИВНОСТИ ОБРАЗОВАТЕЛЬНЫХ ПРОГРАММ ЦЕНТРОВ ГРАЖДАНСКОГО ОБРАЗОВАНИЯ 2012-2013  "]
["первый",null,{"$f":"SUM(I13:I22)","v":13}]
["второй",null,{"$f":"SUM(I23:I38)","v":18.2}]
["третий",null,{"$f":"SUM(I39:I41,I43:I46,I48:I51,I53:I62,I64:I67)","v":17.399999999999999},"МАОУ Молчановская СОШ №2"]
["общее",null,{"$f":"SUM(C2:C4)","v":48.599999999999994},"Центр гражданского образования \"Социальное проектирование\""]
[1.04,null,{"$f":"C5*A6","v":50.543999999999997},"Образовательная программа \"Социальное проектирование\""]
["Общее количество слушателей образовательной Программы",null,null,null,null,null,null,21,"человек"]
["Количество педагогических работников ",null,null,null,null,null,null,5,"человек"]
["Количество консультантов из числа опытных старшеклассников, выпускников Центра",null,null,null,null,null,null,5,"человек"]
["Количество привлеченных специалистов",null,null,null,null,null,null,0,"человек"]
["Продолжительность образовательной Программы",null,null,null,null,null,null,36,"часов"]
["№","Направ-ление","Критерии",null,"Значение критерия","Единица измерения","Значение в единицах измерения","Система оценки","Рейтинговое значение"]
[1,"Образовательная программа","адаптированность","продолжительность образовательной Программы","количество часов",null,{"$f":"H11","v":36},"18-24 + 1б,\n25-48 + 2б,  \nболее 48 + 3б",{"$f":"IF($G$13>17,1,0)+IF($G$13>24,1,0)+IF($G$13>48,1,0)","v":2}]
[2,null,null,"наличие модулей в образовательной Программе для разновозрастных групп","для обучающихся = 1,\n для обучающихся и взрослых = 2",null,1,"1 + 1б,\n2 + 2б",{"$f":"IF(G14=1,1,0)+IF(G14=2,2,0)","v":1}]
[3,null,null,"наличие в образовательной Программе активных и интерактивных форм обучения","менее 50% занятий = 1,\n более 50% занятий = 2",null,2,"1 + 1б,\n2 + 2б",{"$f":"IF(G15=1,1,0)+IF(G15=2,2,0)","v":2}]
[4,null,null,"преемственность образовательных Программ из года в год","если существует = 1",null,1,"да + 1б",{"$f":"IF(G16=1,1,0)","v":1}]
[5,null,"доступность","наличие модулей, предложенных слушателям на выбор","если 2 модуля = 1,\n3 и более модулей = 2",null,0,"1 + 1б,\n2 + 2б",{"$f":"IF(G17=1,1,0)+IF(G17=2,2,0)","v":0}]
[6,null,null,"проведение мониторинга уровня сформированности ключевых компетентностей","если да = 1",null,1,"да + 3б",{"$f":"IF(G18=1,3,0)","v":3}]
[7,null,null,"программа реализуется в сетевом взаимодействии с другими Центрами","если да = 1",null,1,"да + 2б",{"$f":"IF(G19=1,2,0)","v":2}]
[8,null,null,"доля слушателей, привлеченных из других ОУ","количество",null,0,"100% + 3б",{"$f":"ROUND((G20/H7*3),1)","v":0}]
[9,null,"полнота реализации","Программа реализуется в полном объеме","если да = 1",null,1,"да + 1,5б,\nнет + 1б",{"$f":"IF(G21=1,1.5,1)","v":1.5}]
[10,null,null,"Программа изменилась при лучших условиях","если да = 1",null,1,"да + 0,5б",{"$f":"IF(G22=1,0.5,0)","v":0.5}]
[11,"Организация образовательного процесса","кадровое обеспечение","укомплектованность преподавательского состава в соответствии с Программой","состав полностью укомплектован = 1",null,1,"да + 2б,\nнет + 1б",{"$f":"IF(G23=1,2,1)","v":2}]
[12,null,null,"подготовка преподавателей по теме Программы","количество",null,1,"100% + 2б",{"$f":"ROUND((G24/(H8+H9+H10)*2),1)","v":0.2}]
[13,null,null,"привлечение специалистов из профессионального сообщества","количество",null,{"$f":"H10","v":0},"100% + 2б",{"$f":"ROUND((G25/(H9+H10+H8)*2),1)","v":0}]
[14,null,null,"привлечение консультантов из числа обучающихся, выпускников","количество",null,{"$f":"H9","v":5},"100% + 2б",{"$f":"ROUND((G26/(H10+H9+H8)*2),1)","v":1}]
[15,null,"материально-техническое обеспечение","наличие достаточной материальной базы для проведения знаний","если да = 1",null,1,"да + 2б,\nнет + 1б",{"$f":"IF(G27=1,2,1)","v":2}]
[16,null,null,"использование материальной базы иных организаций","если да = 1",null,1,"да + 2б",{"$f":"IF(G28=1,2,0)","v":2}]
[17,null,null,"наличие оборудованных рабочих мест для слушателей и преподавателей","если да = 1, \nтолько преподавателей = 2",null,1,"1 + 1б, \n2 + 0,5б",{"$f":"IF(G29=1,1,0)+IF(G29=2,0.5,0)","v":1}]
[18,null,"информационно-технологическое обеспечение","наличие страницы Центра на сайте образовательного учреждения  ","если да = 1",null,1,"да + 1б",{"$f":"IF(G30=1,1,0)","v":1}]
[19,null,null,"регулярность обновления страницы Центра на сайте","более 1 раза в месяц = 1, \nреже = 2",null,1,"1 + 1б, \n2 + 0,5б",{"$f":"IF(G31=1,1,0)+IF(G31=2,0.5,0)","v":1}]
[20,null,null,"использование доступа в интернет преподавателями и слушателями","если да = 1,  только преподавателями = 2",null,1,"1 + 1б, \n2 + 0,5б",{"$f":"IF(G32=1,1,0)+IF(G32=2,0.5,0)","v":1}]
[21,null,null,"наличие методических материалов Центра на сайте ОУ","если да = 1",null,1,"да + 1б",{"$f":"IF(G33=1,1,0)","v":1}]
[22,null,null,"наличие Совета Центра","если да = 1",null,1,"да + 0,5б",{"$f":"IF(G34=1,0.5,0)","v":0.5}]
[23,null,null,"наличие утвержденного положения о деятельности Центра","если да = 1",null,1,"да + 0,5б",{"$f":"IF(G35=1,0.5,0)","v":0.5}]
[24,null,null,"наличие оформленных договоров с социальными партнерами","если да = 1",null,1,"да + 1б",{"$f":"IF(G36=1,1,0)","v":1}]
[25,null,"учебно-методическое обеспечение","обеспеченность слушателей учебниками, справочной литературой","полное обеспечение = 1,\nчастичное = 2",null,1,"1 + 2б, \n2 + 1б",{"$f":"IF(G37=1,2,0)+IF(G37=2,1,0)","v":2}]
[26,null,null,"обеспеченность преподавателей методической литературой, программными средствами обучения","полное обеспечение = 1,\nчастичное = 2",null,1,"1 + 2б, \n2 + 1б",{"$f":"IF(G38=1,2,0)+IF(G38=2,1,0)","v":2}]
[27,"Результаты образовательной деятельности","уровень и качество общеобразовательной подготовки слушателей","слушатели, применившие полученную информацию на практике","количество",null,21,"100% + 2б",{"$f":"ROUND(G39/H7*2,1)","v":2}]
[28,null,null,"слушатели, освоившие программу и получившие удостоверение","количество",null,0,"100% + 4б",{"$f":"ROUND(G40/$H$7*4,1)","v":0}]
[29,null,null,"слушатели, получившие сертификат","количество",null,21,"100% + 1б",{"$f":"ROUND(G41/H7*1,1)","v":1}]
[30,null,"сформированность ключевых компетентностей слушателей","слушатели, имеющие документально подтвержденные достижения по теме Программы:"]
[null,null,null," - на школьном уровне","количество",null,21,"100% + 2б",{"$f":"ROUND(G43/$H$7*2,1)","v":2}]
[null,null,null," - на муниципальном уровне","количество",null,2,"100% + 3б",{"$f":"ROUND(G44/$H$7*3,1)","v":0.3}]
[null,null,null," - на региональном уровне","количество",null,21,"100% + 4б",{"$f":"ROUND(G45/$H$7*4,1)","v":4}]
[null,null,null," - на федеральном  и международном уровнях","количество",null,null,"100% + 5б",{"$f":"ROUND(G46/$H$7*5,1)","v":0}]
[31,null,"уровень обобщения и представления опыта деятельности Центра по теме Программы","публичное представление промежуточных результатов реализации образовательной Программы:"]
[null,null,null," - на школьном уровне","количество",null,1,"за 1 + 0,1б",{"$f":"G48*0.1","v":0.1}]
[null,null,null," - на муниципальном уровне","количество",null,null,"за 1 + 0,2б",{"$f":"G49*0.2","v":0}]
[null,null,null," - на региональном уровне","количество",null,null,"за 1 + 0,3б",{"$f":"G50*0.3","v":0}]
[null,null,null," - на федеральном  и международном уровнях","количество",null,null,"за 1 + 0,5б",{"$f":"G51*0.4","v":0}]
[32,null,null,"организация мероприятий, семинаров различного уровня по теме образовательной Программы:"]
[null,null,null," - на муниципальном уровне","количество",null,1,"за 1 + 0,3б",{"$f":"G53*0.3","v":0.3}]
[null,null,null," - на региональном уровне","количество",null,1,"за 1 + 0,5б",{"$f":"G54*0.5","v":0.5}]
[null,null,null," - на федеральном  и международном уровнях","количество",null,null,"за 1 + 0,7б",{"$f":"G55*0.7","v":0}]
[33,null,null,"внешкольная экспертная деятельность преподавателей Центра по теме Программы","количество часов",null,0,"за 100ч + 2б",{"$f":"G56*0.02","v":0}]
[34,null,null,"наличие публикаций в методических изданиях по теме Программы","количество страниц А4, интервал 1,5, шрифт 14 ",null,null,"за 24 стр. + 2б",{"$f":"ROUND(G57*2/24,1)","v":0}]
[35,null,null,"количество публикаций в СМИ муниципального и регионального уровня по теме Программы","количество статей",null,7,"за 1 ст. + 0,1б",{"$f":"G58*0.1","v":0.70000000000000007}]
[36,null,"уровень организации и степень достижения целей и задач инновационной деятельности","наличие рецензии на образовательную Программу","если да = 1",null,1,"да + 2б",{"$f":"IF(G59=1,2,0)","v":2}]
[37,null,null,"Программа Центра является частью программы развития ОУ","если да = 1",null,1,"да + 1б",{"$f":"IF(G60=1,1,0)","v":1}]
[38,null,null,"Программа Центра является частью муниципальной программы развития","если да = 1",null,1,"да + 2б",{"$f":"IF(G61=1,2,0)","v":2}]
[39,null,null,"наличие общественной экспертизы результатов реализации образовательной Программы","если да = 1",null,1,"да + 1б",{"$f":"IF(G62=1,1,0)","v":1}]
[40,null,null,"публичное представление результатов инновационной деятельности на научно-практических конференциях"]
[null,null,null," - на школьном уровне","если да = 1",null,null,"да + 0,3б",{"$f":"IF(G64=1,0.3,0)","v":0}]
[null,null,null," - на муниципальном уровне","если да = 1",null,1,"да + 0,5б",{"$f":"IF(G65=1,0.5,0)","v":0.5}]
[null,null,null," - на региональном уровне","если да = 1",null,null,"да + 1б",{"$f":"IF(G66=1,1,0)","v":0}]
[null,null,null," - на федеральном  и международном уровнях","если да = 1",null,null,"да + 2б",{"$f":"IF(G67=1,2,0)","v":0}]
["Общее рейтинговое значение ",null,null,null,null,null,null,null,{"$f":"SUM(I13:I41,I43:I46,I48:I51,I53:I62,I64:I67)","v":48.6}]

{"sheet":"ПР Пар. ДДТ","index":29,"n_rows":68,"n_cols":9,"rows_kept":68,"cut":false,"hidden":false,"merged":[[54,4,54,5],[36,4,36,5],[66,4,66,5],[58,2,66,2],[62,3,62,8],[61,4,61,5],[63,4,63,5],[59,4,59,5],[58,4,58,5],[60,4,60,5],[65,4,65,5],[64,4,64,5],[41,2,45,2],[46,2,57,2],[57,4,57,5],[46,3,46,8],[41,0,45,0],[6,0,6,6],[7,0,7,6],[8,0,8,6],[9,0,9,6],[19,4,19,5],[32,4,32,5],[30,4,30,5],[16,2,19,2],[11,2,11,3],[12,1,21,1],[20,2,21,2],[16,4,16,5],[17,4,17,5],[18,4,18,5],[20,4,20,5],[55,4,55,5],[42,4,42,5],[51,3,51,8],[41,3,41,8],[1,0,1,1],[2,0,2,1],[3,0,3,1],[12,4,12,5],[14,4,14,5],[12,2,15,2],[10,0,10,6],[15,4,15,5],[0,3,2,8],[13,4,13,5],[27,4,27,5],[21,4,21,5],[62,0,66,0],[24,4,24,5],[25,4,25,5],[37,4,37,5],[26,2,28,2],[51,0,54,0],[26,4,26,5],[46,0,50,0],[44,4,44,5],[43,4,43,5],[38,1,66,1],[45,4,45,5],[22,2,25,2],[22,1,37,1],[38,2,40,2],[56,4,56,5],[0,0,0,2],[67,0,67,7],[3,3,3,8],[29,2,35,2],[28,4,28,5],[50,4,50,5],[36,2,37,2],[53,4,53,5],[34,4,34,5],[4,0,4,1],[48,4,48,5],[5,0,5,1],[4,3,4,8],[5,3,5,8],[22,4,22,5],[23,4,23,5],[52,4,52,5],[33,4,33,5],[29,4,29,5],[31,4,31,5],[35,4,35,5],[47,4,47,5],[49,4,49,5],[40,4,40,5],[38,4,38,5],[39,4,39,5]]}
["РЕЙТИНГ",null,null,"ОЦЕНОЧНЫЙ ЛИСТ РЕЙТИНГА РЕЗУЛЬТАТИВНОСТИ ОБРАЗОВАТЕЛЬНЫХ ПРОГРАММ ЦЕНТРОВ ГРАЖДАНСКОГО ОБРАЗОВАНИЯ 2009-2010  "]
["первый",null,{"$f":"SUM(I13:I22)","v":8.5}]
["второй",null,{"$f":"SUM(I23:I38)","v":14.3}]
["третий",null,{"$f":"SUM(I39:I41,I43:I46,I48:I51,I53:I62,I64:I67)","v":4},"МБОУ ДОД ДДТ Парабельского района"]
["общее",null,{"$f":"SUM(C2:C4)","v":26.8},"\"Новая формация\""]
[1,null,{"$f":"C5*A6","v":26.8},"\"Точки соприкосновения\""]
["Общее количество слушателей образовательной Программы",null,null,null,null,null,null,17,"человек"]
["Количество педагогических работников ",null,null,null,null,null,null,1,"человек"]
["Количество консультантов из числа опытных старшеклассников, выпускников Центра",null,null,null,null,null,null,0,"человек"]
["Количество привлеченных специалистов",null,null,null,null,null,null,9,"человек"]
["Продолжительность образовательной Программы",null,null,null,null,null,null,68,"часов"]
["№","Направ-ление","Критерии",null,"Значение критерия","Единица измерения","Значение в единицах измерения","Система оценки","Рейтинговое значение"]
[1,"Образовательная программа","адаптированность","продолжительность образовательной Программы","количество часов",null,{"$f":"H11","v":68},"18-24 + 1б,\n25-48 + 2б,  \nболее 48 + 3б",{"$f":"IF($G$13>17,1,0)+IF($G$13>24,1,0)+IF($G$13>48,1,0)","v":3}]
[2,null,null,"наличие модулей в образовательной Программе для разновозрастных групп","для обучающихся = 1,\n для обучающихся и взрослых = 2",null,0,"1 + 1б,\n2 + 2б",{"$f":"IF(G14=1,1,0)+IF(G14=2,2,0)","v":0}]
[3,null,null,"наличие в образовательной Программе активных и интерактивных форм обучения","менее 50% занятий = 1,\n более 50% занятий = 2",null,1,"1 + 1б,\n2 + 2б",{"$f":"IF(G15=1,1,0)+IF(G15=2,2,0)","v":1}]
[4,null,null,"преемственность образовательных Программ из года в год","если существует = 1",null,null,"да + 1б",{"$f":"IF(G16=1,1,0)","v":0}]
[5,null,"доступность","наличие модулей, предложенных слушателям на выбор","если 2 модуля = 1,\n3 и более модулей = 2",null,null,"1 + 1б,\n2 + 2б",{"$f":"IF(G17=1,1,0)+IF(G17=2,2,0)","v":0}]
[6,null,null,"проведение мониторинга уровня сформированности ключевых компетентностей","если да = 1",null,null,"да + 3б",{"$f":"IF(G18=1,3,0)","v":0}]
[7,null,null,"программа реализуется в сетевом взаимодействии с другими Центрами","если да = 1",null,null,"да + 2б",{"$f":"IF(G19=1,2,0)","v":0}]
[8,null,null,"доля слушателей, привлеченных из других ОУ","количество",null,17,"100% + 3б",{"$f":"ROUND((G20/H7*3),1)","v":3}]
[9,null,"полнота реализации","Программа реализуется в полном объеме","если да = 1",null,1,"да + 1,5б,\nнет + 1б",{"$f":"IF(G21=1,1.5,1)","v":1.5}]
[10,null,null,"Программа изменилась при лучших условиях","если да = 1",null,null,"да + 0,5б",{"$f":"IF(G22=1,0.5,0)","v":0}]
[11,"Организация образовательного процесса","кадровое обеспечение","укомплектованность преподавательского состава в соответствии с Программой","состав полностью укомплектован = 1",null,null,"да + 2б,\nнет + 1б",{"$f":"IF(G23=1,2,1)","v":1}]
[12,null,null,"подготовка преподавателей по теме Программы","количество",null,null,"100% + 2б",{"$f":"ROUND((G24/(H8+H9+H10)*2),1)","v":0}]
[13,null,null,"привлечение специалистов из профессионального сообщества","количество",null,{"$f":"H10","v":9},"100% + 2б",{"$f":"ROUND((G25/(H9+H10+H8)*2),1)","v":1.8}]
[14,null,null,"привлечение консультантов из числа обучающихся, выпускников","количество",null,{"$f":"H9","v":0},"100% + 2б",{"$f":"ROUND((G26/(H10+H9+H8)*2),1)","v":0}]
[15,null,"материально-техническое обеспечение","наличие достаточной материальной базы для проведения знаний","если да = 1",null,1,"да + 2б,\nнет + 1б",{"$f":"IF(G27=1,2,1)","v":2}]
[16,null,null,"использование материальной базы иных организаций","если да = 1",null,1,"да + 2б",{"$f":"IF(G28=1,2,0)","v":2}]
[17,null,null,"наличие оборудованных рабочих мест для слушателей и преподавателей","если да = 1, \nтолько преподавателей = 2",null,1,"1 + 1б, \n2 + 0,5б",{"$f":"IF(G29=1,1,0)+IF(G29=2,0.5,0)","v":1}]
[18,null,"информационно-технологическое обеспечение","наличие страницы Центра на сайте образовательного учреждения  ","если да = 1",null,null,"да + 1б",{"$f":"IF(G30=1,1,0)","v":0}]
[19,null,null,"регулярность обновления страницы Центра на сайте","более 1 раза в месяц = 1, \nреже = 2",null,null,"1 + 1б, \n2 + 0,5б",{"$f":"IF(G31=1,1,0)+IF(G31=2,0.5,0)","v":0}]
[20,null,null,"использование доступа в интернет преподавателями и слушателями","если да = 1,  только преподавателями = 2",null,1,"1 + 1б, \n2 + 0,5б",{"$f":"IF(G32=1,1,0)+IF(G32=2,0.5,0)","v":1}]
[21,null,null,"наличие методических материалов Центра на сайте ОУ","если да = 1",null,null,"да + 1б",{"$f":"IF(G33=1,1,0)","v":0}]
[22,null,null,"наличие Совета Центра","если да = 1",null,0,"да + 0,5б",{"$f":"IF(G34=1,0.5,0)","v":0}]
[23,null,null,"наличие утвержденного положения о деятельности Центра","если да = 1",null,1,"да + 0,5б",{"$f":"IF(G35=1,0.5,0)","v":0.5}]
[24,null,null,"наличие оформленных договоров с социальными партнерами","если да = 1",null,1,"да + 1б",{"$f":"IF(G36=1,1,0)","v":1}]
[25,null,"учебно-методическое обеспечение","обеспеченность слушателей учебниками, справочной литературой","полное обеспечение = 1,\nчастичное = 2",null,1,"1 + 2б, \n2 + 1б",{"$f":"IF(G37=1,2,0)+IF(G37=2,1,0)","v":2}]
[26,null,null,"обеспеченность преподавателей методической литературой, программными средствами обучения","полное обеспечение = 1,\nчастичное = 2",null,1,"1 + 2б, \n2 + 1б",{"$f":"IF(G38=1,2,0)+IF(G38=2,1,0)","v":2}]
[27,"Результаты образовательной деятельности","уровень и качество общеобразовательной подготовки слушателей","слушатели, применившие полученную информацию на практике","количество",null,17,"100% + 2б",{"$f":"ROUND(G39/H7*2,1)","v":2}]
[28,null,null,"слушатели, освоившие программу и получившие удостоверение","количество",null,0,"100% + 4б",{"$f":"ROUND(G40/$H$7*4,1)","v":0}]
[29,null,null,"слушатели, получившие сертификат","количество",null,17,"100% + 1б",{"$f":"ROUND(G41/H7*1,1)","v":1}]
[30,null,"сформированность ключевых компетентностей слушателей","слушатели, имеющие документально подтвержденные достижения по теме Программы:"]
[null,null,null," - на школьном уровне","количество",null,null,"100% + 2б",{"$f":"ROUND(G43/$H$7*2,1)","v":0}]
[null,null,null," - на муниципальном уровне","количество",null,null,"100% + 3б",{"$f":"ROUND(G44/$H$7*3,1)","v":0}]
[null,null,null," - на региональном уровне","количество",null,null,"100% + 4б",{"$f":"ROUND(G45/$H$7*4,1)","v":0}]
[null,null,null," - на федеральном  и международном уровнях","количество",null,null,"100% + 5б",{"$f":"ROUND(G46/$H$7*5,1)","v":0}]
[31,null,"уровень обобщения и представления опыта деятельности Центра по теме Программы","публичное представление промежуточных результатов реализации образовательной Программы:"]
[null,null,null," - на школьном уровне","количество",null,null,"за 1 + 0,1б",{"$f":"G48*0.1","v":0}]
[null,null,null," - на муниципальном уровне","количество",null,null,"за 1 + 0,2б",{"$f":"G49*0.2","v":0}]
[null,null,null," - на региональном уровне","количество",null,null,"за 1 + 0,3б",{"$f":"G50*0.3","v":0}]
[null,null,null," - на федеральном  и международном уровнях","количество",null,null,"за 1 + 0,5б",{"$f":"G51*0.4","v":0}]
[32,null,null,"организация мероприятий, семинаров различного уровня по теме образовательной Программы:"]
[null,null,null," - на муниципальном уровне","количество",null,0,"за 1 + 0,3б",{"$f":"G53*0.3","v":0}]
[null,null,null," - на региональном уровне","количество",null,1,"за 1 + 0,5б",{"$f":"G54*0.5","v":0.5}]
[null,null,null," - на федеральном  и международном уровнях","количество",null,null,"за 1 + 0,7б",{"$f":"G55*0.7","v":0}]
[33,null,null,"внешкольная экспертная деятельность преподавателей Центра по теме Программы","количество часов",null,null,"за 100ч + 2б",{"$f":"G56*0.02","v":0}]
[34,null,null,"наличие публикаций в методических изданиях по теме Программы","количество страниц А4, интервал 1,5, шрифт 14 ",null,null,"за 24 стр. + 2б",{"$f":"ROUND(G57*2/24,1)","v":0}]
[35,null,null,"количество публикаций в СМИ муниципального и регионального уровня по теме Программы","количество статей",null,5,"за 1 ст. + 0,1б",{"$f":"G58*0.1","v":0.5}]
[36,null,"уровень организации и степень достижения целей и задач инновационной деятельности","наличие рецензии на образовательную Программу","если да = 1",null,null,"да + 2б",{"$f":"IF(G59=1,2,0)","v":0}]
[37,null,null,"Программа Центра является частью программы развития ОУ","если да = 1",null,null,"да + 1б",{"$f":"IF(G60=1,1,0)","v":0}]
[38,null,null,"Программа Центра является частью муниципальной программы развития","если да = 1",null,null,"да + 2б",{"$f":"IF(G61=1,2,0)","v":0}]
[39,null,null,"наличие общественной экспертизы результатов реализации образовательной Программы","если да = 1",null,null,"да + 1б",{"$f":"IF(G62=1,1,0)","v":0}]
[40,null,null,"публичное представление результатов инновационной деятельности на научно-практических конференциях"]
[null,null,null," - на школьном уровне","если да = 1",null,null,"да + 0,3б",{"$f":"IF(G64=1,0.3,0)","v":0}]
[null,null,null," - на муниципальном уровне","если да = 1",null,null,"да + 0,5б",{"$f":"IF(G65=1,0.5,0)","v":0}]
[null,null,null," - на региональном уровне","если да = 1",null,null,"да + 1б",{"$f":"IF(G66=1,1,0)","v":0}]
[null,null,null," - на федеральном  и международном уровнях","если да = 1",null,null,"да + 2б",{"$f":"IF(G67=1,2,0)","v":0}]
["Общее рейтинговое значение ",null,null,null,null,null,null,null,{"$f":"SUM(I13:I41,I43:I46,I48:I51,I53:I62,I64:I67)","v":26.8}]

{"sheet":"ПР Куян","index":30,"n_rows":68,"n_cols":9,"rows_kept":68,"cut":false,"hidden":false,"merged":[[60,4,60,5],[65,4,65,5],[38,1,66,1],[45,4,45,5],[40,4,40,5],[38,4,38,5],[39,4,39,5],[41,3,41,8],[64,4,64,5],[54,4,54,5],[46,3,46,8],[66,4,66,5],[58,2,66,2],[62,3,62,8],[61,4,61,5],[63,4,63,5],[59,4,59,5],[58,4,58,5],[44,4,44,5],[11,2,11,3],[38,2,40,2],[56,4,56,5],[55,4,55,5],[42,4,42,5],[46,2,57,2],[51,3,51,8],[48,4,48,5],[49,4,49,5],[41,2,45,2],[57,4,57,5],[32,4,32,5],[30,4,30,5],[0,3,2,8],[13,4,13,5],[22,2,25,2],[22,1,37,1],[17,4,17,5],[18,4,18,5],[20,4,20,5],[20,2,21,2],[1,0,1,1],[2,0,2,1],[6,0,6,6],[7,0,7,6],[8,0,8,6],[9,0,9,6],[19,4,19,5],[36,4,36,5],[3,0,3,1],[12,4,12,5],[14,4,14,5],[16,4,16,5],[12,2,15,2],[10,0,10,6],[15,4,15,5],[12,1,21,1],[21,4,21,5],[16,2,19,2],[23,4,23,5],[27,4,27,5],[29,4,29,5],[31,4,31,5],[62,0,66,0],[24,4,24,5],[25,4,25,5],[37,4,37,5],[26,2,28,2],[51,0,54,0],[26,4,26,5],[46,0,50,0],[36,2,37,2],[53,4,53,5],[41,0,45,0],[43,4,43,5],[35,4,35,5],[47,4,47,5],[0,0,0,2],[67,0,67,7],[3,3,3,8],[29,2,35,2],[28,4,28,5],[50,4,50,5],[52,4,52,5],[33,4,33,5],[34,4,34,5],[4,0,4,1],[5,0,5,1],[4,3,4,8],[5,3,5,8],[22,4,22,5]]}
["РЕЙТИНГ",null,null,"ОЦЕНОЧНЫЙ ЛИСТ РЕЙТИНГА РЕЗУЛЬТАТИВНОСТИ ОБРАЗОВАТЕЛЬНЫХ ПРОГРАММ ЦЕНТРОВ ГРАЖДАНСКОГО ОБРАЗОВАНИЯ 2012-2013  "]
["первый",null,{"$f":"SUM(I13:I22)","v":10.199999999999999}]
["второй",null,{"$f":"SUM(I23:I38)","v":16.5}]
["третий",null,{"$f":"SUM(I39:I41,I43:I46,I48:I51,I53:I62,I64:I67)","v":25.5},"МБОУ Куяновская СОШ"]
["общее",null,{"$f":"SUM(C2:C4)","v":52.2},"Центр гражданского образования \"Собеседник\""]
[1.17,null,{"$f":"C5*A6","v":61.073999999999998},"Образовательная программа \"Экополюс\""]
["Общее количество слушателей образовательной Программы",null,null,null,null,null,null,18,"человек"]
["Количество педагогических работников ",null,null,null,null,null,null,6,"человек"]
["Количество консультантов из числа опытных старшеклассников, выпускников Центра",null,null,null,null,null,null,2,"человек"]
["Количество привлеченных специалистов",null,null,null,null,null,null,2,"человек"]
["Продолжительность образовательной Программы",null,null,null,null,null,null,34,"часов"]
["№","Направ-ление","Критерии",null,"Значение критерия","Единица измерения","Значение в единицах измерения","Система оценки","Рейтинговое значение"]
[1,"Образовательная программа","адаптированность","продолжительность образовательной Программы","количество часов",null,{"$f":"H11","v":34},"18-24 + 1б,\n25-48 + 2б,  \nболее 48 + 3б",{"$f":"IF($G$13>17,1,0)+IF($G$13>24,1,0)+IF($G$13>48,1,0)","v":2}]
[2,null,null,"наличие модулей в образовательной Программе для разновозрастных групп","для обучающихся = 1,\n для обучающихся и взрослых = 2",null,1,"1 + 1б,\n2 + 2б",{"$f":"IF(G14=1,1,0)+IF(G14=2,2,0)","v":1}]
[3,null,null,"наличие в образовательной Программе активных и интерактивных форм обучения","менее 50% занятий = 1,\n более 50% занятий = 2",null,2,"1 + 1б,\n2 + 2б",{"$f":"IF(G15=1,1,0)+IF(G15=2,2,0)","v":2}]
[4,null,null,"преемственность образовательных Программ из года в год","если существует = 1",null,0,"да + 1б",{"$f":"IF(G16=1,1,0)","v":0}]
[5,null,"доступность","наличие модулей, предложенных слушателям на выбор","если 2 модуля = 1,\n3 и более модулей = 2",null,0,"1 + 1б,\n2 + 2б",{"$f":"IF(G17=1,1,0)+IF(G17=2,2,0)","v":0}]
[6,null,null,"проведение мониторинга уровня сформированности ключевых компетентностей","если да = 1",null,1,"да + 3б",{"$f":"IF(G18=1,3,0)","v":3}]
[7,null,null,"программа реализуется в сетевом взаимодействии с другими Центрами","если да = 1",null,0,"да + 2б",{"$f":"IF(G19=1,2,0)","v":0}]
[8,null,null,"доля слушателей, привлеченных из других ОУ","количество",null,1,"100% + 3б",{"$f":"ROUND((G20/H7*3),1)","v":0.2}]
[9,null,"полнота реализации","Программа реализуется в полном объеме","если да = 1",null,1,"да + 1,5б,\nнет + 1б",{"$f":"IF(G21=1,1.5,1)","v":1.5}]
[10,null,null,"Программа изменилась при лучших условиях","если да = 1",null,1,"да + 0,5б",{"$f":"IF(G22=1,0.5,0)","v":0.5}]
[11,"Организация образовательного процесса","кадровое обеспечение","укомплектованность преподавательского состава в соответствии с Программой","состав полностью укомплектован = 1",null,1,"да + 2б,\nнет + 1б",{"$f":"IF(G23=1,2,1)","v":2}]
[12,null,null,"подготовка преподавателей по теме Программы","количество",null,6,"100% + 2б",{"$f":"ROUND((G24/(H8+H9+H10)*2),1)","v":1.2}]
[13,null,null,"привлечение специалистов из профессионального сообщества","количество",null,{"$f":"H10","v":2},"100% + 2б",{"$f":"ROUND((G25/(H9+H10+H8)*2),1)","v":0.4}]
[14,null,null,"привлечение консультантов из числа обучающихся, выпускников","количество",null,{"$f":"H9","v":2},"100% + 2б",{"$f":"ROUND((G26/(H10+H9+H8)*2),1)","v":0.4}]
[15,null,"материально-техническое обеспечение","наличие достаточной материальной базы для проведения знаний","если да = 1",null,1,"да + 2б,\nнет + 1б",{"$f":"IF(G27=1,2,1)","v":2}]
[16,null,null,"использование материальной базы иных организаций","если да = 1",null,1,"да + 2б",{"$f":"IF(G28=1,2,0)","v":2}]
[17,null,null,"наличие оборудованных рабочих мест для слушателей и преподавателей","если да = 1, \nтолько преподавателей = 2",null,1,"1 + 1б, \n2 + 0,5б",{"$f":"IF(G29=1,1,0)+IF(G29=2,0.5,0)","v":1}]
[18,null,"информационно-технологическое обеспечение","наличие страницы Центра на сайте образовательного учреждения  ","если да = 1",null,1,"да + 1б",{"$f":"IF(G30=1,1,0)","v":1}]
[19,null,null,"регулярность обновления страницы Центра на сайте","более 1 раза в месяц = 1, \nреже = 2",null,2,"1 + 1б, \n2 + 0,5б",{"$f":"IF(G31=1,1,0)+IF(G31=2,0.5,0)","v":0.5}]
[20,null,null,"использование доступа в интернет преподавателями и слушателями","если да = 1,  только преподавателями = 2",null,1,"1 + 1б, \n2 + 0,5б",{"$f":"IF(G32=1,1,0)+IF(G32=2,0.5,0)","v":1}]
[21,null,null,"наличие методических материалов Центра на сайте ОУ","если да = 1",null,0,"да + 1б",{"$f":"IF(G33=1,1,0)","v":0}]
[22,null,null,"наличие Совета Центра","если да = 1",null,1,"да + 0,5б",{"$f":"IF(G34=1,0.5,0)","v":0.5}]
[23,null,null,"наличие утвержденного положения о деятельности Центра","если да = 1",null,1,"да + 0,5б",{"$f":"IF(G35=1,0.5,0)","v":0.5}]
[24,null,null,"наличие оформленных договоров с социальными партнерами","если да = 1",null,1,"да + 1б",{"$f":"IF(G36=1,1,0)","v":1}]
[25,null,"учебно-методическое обеспечение","обеспеченность слушателей учебниками, справочной литературой","полное обеспечение = 1,\nчастичное = 2",null,2,"1 + 2б, \n2 + 1б",{"$f":"IF(G37=1,2,0)+IF(G37=2,1,0)","v":1}]
[26,null,null,"обеспеченность преподавателей методической литературой, программными средствами обучения","полное обеспечение = 1,\nчастичное = 2",null,1,"1 + 2б, \n2 + 1б",{"$f":"IF(G38=1,2,0)+IF(G38=2,1,0)","v":2}]
[27,"Результаты образовательной деятельности","уровень и качество общеобразовательной подготовки слушателей","слушатели, применившие полученную информацию на практике","количество",null,18,"100% + 2б",{"$f":"ROUND(G39/H7*2,1)","v":2}]
[28,null,null,"слушатели, освоившие программу и получившие удостоверение","количество",null,18,"100% + 4б",{"$f":"ROUND(G40/$H$7*4,1)","v":4}]
[29,null,null,"слушатели, получившие сертификат","количество",null,0,"100% + 1б",{"$f":"ROUND(G41/H7*1,1)","v":0}]
[30,null,"сформированность ключевых компетентностей слушателей","слушатели, имеющие документально подтвержденные достижения по теме Программы:"]
[null,null,null," - на школьном уровне","количество",null,18,"100% + 2б",{"$f":"ROUND(G43/$H$7*2,1)","v":2}]
[null,null,null," - на муниципальном уровне","количество",null,18,"100% + 3б",{"$f":"ROUND(G44/$H$7*3,1)","v":3}]
[null,null,null," - на региональном уровне","количество",null,10,"100% + 4б",{"$f":"ROUND(G45/$H$7*4,1)","v":2.2000000000000002}]
[null,null,null," - на федеральном  и международном уровнях","количество",null,0,"100% + 5б",{"$f":"ROUND(G46/$H$7*5,1)","v":0}]
[31,null,"уровень обобщения и представления опыта деятельности Центра по теме Программы","публичное представление промежуточных результатов реализации образовательной Программы:"]
[null,null,null," - на школьном уровне","количество",null,2,"за 1 + 0,1б",{"$f":"G48*0.1","v":0.2}]
[null,null,null," - на муниципальном уровне","количество",null,2,"за 1 + 0,2б",{"$f":"G49*0.2","v":0.4}]
[null,null,null," - на региональном уровне","количество",null,4,"за 1 + 0,3б",{"$f":"G50*0.3","v":1.2}]
[null,null,null," - на федеральном  и международном уровнях","количество",null,null,"за 1 + 0,5б",{"$f":"G51*0.4","v":0}]
[32,null,null,"организация мероприятий, семинаров различного уровня по теме образовательной Программы:"]
[null,null,null," - на муниципальном уровне","количество",null,1,"за 1 + 0,3б",{"$f":"G53*0.3","v":0.3}]
[null,null,null," - на региональном уровне","количество",null,1,"за 1 + 0,5б",{"$f":"G54*0.5","v":0.5}]
[null,null,null," - на федеральном  и международном уровнях","количество",null,0,"за 1 + 0,7б",{"$f":"G55*0.7","v":0}]
[33,null,null,"внешкольная экспертная деятельность преподавателей Центра по теме Программы","количество часов",null,0,"за 100ч + 2б",{"$f":"G56*0.02","v":0}]
[34,null,null,"наличие публикаций в методических изданиях по теме Программы","количество страниц А4, интервал 1,5, шрифт 14 ",null,7,"за 24 стр. + 2б",{"$f":"ROUND(G57*2/24,1)","v":0.6}]
[35,null,null,"количество публикаций в СМИ муниципального и регионального уровня по теме Программы","количество статей",null,1,"за 1 ст. + 0,1б",{"$f":"G58*0.1","v":0.1}]
[36,null,"уровень организации и степень достижения целей и задач инновационной деятельности","наличие рецензии на образовательную Программу","если да = 1",null,1,"да + 2б",{"$f":"IF(G59=1,2,0)","v":2}]
[37,null,null,"Программа Центра является частью программы развития ОУ","если да = 1",null,1,"да + 1б",{"$f":"IF(G60=1,1,0)","v":1}]
[38,null,null,"Программа Центра является частью муниципальной программы развития","если да = 1",null,1,"да + 2б",{"$f":"IF(G61=1,2,0)","v":2}]
[39,null,null,"наличие общественной экспертизы результатов реализации образовательной Программы","если да = 1",null,1,"да + 1б",{"$f":"IF(G62=1,1,0)","v":1}]
[40,null,null,"публичное представление результатов инновационной деятельности на научно-практических конференциях"]
[null,null,null," - на школьном уровне","если да = 1",null,0,"да + 0,3б",{"$f":"IF(G64=1,0.3,0)","v":0}]
[null,null,null," - на муниципальном уровне","если да = 1",null,0,"да + 0,5б",{"$f":"IF(G65=1,0.5,0)","v":0}]
[null,null,null," - на региональном уровне","если да = 1",null,1,"да + 1б",{"$f":"IF(G66=1,1,0)","v":1}]
[null,null,null," - на федеральном  и международном уровнях","если да = 1",null,1,"да + 2б",{"$f":"IF(G67=1,2,0)","v":2}]
["Общее рейтинговое значение ",null,null,null,null,null,null,null,{"$f":"SUM(I13:I41,I43:I46,I48:I51,I53:I62,I64:I67)","v":52.20000000000001}]

{"sheet":" ПР Пер","index":31,"n_rows":68,"n_cols":9,"rows_kept":68,"cut":false,"hidden":false,"merged":[[65,4,65,5],[57,4,57,5],[46,3,46,8],[66,4,66,5],[58,2,66,2],[62,3,62,8],[61,4,61,5],[63,4,63,5],[59,4,59,5],[58,4,58,5],[46,2,57,2],[64,4,64,5],[60,4,60,5],[44,4,44,5],[56,4,56,5],[55,4,55,5],[51,3,51,8],[48,4,48,5],[49,4,49,5],[54,4,54,5],[13,4,13,5],[22,2,25,2],[9,0,9,6],[12,4,12,5],[14,4,14,5],[16,4,16,5],[12,2,15,2],[10,0,10,6],[15,4,15,5],[11,2,11,3],[23,4,23,5],[12,1,21,1],[21,4,21,5],[16,2,19,2],[22,1,37,1],[17,4,17,5],[18,4,18,5],[20,4,20,5],[20,2,21,2],[19,4,19,5],[26,4,26,5],[25,4,25,5],[37,4,37,5],[26,2,28,2],[27,4,27,5],[29,4,29,5],[31,4,31,5],[32,4,32,5],[30,4,30,5],[35,4,35,5],[1,0,1,1],[2,0,2,1],[6,0,6,6],[7,0,7,6],[8,0,8,6],[3,0,3,1],[0,3,2,8],[0,0,0,2],[46,0,50,0],[36,2,37,2],[53,4,53,5],[41,0,45,0],[43,4,43,5],[47,4,47,5],[36,4,36,5],[41,2,45,2],[45,4,45,5],[38,4,38,5],[39,4,39,5],[41,3,41,8],[42,4,42,5],[38,2,40,2],[38,1,66,1],[40,4,40,5],[67,0,67,7],[3,3,3,8],[29,2,35,2],[28,4,28,5],[50,4,50,5],[52,4,52,5],[33,4,33,5],[34,4,34,5],[4,0,4,1],[5,0,5,1],[4,3,4,8],[5,3,5,8],[22,4,22,5],[62,0,66,0],[24,4,24,5],[51,0,54,0]]}
["РЕЙТИНГ",null,null,"ОЦЕНОЧНЫЙ ЛИСТ РЕЙТИНГА РЕЗУЛЬТАТИВНОСТИ ОБРАЗОВАТЕЛЬНЫХ ПРОГРАММ ЦЕНТРОВ ГРАЖДАНСКОГО ОБРАЗОВАНИЯ 2012-2013  "]
["первый",null,{"$f":"SUM(I13:I22)","v":9}]
["второй",null,{"$f":"SUM(I23:I38)","v":15.5}]
["третий",null,{"$f":"SUM(I39:I41,I43:I46,I48:I51,I53:I62,I64:I67)","v":17.34},"МБОУ Первомайская СОШ"]
["общее",null,{"$f":"SUM(C2:C4)","v":41.84},"Центр гражданского образования \"Шаги\""]
[1.04,null,{"$f":"C5*A6","v":43.513600000000004},"Образовательная программа : «Социальное проектирование» (социально-образовательный проект «Гражданин»)"]
["Общее количество слушателей образовательной Программы",null,null,null,null,null,null,20,"человек"]
["Количество педагогических работников ",null,null,null,null,null,null,5,"человек"]
["Количество консультантов из числа опытных старшеклассников, выпускников Центра",null,null,null,null,null,null,4,"человек"]
["Количество привлеченных специалистов",null,null,null,null,null,null,3,"человек"]
["Продолжительность образовательной Программы",null,null,null,null,null,null,22,"часов"]
["№","Направ-ление","Критерии",null,"Значение критерия","Единица измерения","Значение в единицах измерения","Система оценки","Рейтинговое значение"]
[1,"Образовательная программа","адаптированность","продолжительность образовательной Программы","количество часов",null,{"$f":"H11","v":22},"18-24 + 1б,\n25-48 + 2б,  \nболее 48 + 3б",{"$f":"IF($G$13>17,1,0)+IF($G$13>24,1,0)+IF($G$13>48,1,0)","v":1}]
[2,null,null,"наличие модулей в образовательной Программе для разновозрастных групп","для обучающихся = 1,\n для обучающихся и взрослых = 2",null,0,"1 + 1б,\n2 + 2б",{"$f":"IF(G14=1,1,0)+IF(G14=2,2,0)","v":0}]
[3,null,null,"наличие в образовательной Программе активных и интерактивных форм обучения","менее 50% занятий = 1,\n более 50% занятий = 2",null,2,"1 + 1б,\n2 + 2б",{"$f":"IF(G15=1,1,0)+IF(G15=2,2,0)","v":2}]
[4,null,null,"преемственность образовательных Программ из года в год","если существует = 1",null,1,"да + 1б",{"$f":"IF(G16=1,1,0)","v":1}]
[5,null,"доступность","наличие модулей, предложенных слушателям на выбор","если 2 модуля = 1,\n3 и более модулей = 2",null,0,"1 + 1б,\n2 + 2б",{"$f":"IF(G17=1,1,0)+IF(G17=2,2,0)","v":0}]
[6,null,null,"проведение мониторинга уровня сформированности ключевых компетентностей","если да = 1",null,1,"да + 3б",{"$f":"IF(G18=1,3,0)","v":3}]
[7,null,null,"программа реализуется в сетевом взаимодействии с другими Центрами","если да = 1",null,0,"да + 2б",{"$f":"IF(G19=1,2,0)","v":0}]
[8,null,null,"доля слушателей, привлеченных из других ОУ","количество",null,0,"100% + 3б",{"$f":"ROUND((G20/H7*3),1)","v":0}]
[9,null,"полнота реализации","Программа реализуется в полном объеме","если да = 1",null,1,"да + 1,5б,\nнет + 1б",{"$f":"IF(G21=1,1.5,1)","v":1.5}]
[10,null,null,"Программа изменилась при лучших условиях","если да = 1",null,1,"да + 0,5б",{"$f":"IF(G22=1,0.5,0)","v":0.5}]
[11,"Организация образовательного процесса","кадровое обеспечение","укомплектованность преподавательского состава в соответствии с Программой","состав полностью укомплектован = 1",null,1,"да + 2б,\nнет + 1б",{"$f":"IF(G23=1,2,1)","v":2}]
[12,null,null,"подготовка преподавателей по теме Программы","количество",null,2,"100% + 2б",{"$f":"ROUND((G24/(H8+H9+H10)*2),1)","v":0.3}]
[13,null,null,"привлечение специалистов из профессионального сообщества","количество",null,{"$f":"H10","v":3},"100% + 2б",{"$f":"ROUND((G25/(H9+H10+H8)*2),1)","v":0.5}]
[14,null,null,"привлечение консультантов из числа обучающихся, выпускников","количество",null,{"$f":"H9","v":4},"100% + 2б",{"$f":"ROUND((G26/(H10+H9+H8)*2),1)","v":0.7}]
[15,null,"материально-техническое обеспечение","наличие достаточной материальной базы для проведения знаний","если да = 1",null,1,"да + 2б,\nнет + 1б",{"$f":"IF(G27=1,2,1)","v":2}]
[16,null,null,"использование материальной базы иных организаций","если да = 1",null,1,"да + 2б",{"$f":"IF(G28=1,2,0)","v":2}]
[17,null,null,"наличие оборудованных рабочих мест для слушателей и преподавателей","если да = 1, \nтолько преподавателей = 2",null,1,"1 + 1б, \n2 + 0,5б",{"$f":"IF(G29=1,1,0)+IF(G29=2,0.5,0)","v":1}]
[18,null,"информационно-технологическое обеспечение","наличие страницы Центра на сайте образовательного учреждения  ","если да = 1",null,1,"да + 1б",{"$f":"IF(G30=1,1,0)","v":1}]
[19,null,null,"регулярность обновления страницы Центра на сайте","более 1 раза в месяц = 1, \nреже = 2",null,2,"1 + 1б, \n2 + 0,5б",{"$f":"IF(G31=1,1,0)+IF(G31=2,0.5,0)","v":0.5}]
[20,null,null,"использование доступа в интернет преподавателями и слушателями","если да = 1,  только преподавателями = 2",null,1,"1 + 1б, \n2 + 0,5б",{"$f":"IF(G32=1,1,0)+IF(G32=2,0.5,0)","v":1}]
[21,null,null,"наличие методических материалов Центра на сайте ОУ","если да = 1",null,0,"да + 1б",{"$f":"IF(G33=1,1,0)","v":0}]
[22,null,null,"наличие Совета Центра","если да = 1",null,0,"да + 0,5б",{"$f":"IF(G34=1,0.5,0)","v":0}]
[23,null,null,"наличие утвержденного положения о деятельности Центра","если да = 1",null,1,"да + 0,5б",{"$f":"IF(G35=1,0.5,0)","v":0.5}]
[24,null,null,"наличие оформленных договоров с социальными партнерами","если да = 1",null,1,"да + 1б",{"$f":"IF(G36=1,1,0)","v":1}]
[25,null,"учебно-методическое обеспечение","обеспеченность слушателей учебниками, справочной литературой","полное обеспечение = 1,\nчастичное = 2",null,2,"1 + 2б, \n2 + 1б",{"$f":"IF(G37=1,2,0)+IF(G37=2,1,0)","v":1}]
[26,null,null,"обеспеченность преподавателей методической литературой, программными средствами обучения","полное обеспечение = 1,\nчастичное = 2",null,1,"1 + 2б, \n2 + 1б",{"$f":"IF(G38=1,2,0)+IF(G38=2,1,0)","v":2}]
[27,"Результаты образовательной деятельности","уровень и качество общеобразовательной подготовки слушателей","слушатели, применившие полученную информацию на практике","количество",null,20,"100% + 2б",{"$f":"ROUND(G39/H7*2,1)","v":2}]
[28,null,null,"слушатели, освоившие программу и получившие удостоверение","количество",null,20,"100% + 4б",{"$f":"ROUND(G40/$H$7*4,1)","v":4}]
[29,null,null,"слушатели, получившие сертификат","количество",null,0,"100% + 1б",{"$f":"ROUND(G41/H7*1,1)","v":0}]
[30,null,"сформированность ключевых компетентностей слушателей","слушатели, имеющие документально подтвержденные достижения по теме Программы:"]
[null,null,null," - на школьном уровне","количество",null,0,"100% + 2б",{"$f":"ROUND(G43/$H$7*2,1)","v":0}]
[null,null,null," - на муниципальном уровне","количество",null,5,"100% + 3б",{"$f":"ROUND(G44/$H$7*3,1)","v":0.8}]
[null,null,null," - на региональном уровне","количество",null,16,"100% + 4б",{"$f":"ROUND(G45/$H$7*4,1)","v":3.2}]
[null,null,null," - на федеральном  и международном уровнях","количество",null,4,"100% + 5б",{"$f":"ROUND(G46/$H$7*5,1)","v":1}]
[31,null,"уровень обобщения и представления опыта деятельности Центра по теме Программы","публичное представление промежуточных результатов реализации образовательной Программы:"]
[null,null,null," - на школьном уровне","количество",null,0,"за 1 + 0,1б",{"$f":"G48*0.1","v":0}]
[null,null,null," - на муниципальном уровне","количество",null,1,"за 1 + 0,2б",{"$f":"G49*0.2","v":0.2}]
[null,null,null," - на региональном уровне","количество",null,5,"за 1 + 0,3б",{"$f":"G50*0.3","v":1.5}]
[null,null,null," - на федеральном  и международном уровнях","количество",null,0,"за 1 + 0,5б",{"$f":"G51*0.4","v":0}]
[32,null,null,"организация мероприятий, семинаров различного уровня по теме образовательной Программы:"]
[null,null,null," - на муниципальном уровне","количество",null,0,"за 1 + 0,3б",{"$f":"G53*0.3","v":0}]
[null,null,null," - на региональном уровне","количество",null,1,"за 1 + 0,5б",{"$f":"G54*0.5","v":0.5}]
[null,null,null," - на федеральном  и международном уровнях","количество",null,0,"за 1 + 0,7б",{"$f":"G55*0.7","v":0}]
[33,null,null,"внешкольная экспертная деятельность преподавателей Центра по теме Программы","количество часов",null,7,"за 100ч + 2б",{"$f":"G56*0.02","v":0.14000000000000001}]
[34,null,null,"наличие публикаций в методических изданиях по теме Программы","количество страниц А4, интервал 1,5, шрифт 14 ",null,22,"за 24 стр. + 2б",{"$f":"ROUND(G57*2/24,1)","v":1.8}]
[35,null,null,"количество публикаций в СМИ муниципального и регионального уровня по теме Программы","количество статей",null,2,"за 1 ст. + 0,1б",{"$f":"G58*0.1","v":0.2}]
[36,null,"уровень организации и степень достижения целей и задач инновационной деятельности","наличие рецензии на образовательную Программу","если да = 1",null,0,"да + 2б",{"$f":"IF(G59=1,2,0)","v":0}]
[37,null,null,"Программа Центра является частью программы развития ОУ","если да = 1",null,1,"да + 1б",{"$f":"IF(G60=1,1,0)","v":1}]
[38,null,null,"Программа Центра является частью муниципальной программы развития","если да = 1",null,0,"да + 2б",{"$f":"IF(G61=1,2,0)","v":0}]
[39,null,null,"наличие общественной экспертизы результатов реализации образовательной Программы","если да = 1",null,0,"да + 1б",{"$f":"IF(G62=1,1,0)","v":0}]
[40,null,null,"публичное представление результатов инновационной деятельности на научно-практических конференциях"]
[null,null,null," - на школьном уровне","если да = 1",null,0,"да + 0,3б",{"$f":"IF(G64=1,0.3,0)","v":0}]
[null,null,null," - на муниципальном уровне","если да = 1",null,0,"да + 0,5б",{"$f":"IF(G65=1,0.5,0)","v":0}]
[null,null,null," - на региональном уровне","если да = 1",null,1,"да + 1б",{"$f":"IF(G66=1,1,0)","v":1}]
[null,null,null," - на федеральном  и международном уровнях","если да = 1",null,null,"да + 2б",{"$f":"IF(G67=1,2,0)","v":0}]
["Общее рейтинговое значение ",null,null,null,null,null,null,null,{"$f":"SUM(I13:I41,I43:I46,I48:I51,I53:I62,I64:I67)","v":41.84}]

{"sheet":"ТР  Вор","index":32,"n_rows":68,"n_cols":9,"rows_kept":68,"cut":false,"hidden":false,"merged":[[66,4,66,5],[58,2,66,2],[62,3,62,8],[61,4,61,5],[63,4,63,5],[59,4,59,5],[60,4,60,5],[65,4,65,5],[64,4,64,5],[58,4,58,5],[56,4,56,5],[55,4,55,5],[42,4,42,5],[46,2,57,2],[51,3,51,8],[6,0,6,6],[7,0,7,6],[8,0,8,6],[9,0,9,6],[19,4,19,5],[13,4,13,5],[11,2,11,3],[10,0,10,6],[15,4,15,5],[12,1,21,1],[21,4,21,5],[16,2,19,2],[17,4,17,5],[22,2,25,2],[14,4,14,5],[16,4,16,5],[41,2,45,2],[32,4,32,5],[34,4,34,5],[22,4,22,5],[23,4,23,5],[36,4,36,5],[43,4,43,5],[44,4,44,5],[41,3,41,8],[30,4,30,5],[45,4,45,5],[40,4,40,5],[29,2,35,2],[0,0,0,2],[4,0,4,1],[5,0,5,1],[4,3,4,8],[5,3,5,8],[0,3,2,8],[3,3,3,8],[67,0,67,7],[1,0,1,1],[2,0,2,1],[3,0,3,1],[12,4,12,5],[12,2,15,2],[18,4,18,5],[20,4,20,5],[20,2,21,2],[51,0,54,0],[26,4,26,5],[46,0,50,0],[36,2,37,2],[53,4,53,5],[27,4,27,5],[29,4,29,5],[62,0,66,0],[24,4,24,5],[25,4,25,5],[37,4,37,5],[26,2,28,2],[22,1,37,1],[41,0,45,0],[48,4,48,5],[49,4,49,5],[38,1,66,1],[38,4,38,5],[39,4,39,5],[54,4,54,5],[38,2,40,2],[57,4,57,5],[46,3,46,8],[28,4,28,5],[50,4,50,5],[52,4,52,5],[33,4,33,5],[31,4,31,5],[35,4,35,5],[47,4,47,5]]}
["РЕЙТИНГ",null,null,"ОЦЕНОЧНЫЙ ЛИСТ РЕЙТИНГА РЕЗУЛЬТАТИВНОСТИ ОБРАЗОВАТЕЛЬНЫХ ПРОГРАММ ЦЕНТРОВ ГРАЖДАНСКОГО ОБРАЗОВАНИЯ 2012-2013  "]
["первый",null,{"$f":"SUM(I13:I22)","v":12}]
["второй",null,{"$f":"SUM(I23:I38)","v":18.5}]
["третий",null,{"$f":"SUM(I39:I41,I43:I46,I48:I51,I53:I62,I64:I67)","v":11.72},"МБОУ \"Воронинская СОШ\""]
["общее",null,{"$f":"SUM(C2:C4)","v":42.22},"Центр гражданского образования \"ДостижениЯ\""]
[1.0900000000000001,null,{"$f":"C5*A6","v":46.019800000000004},"Образовательная программа \"ДостижениЯ\""]
["Общее количество слушателей образовательной Программы",null,null,null,null,null,null,10,"человек"]
["Количество педагогических работников ",null,null,null,null,null,null,1,"человек"]
["Количество консультантов из числа опытных старшеклассников, выпускников Центра",null,null,null,null,null,null,2,"человек"]
["Количество привлеченных специалистов",null,null,null,null,null,null,null,"человек"]
["Продолжительность образовательной Программы",null,null,null,null,null,null,18,"часов"]
["№","Направ-ление","Критерии",null,"Значение критерия","Единица измерения","Значение в единицах измерения","Система оценки","Рейтинговое значение"]
[1,"Образовательная программа","адаптированность","продолжительность образовательной Программы","количество часов",null,{"$f":"H11","v":18},"18-24 + 1б,\n25-48 + 2б,  \nболее 48 + 3б",{"$f":"IF($G$13>17,1,0)+IF($G$13>24,1,0)+IF($G$13>48,1,0)","v":1}]
[2,null,null,"наличие модулей в образовательной Программе для разновозрастных групп","для обучающихся = 1,\n для обучающихся и взрослых = 2",null,1,"1 + 1б,\n2 + 2б",{"$f":"IF(G14=1,1,0)+IF(G14=2,2,0)","v":1}]
[3,null,null,"наличие в образовательной Программе активных и интерактивных форм обучения","менее 50% занятий = 1,\n более 50% занятий = 2",null,2,"1 + 1б,\n2 + 2б",{"$f":"IF(G15=1,1,0)+IF(G15=2,2,0)","v":2}]
[4,null,null,"преемственность образовательных Программ из года в год","если существует = 1",null,1,"да + 1б",{"$f":"IF(G16=1,1,0)","v":1}]
[5,null,"доступность","наличие модулей, предложенных слушателям на выбор","если 2 модуля = 1,\n3 и более модулей = 2",null,0,"1 + 1б,\n2 + 2б",{"$f":"IF(G17=1,1,0)+IF(G17=2,2,0)","v":0}]
[6,null,null,"проведение мониторинга уровня сформированности ключевых компетентностей","если да = 1",null,1,"да + 3б",{"$f":"IF(G18=1,3,0)","v":3}]
[7,null,null,"программа реализуется в сетевом взаимодействии с другими Центрами","если да = 1",null,1,"да + 2б",{"$f":"IF(G19=1,2,0)","v":2}]
[8,null,null,"доля слушателей, привлеченных из других ОУ","количество",null,null,"100% + 3б",{"$f":"ROUND((G20/H7*3),1)","v":0}]
[9,null,"полнота реализации","Программа реализуется в полном объеме","если да = 1",null,1,"да + 1,5б,\nнет + 1б",{"$f":"IF(G21=1,1.5,1)","v":1.5}]
[10,null,null,"Программа изменилась при лучших условиях","если да = 1",null,1,"да + 0,5б",{"$f":"IF(G22=1,0.5,0)","v":0.5}]
[11,"Организация образовательного процесса","кадровое обеспечение","укомплектованность преподавательского состава в соответствии с Программой","состав полностью укомплектован = 1",null,1,"да + 2б,\nнет + 1б",{"$f":"IF(G23=1,2,1)","v":2}]
[12,null,null,"подготовка преподавателей по теме Программы","количество",null,1,"100% + 2б",{"$f":"ROUND((G24/(H8+H9+H10)*2),1)","v":0.7}]
[13,null,null,"привлечение специалистов из профессионального сообщества","количество",null,{"$f":"H10","v":0},"100% + 2б",{"$f":"ROUND((G25/(H9+H10+H8)*2),1)","v":0}]
[14,null,null,"привлечение консультантов из числа обучающихся, выпускников","количество",null,{"$f":"H9","v":2},"100% + 2б",{"$f":"ROUND((G26/(H10+H9+H8)*2),1)","v":1.3}]
[15,null,"материально-техническое обеспечение","наличие достаточной материальной базы для проведения знаний","если да = 1",null,1,"да + 2б,\nнет + 1б",{"$f":"IF(G27=1,2,1)","v":2}]
[16,null,null,"использование материальной базы иных организаций","если да = 1",null,1,"да + 2б",{"$f":"IF(G28=1,2,0)","v":2}]
[17,null,null,"наличие оборудованных рабочих мест для слушателей и преподавателей","если да = 1, \nтолько преподавателей = 2",null,1,"1 + 1б, \n2 + 0,5б",{"$f":"IF(G29=1,1,0)+IF(G29=2,0.5,0)","v":1}]
[18,null,"информационно-технологическое обеспечение","наличие страницы Центра на сайте образовательного учреждения  ","если да = 1",null,1,"да + 1б",{"$f":"IF(G30=1,1,0)","v":1}]
[19,null,null,"регулярность обновления страницы Центра на сайте","более 1 раза в месяц = 1, \nреже = 2",null,2,"1 + 1б, \n2 + 0,5б",{"$f":"IF(G31=1,1,0)+IF(G31=2,0.5,0)","v":0.5}]
[20,null,null,"использование доступа в интернет преподавателями и слушателями","если да = 1,  только преподавателями = 2",null,1,"1 + 1б, \n2 + 0,5б",{"$f":"IF(G32=1,1,0)+IF(G32=2,0.5,0)","v":1}]
[21,null,null,"наличие методических материалов Центра на сайте ОУ","если да = 1",null,1,"да + 1б",{"$f":"IF(G33=1,1,0)","v":1}]
[22,null,null,"наличие Совета Центра","если да = 1",null,1,"да + 0,5б",{"$f":"IF(G34=1,0.5,0)","v":0.5}]
[23,null,null,"наличие утвержденного положения о деятельности Центра","если да = 1",null,1,"да + 0,5б",{"$f":"IF(G35=1,0.5,0)","v":0.5}]
[24,null,null,"наличие оформленных договоров с социальными партнерами","если да = 1",null,1,"да + 1б",{"$f":"IF(G36=1,1,0)","v":1}]
[25,null,"учебно-методическое обеспечение","обеспеченность слушателей учебниками, справочной литературой","полное обеспечение = 1,\nчастичное = 2",null,1,"1 + 2б, \n2 + 1б",{"$f":"IF(G37=1,2,0)+IF(G37=2,1,0)","v":2}]
[26,null,null,"обеспеченность преподавателей методической литературой, программными средствами обучения","полное обеспечение = 1,\nчастичное = 2",null,1,"1 + 2б, \n2 + 1б",{"$f":"IF(G38=1,2,0)+IF(G38=2,1,0)","v":2}]
[27,"Результаты образовательной деятельности","уровень и качество общеобразовательной подготовки слушателей","слушатели, применившие полученную информацию на практике","количество",null,10,"100% + 2б",{"$f":"ROUND(G39/H7*2,1)","v":2}]
[28,null,null,"слушатели, освоившие программу и получившие удостоверение","количество",null,5,"100% + 4б",{"$f":"ROUND(G40/$H$7*4,1)","v":2}]
[29,null,null,"слушатели, получившие сертификат","количество",null,5,"100% + 1б",{"$f":"ROUND(G41/H7*1,1)","v":0.5}]
[30,null,"сформированность ключевых компетентностей слушателей","слушатели, имеющие документально подтвержденные достижения по теме Программы:"]
[null,null,null," - на школьном уровне","количество",null,10,"100% + 2б",{"$f":"ROUND(G43/$H$7*2,1)","v":2}]
[null,null,null," - на муниципальном уровне","количество",null,0,"100% + 3б",{"$f":"ROUND(G44/$H$7*3,1)","v":0}]
[null,null,null," - на региональном уровне","количество",null,0,"100% + 4б",{"$f":"ROUND(G45/$H$7*4,1)","v":0}]
[null,null,null," - на федеральном  и международном уровнях","количество",null,0,"100% + 5б",{"$f":"ROUND(G46/$H$7*5,1)","v":0}]
[31,null,"уровень обобщения и представления опыта деятельности Центра по теме Программы","публичное представление промежуточных результатов реализации образовательной Программы:"]
[null,null,null," - на школьном уровне","количество",null,1,"за 1 + 0,1б",{"$f":"G48*0.1","v":0.1}]
[null,null,null," - на муниципальном уровне","количество",null,1,"за 1 + 0,2б",{"$f":"G49*0.2","v":0.2}]
[null,null,null," - на региональном уровне","количество",null,0,"за 1 + 0,3б",{"$f":"G50*0.3","v":0}]
[null,null,null," - на федеральном  и международном уровнях","количество",null,0,"за 1 + 0,5б",{"$f":"G51*0.4","v":0}]
[32,null,null,"организация мероприятий, семинаров различного уровня по теме образовательной Программы:"]
[null,null,null," - на муниципальном уровне","количество",null,1,"за 1 + 0,3б",{"$f":"G53*0.3","v":0.3}]
[null,null,null," - на региональном уровне","количество",null,null,"за 1 + 0,5б",{"$f":"G54*0.5","v":0}]
[null,null,null," - на федеральном  и международном уровнях","количество",null,null,"за 1 + 0,7б",{"$f":"G55*0.7","v":0}]
[33,null,null,"внешкольная экспертная деятельность преподавателей Центра по теме Программы","количество часов",null,16,"за 100ч + 2б",{"$f":"G56*0.02","v":0.32}]
[34,null,null,"наличие публикаций в методических изданиях по теме Программы","количество страниц А4, интервал 1,5, шрифт 14 ",null,0,"за 24 стр. + 2б",{"$f":"ROUND(G57*2/24,1)","v":0}]
[35,null,null,"количество публикаций в СМИ муниципального и регионального уровня по теме Программы","количество статей",null,0,"за 1 ст. + 0,1б",{"$f":"G58*0.1","v":0}]
[36,null,"уровень организации и степень достижения целей и задач инновационной деятельности","наличие рецензии на образовательную Программу","если да = 1",null,1,"да + 2б",{"$f":"IF(G59=1,2,0)","v":2}]
[37,null,null,"Программа Центра является частью программы развития ОУ","если да = 1",null,1,"да + 1б",{"$f":"IF(G60=1,1,0)","v":1}]
[38,null,null,"Программа Центра является частью муниципальной программы развития","если да = 1",null,null,"да + 2б",{"$f":"IF(G61=1,2,0)","v":0}]
[39,null,null,"наличие общественной экспертизы результатов реализации образовательной Программы","если да = 1",null,1,"да + 1б",{"$f":"IF(G62=1,1,0)","v":1}]
[40,null,null,"публичное представление результатов инновационной деятельности на научно-практических конференциях"]
[null,null,null," - на школьном уровне","если да = 1",null,1,"да + 0,3б",{"$f":"IF(G64=1,0.3,0)","v":0.3}]
[null,null,null," - на муниципальном уровне","если да = 1",null,null,"да + 0,5б",{"$f":"IF(G65=1,0.5,0)","v":0}]
[null,null,null," - на региональном уровне","если да = 1",null,null,"да + 1б",{"$f":"IF(G66=1,1,0)","v":0}]
[null,null,null," - на федеральном  и международном уровнях","если да = 1",null,null,"да + 2б",{"$f":"IF(G67=1,2,0)","v":0}]
["Общее рейтинговое значение ",null,null,null,null,null,null,null,{"$f":"SUM(I13:I41,I43:I46,I48:I51,I53:I62,I64:I67)","v":42.22}]

{"sheet":"ТР Мал","index":33,"n_rows":68,"n_cols":9,"rows_kept":68,"cut":false,"hidden":false,"merged":[[0,0,0,2],[67,0,67,7],[3,3,3,8],[29,2,35,2],[28,4,28,5],[50,4,50,5],[52,4,52,5],[33,4,33,5],[23,4,23,5],[27,4,27,5],[29,4,29,5],[31,4,31,5],[35,4,35,5],[4,0,4,1],[5,0,5,1],[4,3,4,8],[5,3,5,8],[22,4,22,5],[62,0,66,0],[24,4,24,5],[25,4,25,5],[37,4,37,5],[26,2,28,2],[51,0,54,0],[26,4,26,5],[46,0,50,0],[36,2,37,2],[53,4,53,5],[34,4,34,5],[47,4,47,5],[41,2,45,2],[57,4,57,5],[0,3,2,8],[13,4,13,5],[22,2,25,2],[22,1,37,1],[17,4,17,5],[18,4,18,5],[20,4,20,5],[20,2,21,2],[1,0,1,1],[2,0,2,1],[3,0,3,1],[12,4,12,5],[14,4,14,5],[16,4,16,5],[12,2,15,2],[10,0,10,6],[41,0,45,0],[6,0,6,6],[7,0,7,6],[8,0,8,6],[9,0,9,6],[19,4,19,5],[36,4,36,5],[43,4,43,5],[44,4,44,5],[11,2,11,3],[15,4,15,5],[12,1,21,1],[21,4,21,5],[16,2,19,2],[32,4,32,5],[30,4,30,5],[38,1,66,1],[45,4,45,5],[40,4,40,5],[38,4,38,5],[39,4,39,5],[41,3,41,8],[64,4,64,5],[54,4,54,5],[38,2,40,2],[56,4,56,5],[55,4,55,5],[42,4,42,5],[46,2,57,2],[51,3,51,8],[46,3,46,8],[66,4,66,5],[48,4,48,5],[49,4,49,5],[58,2,66,2],[62,3,62,8],[61,4,61,5],[63,4,63,5],[59,4,59,5],[58,4,58,5],[60,4,60,5],[65,4,65,5]]}
["РЕЙТИНГ",null,null,"ОЦЕНОЧНЫЙ ЛИСТ РЕЙТИНГА РЕЗУЛЬТАТИВНОСТИ ОБРАЗОВАТЕЛЬНЫХ ПРОГРАММ ЦЕНТРОВ ГРАЖДАНСКОГО ОБРАЗОВАНИЯ 2012-2013  "]
["первый",null,{"$f":"SUM(I13:I22)","v":12}]
["второй",null,{"$f":"SUM(I23:I38)","v":16.5}]
["третий",null,{"$f":"SUM(I39:I41,I43:I46,I48:I51,I53:I62,I64:I67)","v":13.1},"МАОУ \"Малиновская СОШ\" Томского района"]
["общее",null,{"$f":"SUM(C2:C4)","v":41.6},"Центр гражданского образования \"Школа Здоровья\""]
[1.0900000000000001,null,{"$f":"C5*A6","v":45.344000000000008},"Образовательная программа \"ОКНО\""]
["Общее количество слушателей образовательной Программы",null,null,null,null,null,null,32,"человек"]
["Количество педагогических работников ",null,null,null,null,null,null,2,"человек"]
["Количество консультантов из числа опытных старшеклассников, выпускников Центра",null,null,null,null,null,null,6,"человек"]
["Количество привлеченных специалистов",null,null,null,null,null,null,5,"человек"]
["Продолжительность образовательной Программы",null,null,null,null,null,null,83,"часов"]
["№","Направ-ление","Критерии",null,"Значение критерия","Единица измерения","Значение в единицах измерения","Система оценки","Рейтинговое значение"]
[1,"Образовательная программа","адаптированность","продолжительность образовательной Программы","количество часов",null,{"$f":"H11","v":83},"18-24 + 1б,\n25-48 + 2б,  \nболее 48 + 3б",{"$f":"IF($G$13>17,1,0)+IF($G$13>24,1,0)+IF($G$13>48,1,0)","v":3}]
[2,null,null,"наличие модулей в образовательной Программе для разновозрастных групп","для обучающихся = 1,\n для обучающихся и взрослых = 2",null,1,"1 + 1б,\n2 + 2б",{"$f":"IF(G14=1,1,0)+IF(G14=2,2,0)","v":1}]
[3,null,null,"наличие в образовательной Программе активных и интерактивных форм обучения","менее 50% занятий = 1,\n более 50% занятий = 2",null,2,"1 + 1б,\n2 + 2б",{"$f":"IF(G15=1,1,0)+IF(G15=2,2,0)","v":2}]
[4,null,null,"преемственность образовательных Программ из года в год","если существует = 1",null,1,"да + 1б",{"$f":"IF(G16=1,1,0)","v":1}]
[5,null,"доступность","наличие модулей, предложенных слушателям на выбор","если 2 модуля = 1,\n3 и более модулей = 2",null,0,"1 + 1б,\n2 + 2б",{"$f":"IF(G17=1,1,0)+IF(G17=2,2,0)","v":0}]
[6,null,null,"проведение мониторинга уровня сформированности ключевых компетентностей","если да = 1",null,1,"да + 3б",{"$f":"IF(G18=1,3,0)","v":3}]
[7,null,null,"программа реализуется в сетевом взаимодействии с другими Центрами","если да = 1",null,0,"да + 2б",{"$f":"IF(G19=1,2,0)","v":0}]
[8,null,null,"доля слушателей, привлеченных из других ОУ","количество",null,0,"100% + 3б",{"$f":"ROUND((G20/H7*3),1)","v":0}]
[9,null,"полнота реализации","Программа реализуется в полном объеме","если да = 1",null,1,"да + 1,5б,\nнет + 1б",{"$f":"IF(G21=1,1.5,1)","v":1.5}]
[10,null,null,"Программа изменилась при лучших условиях","если да = 1",null,1,"да + 0,5б",{"$f":"IF(G22=1,0.5,0)","v":0.5}]
[11,"Организация образовательного процесса","кадровое обеспечение","укомплектованность преподавательского состава в соответствии с Программой","состав полностью укомплектован = 1",null,1,"да + 2б,\nнет + 1б",{"$f":"IF(G23=1,2,1)","v":2}]
[12,null,null,"подготовка преподавателей по теме Программы","количество",null,2,"100% + 2б",{"$f":"ROUND((G24/(H8+H9+H10)*2),1)","v":0.3}]
[13,null,null,"привлечение специалистов из профессионального сообщества","количество",null,{"$f":"H10","v":5},"100% + 2б",{"$f":"ROUND((G25/(H9+H10+H8)*2),1)","v":0.8}]
[14,null,null,"привлечение консультантов из числа обучающихся, выпускников","количество",null,{"$f":"H9","v":6},"100% + 2б",{"$f":"ROUND((G26/(H10+H9+H8)*2),1)","v":0.9}]
[15,null,"материально-техническое обеспечение","наличие достаточной материальной базы для проведения знаний","если да = 1",null,1,"да + 2б,\nнет + 1б",{"$f":"IF(G27=1,2,1)","v":2}]
[16,null,null,"использование материальной базы иных организаций","если да = 1",null,1,"да + 2б",{"$f":"IF(G28=1,2,0)","v":2}]
[17,null,null,"наличие оборудованных рабочих мест для слушателей и преподавателей","если да = 1, \nтолько преподавателей = 2",null,2,"1 + 1б, \n2 + 0,5б",{"$f":"IF(G29=1,1,0)+IF(G29=2,0.5,0)","v":0.5}]
[18,null,"информационно-технологическое обеспечение","наличие страницы Центра на сайте образовательного учреждения  ","если да = 1",null,1,"да + 1б",{"$f":"IF(G30=1,1,0)","v":1}]
[19,null,null,"регулярность обновления страницы Центра на сайте","более 1 раза в месяц = 1, \nреже = 2",null,2,"1 + 1б, \n2 + 0,5б",{"$f":"IF(G31=1,1,0)+IF(G31=2,0.5,0)","v":0.5}]
[20,null,null,"использование доступа в интернет преподавателями и слушателями","если да = 1,  только преподавателями = 2",null,2,"1 + 1б, \n2 + 0,5б",{"$f":"IF(G32=1,1,0)+IF(G32=2,0.5,0)","v":0.5}]
[21,null,null,"наличие методических материалов Центра на сайте ОУ","если да = 1",null,1,"да + 1б",{"$f":"IF(G33=1,1,0)","v":1}]
[22,null,null,"наличие Совета Центра","если да = 1",null,1,"да + 0,5б",{"$f":"IF(G34=1,0.5,0)","v":0.5}]
[23,null,null,"наличие утвержденного положения о деятельности Центра","если да = 1",null,1,"да + 0,5б",{"$f":"IF(G35=1,0.5,0)","v":0.5}]
[24,null,null,"наличие оформленных договоров с социальными партнерами","если да = 1",null,1,"да + 1б",{"$f":"IF(G36=1,1,0)","v":1}]
[25,null,"учебно-методическое обеспечение","обеспеченность слушателей учебниками, справочной литературой","полное обеспечение = 1,\nчастичное = 2",null,2,"1 + 2б, \n2 + 1б",{"$f":"IF(G37=1,2,0)+IF(G37=2,1,0)","v":1}]
[26,null,null,"обеспеченность преподавателей методической литературой, программными средствами обучения","полное обеспечение = 1,\nчастичное = 2",null,1,"1 + 2б, \n2 + 1б",{"$f":"IF(G38=1,2,0)+IF(G38=2,1,0)","v":2}]
[27,"Результаты образовательной деятельности","уровень и качество общеобразовательной подготовки слушателей","слушатели, применившие полученную информацию на практике","количество",null,19,"100% + 2б",{"$f":"ROUND(G39/H7*2,1)","v":1.2}]
[28,null,null,"слушатели, освоившие программу и получившие удостоверение","количество",null,19,"100% + 4б",{"$f":"ROUND(G40/$H$7*4,1)","v":2.4}]
[29,null,null,"слушатели, получившие сертификат","количество",null,13,"100% + 1б",{"$f":"ROUND(G41/H7*1,1)","v":0.4}]
[30,null,"сформированность ключевых компетентностей слушателей","слушатели, имеющие документально подтвержденные достижения по теме Программы:"]
[null,null,null," - на школьном уровне","количество",null,9,"100% + 2б",{"$f":"ROUND(G43/$H$7*2,1)","v":0.6}]
[null,null,null," - на муниципальном уровне","количество",null,11,"100% + 3б",{"$f":"ROUND(G44/$H$7*3,1)","v":1}]
[null,null,null," - на региональном уровне","количество",null,12,"100% + 4б",{"$f":"ROUND(G45/$H$7*4,1)","v":1.5}]
[null,null,null," - на федеральном  и международном уровнях","количество",null,0,"100% + 5б",{"$f":"ROUND(G46/$H$7*5,1)","v":0}]
[31,null,"уровень обобщения и представления опыта деятельности Центра по теме Программы","публичное представление промежуточных результатов реализации образовательной Программы:"]
[null,null,null," - на школьном уровне","количество",null,1,"за 1 + 0,1б",{"$f":"G48*0.1","v":0.1}]
[null,null,null," - на муниципальном уровне","количество",null,1,"за 1 + 0,2б",{"$f":"G49*0.2","v":0.2}]
[null,null,null," - на региональном уровне","количество",null,1,"за 1 + 0,3б",{"$f":"G50*0.3","v":0.3}]
[null,null,null," - на федеральном  и международном уровнях","количество",null,0,"за 1 + 0,5б",{"$f":"G51*0.4","v":0}]
[32,null,null,"организация мероприятий, семинаров различного уровня по теме образовательной Программы:"]
[null,null,null," - на муниципальном уровне","количество",null,0,"за 1 + 0,3б",{"$f":"G53*0.3","v":0}]
[null,null,null," - на региональном уровне","количество",null,2,"за 1 + 0,5б",{"$f":"G54*0.5","v":1}]
[null,null,null," - на федеральном  и международном уровнях","количество",null,0,"за 1 + 0,7б",{"$f":"G55*0.7","v":0}]
[33,null,null,"внешкольная экспертная деятельность преподавателей Центра по теме Программы","количество часов",null,0,"за 100ч + 2б",{"$f":"G56*0.02","v":0}]
[34,null,null,"наличие публикаций в методических изданиях по теме Программы","количество страниц А4, интервал 1,5, шрифт 14 ",null,3,"за 24 стр. + 2б",{"$f":"ROUND(G57*2/24,1)","v":0.3}]
[35,null,null,"количество публикаций в СМИ муниципального и регионального уровня по теме Программы","количество статей",null,1,"за 1 ст. + 0,1б",{"$f":"G58*0.1","v":0.1}]
[36,null,"уровень организации и степень достижения целей и задач инновационной деятельности","наличие рецензии на образовательную Программу","если да = 1",null,1,"да + 2б",{"$f":"IF(G59=1,2,0)","v":2}]
[37,null,null,"Программа Центра является частью программы развития ОУ","если да = 1",null,1,"да + 1б",{"$f":"IF(G60=1,1,0)","v":1}]
[38,null,null,"Программа Центра является частью муниципальной программы развития","если да = 1",null,null,"да + 2б",{"$f":"IF(G61=1,2,0)","v":0}]
[39,null,null,"наличие общественной экспертизы результатов реализации образовательной Программы","если да = 1",null,0,"да + 1б",{"$f":"IF(G62=1,1,0)","v":0}]
[40,null,null,"публичное представление результатов инновационной деятельности на научно-практических конференциях"]
[null,null,null," - на школьном уровне","если да = 1",null,0,"да + 0,3б",{"$f":"IF(G64=1,0.3,0)","v":0}]
[null,null,null," - на муниципальном уровне","если да = 1",null,0,"да + 0,5б",{"$f":"IF(G65=1,0.5,0)","v":0}]
[null,null,null," - на региональном уровне","если да = 1",null,1,"да + 1б",{"$f":"IF(G66=1,1,0)","v":1}]
[null,null,null," - на федеральном  и международном уровнях","если да = 1",null,0,"да + 2б",{"$f":"IF(G67=1,2,0)","v":0}]
["Общее рейтинговое значение ",null,null,null,null,null,null,null,{"$f":"SUM(I13:I41,I43:I46,I48:I51,I53:I62,I64:I67)","v":41.6}]

{"sheet":"ТР Тур","index":34,"n_rows":68,"n_cols":9,"rows_kept":68,"cut":false,"hidden":false,"merged":[[60,4,60,5],[65,4,65,5],[38,1,66,1],[45,4,45,5],[40,4,40,5],[38,4,38,5],[39,4,39,5],[41,3,41,8],[64,4,64,5],[54,4,54,5],[46,3,46,8],[66,4,66,5],[58,2,66,2],[62,3,62,8],[61,4,61,5],[63,4,63,5],[59,4,59,5],[58,4,58,5],[44,4,44,5],[11,2,11,3],[38,2,40,2],[56,4,56,5],[55,4,55,5],[42,4,42,5],[46,2,57,2],[51,3,51,8],[48,4,48,5],[49,4,49,5],[41,2,45,2],[57,4,57,5],[32,4,32,5],[30,4,30,5],[0,3,2,8],[13,4,13,5],[22,2,25,2],[22,1,37,1],[17,4,17,5],[18,4,18,5],[20,4,20,5],[20,2,21,2],[1,0,1,1],[2,0,2,1],[6,0,6,6],[7,0,7,6],[8,0,8,6],[9,0,9,6],[19,4,19,5],[36,4,36,5],[3,0,3,1],[12,4,12,5],[14,4,14,5],[16,4,16,5],[12,2,15,2],[10,0,10,6],[15,4,15,5],[12,1,21,1],[21,4,21,5],[16,2,19,2],[23,4,23,5],[27,4,27,5],[29,4,29,5],[31,4,31,5],[62,0,66,0],[24,4,24,5],[25,4,25,5],[37,4,37,5],[26,2,28,2],[51,0,54,0],[26,4,26,5],[46,0,50,0],[36,2,37,2],[53,4,53,5],[41,0,45,0],[43,4,43,5],[35,4,35,5],[47,4,47,5],[0,0,0,2],[67,0,67,7],[3,3,3,8],[29,2,35,2],[28,4,28,5],[50,4,50,5],[52,4,52,5],[33,4,33,5],[34,4,34,5],[4,0,4,1],[5,0,5,1],[4,3,4,8],[5,3,5,8],[22,4,22,5]]}
["РЕЙТИНГ",null,null,"ОЦЕНОЧНЫЙ ЛИСТ РЕЙТИНГА РЕЗУЛЬТАТИВНОСТИ ОБРАЗОВАТЕЛЬНЫХ ПРОГРАММ ЦЕНТРОВ ГРАЖДАНСКОГО ОБРАЗОВАНИЯ 2012-2013  "]
["первый",null,{"$f":"SUM(I13:I22)","v":14}]
["второй",null,{"$f":"SUM(I23:I38)","v":15.6}]
["третий",null,{"$f":"SUM(I39:I41,I43:I46,I48:I51,I53:I62,I64:I67)","v":17.700000000000003},"MБОУ \"Турунтаевская СОШ\" Томского района"]
["общее",null,{"$f":"SUM(C2:C4)","v":47.300000000000004},"Центр гражданского образования \"Я+ТЫ=МЫ\""]
[1.17,null,{"$f":"C5*A6","v":55.341000000000001},"Образовательная программа \"Школа гражданина\""]
["Общее количество слушателей образовательной Программы",null,null,null,null,null,null,15,"человек"]
["Количество педагогических работников ",null,null,null,null,null,null,3,"человек"]
["Количество консультантов из числа опытных старшеклассников, выпускников Центра",null,null,null,null,null,null,5,"человек"]
["Количество привлеченных специалистов",null,null,null,null,null,null,null,"человек"]
["Продолжительность образовательной Программы",null,null,null,null,null,null,72,"часов"]
["№","Направ-ление","Критерии",null,"Значение критерия","Единица измерения","Значение в единицах измерения","Система оценки","Рейтинговое значение"]
[1,"Образовательная программа","адаптированность","продолжительность образовательной Программы","количество часов",null,{"$f":"H11","v":72},"18-24 + 1б,\n25-48 + 2б,  \nболее 48 + 3б",{"$f":"IF($G$13>17,1,0)+IF($G$13>24,1,0)+IF($G$13>48,1,0)","v":3}]
[2,null,null,"наличие модулей в образовательной Программе для разновозрастных групп","для обучающихся = 1,\n для обучающихся и взрослых = 2",null,1,"1 + 1б,\n2 + 2б",{"$f":"IF(G14=1,1,0)+IF(G14=2,2,0)","v":1}]
[3,null,null,"наличие в образовательной Программе активных и интерактивных форм обучения","менее 50% занятий = 1,\n более 50% занятий = 2",null,2,"1 + 1б,\n2 + 2б",{"$f":"IF(G15=1,1,0)+IF(G15=2,2,0)","v":2}]
[4,null,null,"преемственность образовательных Программ из года в год","если существует = 1",null,1,"да + 1б",{"$f":"IF(G16=1,1,0)","v":1}]
[5,null,"доступность","наличие модулей, предложенных слушателям на выбор","если 2 модуля = 1,\n3 и более модулей = 2",null,2,"1 + 1б,\n2 + 2б",{"$f":"IF(G17=1,1,0)+IF(G17=2,2,0)","v":2}]
[6,null,null,"проведение мониторинга уровня сформированности ключевых компетентностей","если да = 1",null,1,"да + 3б",{"$f":"IF(G18=1,3,0)","v":3}]
[7,null,null,"программа реализуется в сетевом взаимодействии с другими Центрами","если да = 1",null,null,"да + 2б",{"$f":"IF(G19=1,2,0)","v":0}]
[8,null,null,"доля слушателей, привлеченных из других ОУ","количество",null,null,"100% + 3б",{"$f":"ROUND((G20/H7*3),1)","v":0}]
[9,null,"полнота реализации","Программа реализуется в полном объеме","если да = 1",null,1,"да + 1,5б,\nнет + 1б",{"$f":"IF(G21=1,1.5,1)","v":1.5}]
[10,null,null,"Программа изменилась при лучших условиях","если да = 1",null,1,"да + 0,5б",{"$f":"IF(G22=1,0.5,0)","v":0.5}]
[11,"Организация образовательного процесса","кадровое обеспечение","укомплектованность преподавательского состава в соответствии с Программой","состав полностью укомплектован = 1",null,1,"да + 2б,\nнет + 1б",{"$f":"IF(G23=1,2,1)","v":2}]
[12,null,null,"подготовка преподавателей по теме Программы","количество",null,3,"100% + 2б",{"$f":"ROUND((G24/(H8+H9+H10)*2),1)","v":0.8}]
[13,null,null,"привлечение специалистов из профессионального сообщества","количество",null,{"$f":"H10","v":0},"100% + 2б",{"$f":"ROUND((G25/(H9+H10+H8)*2),1)","v":0}]
[14,null,null,"привлечение консультантов из числа обучающихся, выпускников","количество",null,{"$f":"H9","v":5},"100% + 2б",{"$f":"ROUND((G26/(H10+H9+H8)*2),1)","v":1.3}]
[15,null,"материально-техническое обеспечение","наличие достаточной материальной базы для проведения знаний","если да = 1",null,1,"да + 2б,\nнет + 1б",{"$f":"IF(G27=1,2,1)","v":2}]
[16,null,null,"использование материальной базы иных организаций","если да = 1",null,1,"да + 2б",{"$f":"IF(G28=1,2,0)","v":2}]
[17,null,null,"наличие оборудованных рабочих мест для слушателей и преподавателей","если да = 1, \nтолько преподавателей = 2",null,1,"1 + 1б, \n2 + 0,5б",{"$f":"IF(G29=1,1,0)+IF(G29=2,0.5,0)","v":1}]
[18,null,"информационно-технологическое обеспечение","наличие страницы Центра на сайте образовательного учреждения  ","если да = 1",null,1,"да + 1б",{"$f":"IF(G30=1,1,0)","v":1}]
[19,null,null,"регулярность обновления страницы Центра на сайте","более 1 раза в месяц = 1, \nреже = 2",null,2,"1 + 1б, \n2 + 0,5б",{"$f":"IF(G31=1,1,0)+IF(G31=2,0.5,0)","v":0.5}]
[20,null,null,"использование доступа в интернет преподавателями и слушателями","если да = 1,  только преподавателями = 2",null,1,"1 + 1б, \n2 + 0,5б",{"$f":"IF(G32=1,1,0)+IF(G32=2,0.5,0)","v":1}]
[21,null,null,"наличие методических материалов Центра на сайте ОУ","если да = 1",null,null,"да + 1б",{"$f":"IF(G33=1,1,0)","v":0}]
[22,null,null,"наличие Совета Центра","если да = 1",null,1,"да + 0,5б",{"$f":"IF(G34=1,0.5,0)","v":0.5}]
[23,null,null,"наличие утвержденного положения о деятельности Центра","если да = 1",null,1,"да + 0,5б",{"$f":"IF(G35=1,0.5,0)","v":0.5}]
[24,null,null,"наличие оформленных договоров с социальными партнерами","если да = 1",null,1,"да + 1б",{"$f":"IF(G36=1,1,0)","v":1}]
[25,null,"учебно-методическое обеспечение","обеспеченность слушателей учебниками, справочной литературой","полное обеспечение = 1,\nчастичное = 2",null,null,"1 + 2б, \n2 + 1б",{"$f":"IF(G37=1,2,0)+IF(G37=2,1,0)","v":0}]
[26,null,null,"обеспеченность преподавателей методической литературой, программными средствами обучения","полное обеспечение = 1,\nчастичное = 2",null,1,"1 + 2б, \n2 + 1б",{"$f":"IF(G38=1,2,0)+IF(G38=2,1,0)","v":2}]
[27,"Результаты образовательной деятельности","уровень и качество общеобразовательной подготовки слушателей","слушатели, применившие полученную информацию на практике","количество",null,15,"100% + 2б",{"$f":"ROUND(G39/H7*2,1)","v":2}]
[28,null,null,"слушатели, освоившие программу и получившие удостоверение","количество",null,2,"100% + 4б",{"$f":"ROUND(G40/$H$7*4,1)","v":0.5}]
[29,null,null,"слушатели, получившие сертификат","количество",null,13,"100% + 1б",{"$f":"ROUND(G41/H7*1,1)","v":0.9}]
[30,null,"сформированность ключевых компетентностей слушателей","слушатели, имеющие документально подтвержденные достижения по теме Программы:"]
[null,null,null," - на школьном уровне","количество",null,15,"100% + 2б",{"$f":"ROUND(G43/$H$7*2,1)","v":2}]
[null,null,null," - на муниципальном уровне","количество",null,7,"100% + 3б",{"$f":"ROUND(G44/$H$7*3,1)","v":1.4}]
[null,null,null," - на региональном уровне","количество",null,14,"100% + 4б",{"$f":"ROUND(G45/$H$7*4,1)","v":3.7}]
[null,null,null," - на федеральном  и международном уровнях","количество",null,null,"100% + 5б",{"$f":"ROUND(G46/$H$7*5,1)","v":0}]
[31,null,"уровень обобщения и представления опыта деятельности Центра по теме Программы","публичное представление промежуточных результатов реализации образовательной Программы:"]
[null,null,null," - на школьном уровне","количество",null,3,"за 1 + 0,1б",{"$f":"G48*0.1","v":0.30000000000000004}]
[null,null,null," - на муниципальном уровне","количество",null,0,"за 1 + 0,2б",{"$f":"G49*0.2","v":0}]
[null,null,null," - на региональном уровне","количество",null,1,"за 1 + 0,3б",{"$f":"G50*0.3","v":0.3}]
[null,null,null," - на федеральном  и международном уровнях","количество",null,null,"за 1 + 0,5б",{"$f":"G51*0.4","v":0}]
[32,null,null,"организация мероприятий, семинаров различного уровня по теме образовательной Программы:"]
[null,null,null," - на муниципальном уровне","количество",null,null,"за 1 + 0,3б",{"$f":"G53*0.3","v":0}]
[null,null,null," - на региональном уровне","количество",null,1,"за 1 + 0,5б",{"$f":"G54*0.5","v":0.5}]
[null,null,null," - на федеральном  и международном уровнях","количество",null,null,"за 1 + 0,7б",{"$f":"G55*0.7","v":0}]
[33,null,null,"внешкольная экспертная деятельность преподавателей Центра по теме Программы","количество часов",null,null,"за 100ч + 2б",{"$f":"G56*0.02","v":0}]
[34,null,null,"наличие публикаций в методических изданиях по теме Программы","количество страниц А4, интервал 1,5, шрифт 14 ",null,null,"за 24 стр. + 2б",{"$f":"ROUND(G57*2/24,1)","v":0}]
[35,null,null,"количество публикаций в СМИ муниципального и регионального уровня по теме Программы","количество статей",null,1,"за 1 ст. + 0,1б",{"$f":"G58*0.1","v":0.1}]
[36,null,"уровень организации и степень достижения целей и задач инновационной деятельности","наличие рецензии на образовательную Программу","если да = 1",null,1,"да + 2б",{"$f":"IF(G59=1,2,0)","v":2}]
[37,null,null,"Программа Центра является частью программы развития ОУ","если да = 1",null,1,"да + 1б",{"$f":"IF(G60=1,1,0)","v":1}]
[38,null,null,"Программа Центра является частью муниципальной программы развития","если да = 1",null,1,"да + 2б",{"$f":"IF(G61=1,2,0)","v":2}]
[39,null,null,"наличие общественной экспертизы результатов реализации образовательной Программы","если да = 1",null,1,"да + 1б",{"$f":"IF(G62=1,1,0)","v":1}]
[40,null,null,"публичное представление результатов инновационной деятельности на научно-практических конференциях"]
[null,null,null," - на школьном уровне","если да = 1",null,null,"да + 0,3б",{"$f":"IF(G64=1,0.3,0)","v":0}]
[null,null,null," - на муниципальном уровне","если да = 1",null,null,"да + 0,5б",{"$f":"IF(G65=1,0.5,0)","v":0}]
[null,null,null," - на региональном уровне","если да = 1",null,0,"да + 1б",{"$f":"IF(G66=1,1,0)","v":0}]
[null,null,null," - на федеральном  и международном уровнях","если да = 1",null,null,"да + 2б",{"$f":"IF(G67=1,2,0)","v":0}]
["Общее рейтинговое значение ",null,null,null,null,null,null,null,{"$f":"SUM(I13:I41,I43:I46,I48:I51,I53:I62,I64:I67)","v":47.3}]

{"sheet":"ТР Чер","index":35,"n_rows":68,"n_cols":9,"rows_kept":68,"cut":false,"hidden":false,"merged":[[60,4,60,5],[65,4,65,5],[38,1,66,1],[45,4,45,5],[40,4,40,5],[38,4,38,5],[39,4,39,5],[41,3,41,8],[64,4,64,5],[54,4,54,5],[46,3,46,8],[66,4,66,5],[58,2,66,2],[62,3,62,8],[61,4,61,5],[63,4,63,5],[59,4,59,5],[58,4,58,5],[44,4,44,5],[11,2,11,3],[38,2,40,2],[56,4,56,5],[55,4,55,5],[42,4,42,5],[46,2,57,2],[51,3,51,8],[48,4,48,5],[49,4,49,5],[41,2,45,2],[57,4,57,5],[32,4,32,5],[30,4,30,5],[0,3,2,8],[13,4,13,5],[22,2,25,2],[22,1,37,1],[17,4,17,5],[18,4,18,5],[20,4,20,5],[20,2,21,2],[1,0,1,1],[2,0,2,1],[6,0,6,6],[7,0,7,6],[8,0,8,6],[9,0,9,6],[19,4,19,5],[36,4,36,5],[3,0,3,1],[12,4,12,5],[14,4,14,5],[16,4,16,5],[12,2,15,2],[10,0,10,6],[15,4,15,5],[12,1,21,1],[21,4,21,5],[16,2,19,2],[23,4,23,5],[27,4,27,5],[29,4,29,5],[31,4,31,5],[62,0,66,0],[24,4,24,5],[25,4,25,5],[37,4,37,5],[26,2,28,2],[51,0,54,0],[26,4,26,5],[46,0,50,0],[36,2,37,2],[53,4,53,5],[41,0,45,0],[43,4,43,5],[35,4,35,5],[47,4,47,5],[0,0,0,2],[67,0,67,7],[3,3,3,8],[29,2,35,2],[28,4,28,5],[50,4,50,5],[52,4,52,5],[33,4,33,5],[34,4,34,5],[4,0,4,1],[5,0,5,1],[4,3,4,8],[5,3,5,8],[22,4,22,5]]}
["РЕЙТИНГ",null,null,"ОЦЕНОЧНЫЙ ЛИСТ РЕЙТИНГА РЕЗУЛЬТАТИВНОСТИ ОБРАЗОВАТЕЛЬНЫХ ПРОГРАММ ЦЕНТРОВ ГРАЖДАНСКОГО ОБРАЗОВАНИЯ 2012-2013  "]
["первый",null,{"$f":"SUM(I13:I22)","v":10}]
["второй",null,{"$f":"SUM(I23:I38)","v":11.8}]
["третий",null,{"$f":"SUM(I39:I41,I43:I46,I48:I51,I53:I62,I64:I67)","v":14.399999999999999},"МБОУ \"Чернореченская СОШ\" Томского района"]
["общее",null,{"$f":"SUM(C2:C4)","v":36.200000000000003},"Центр гражданского образования \"Истоки\""]
[1.0900000000000001,null,{"$f":"C5*A6","v":39.458000000000006},"Образовательная программа \"Этноэтикет томских татар\""]
["Общее количество слушателей образовательной Программы",null,null,null,null,null,null,36,"человек"]
["Количество педагогических работников ",null,null,null,null,null,null,6,"человек"]
["Количество консультантов из числа опытных старшеклассников, выпускников Центра",null,null,null,null,null,null,0,"человек"]
["Количество привлеченных специалистов",null,null,null,null,null,null,0,"человек"]
["Продолжительность образовательной Программы",null,null,null,null,null,null,20,"часов"]
["№","Направ-ление","Критерии",null,"Значение критерия","Единица измерения","Значение в единицах измерения","Система оценки","Рейтинговое значение"]
[1,"Образовательная программа","адаптированность","продолжительность образовательной Программы","количество часов",null,{"$f":"H11","v":20},"18-24 + 1б,\n25-48 + 2б,  \nболее 48 + 3б",{"$f":"IF($G$13>17,1,0)+IF($G$13>24,1,0)+IF($G$13>48,1,0)","v":1}]
[2,null,null,"наличие модулей в образовательной Программе для разновозрастных групп","для обучающихся = 1,\n для обучающихся и взрослых = 2",null,1,"1 + 1б,\n2 + 2б",{"$f":"IF(G14=1,1,0)+IF(G14=2,2,0)","v":1}]
[3,null,null,"наличие в образовательной Программе активных и интерактивных форм обучения","менее 50% занятий = 1,\n более 50% занятий = 2",null,2,"1 + 1б,\n2 + 2б",{"$f":"IF(G15=1,1,0)+IF(G15=2,2,0)","v":2}]
[4,null,null,"преемственность образовательных Программ из года в год","если существует = 1",null,1,"да + 1б",{"$f":"IF(G16=1,1,0)","v":1}]
[5,null,"доступность","наличие модулей, предложенных слушателям на выбор","если 2 модуля = 1,\n3 и более модулей = 2",null,0,"1 + 1б,\n2 + 2б",{"$f":"IF(G17=1,1,0)+IF(G17=2,2,0)","v":0}]
[6,null,null,"проведение мониторинга уровня сформированности ключевых компетентностей","если да = 1",null,1,"да + 3б",{"$f":"IF(G18=1,3,0)","v":3}]
[7,null,null,"программа реализуется в сетевом взаимодействии с другими Центрами","если да = 1",null,0,"да + 2б",{"$f":"IF(G19=1,2,0)","v":0}]
[8,null,null,"доля слушателей, привлеченных из других ОУ","количество",null,0,"100% + 3б",{"$f":"ROUND((G20/H7*3),1)","v":0}]
[9,null,"полнота реализации","Программа реализуется в полном объеме","если да = 1",null,1,"да + 1,5б,\nнет + 1б",{"$f":"IF(G21=1,1.5,1)","v":1.5}]
[10,null,null,"Программа изменилась при лучших условиях","если да = 1",null,1,"да + 0,5б",{"$f":"IF(G22=1,0.5,0)","v":0.5}]
[11,"Организация образовательного процесса","кадровое обеспечение","укомплектованность преподавательского состава в соответствии с Программой","состав полностью укомплектован = 1",null,1,"да + 2б,\nнет + 1б",{"$f":"IF(G23=1,2,1)","v":2}]
[12,null,null,"подготовка преподавателей по теме Программы","количество",null,1,"100% + 2б",{"$f":"ROUND((G24/(H8+H9+H10)*2),1)","v":0.3}]
[13,null,null,"привлечение специалистов из профессионального сообщества","количество",null,{"$f":"H10","v":0},"100% + 2б",{"$f":"ROUND((G25/(H9+H10+H8)*2),1)","v":0}]
[14,null,null,"привлечение консультантов из числа обучающихся, выпускников","количество",null,{"$f":"H9","v":0},"100% + 2б",{"$f":"ROUND((G26/(H10+H9+H8)*2),1)","v":0}]
[15,null,"материально-техническое обеспечение","наличие достаточной материальной базы для проведения знаний","если да = 1",null,1,"да + 2б,\nнет + 1б",{"$f":"IF(G27=1,2,1)","v":2}]
[16,null,null,"использование материальной базы иных организаций","если да = 1",null,0,"да + 2б",{"$f":"IF(G28=1,2,0)","v":0}]
[17,null,null,"наличие оборудованных рабочих мест для слушателей и преподавателей","если да = 1, \nтолько преподавателей = 2",null,2,"1 + 1б, \n2 + 0,5б",{"$f":"IF(G29=1,1,0)+IF(G29=2,0.5,0)","v":0.5}]
[18,null,"информационно-технологическое обеспечение","наличие страницы Центра на сайте образовательного учреждения  ","если да = 1",null,1,"да + 1б",{"$f":"IF(G30=1,1,0)","v":1}]
[19,null,null,"регулярность обновления страницы Центра на сайте","более 1 раза в месяц = 1, \nреже = 2",null,2,"1 + 1б, \n2 + 0,5б",{"$f":"IF(G31=1,1,0)+IF(G31=2,0.5,0)","v":0.5}]
[20,null,null,"использование доступа в интернет преподавателями и слушателями","если да = 1,  только преподавателями = 2",null,2,"1 + 1б, \n2 + 0,5б",{"$f":"IF(G32=1,1,0)+IF(G32=2,0.5,0)","v":0.5}]
[21,null,null,"наличие методических материалов Центра на сайте ОУ","если да = 1",null,1,"да + 1б",{"$f":"IF(G33=1,1,0)","v":1}]
[22,null,null,"наличие Совета Центра","если да = 1",null,1,"да + 0,5б",{"$f":"IF(G34=1,0.5,0)","v":0.5}]
[23,null,null,"наличие утвержденного положения о деятельности Центра","если да = 1",null,1,"да + 0,5б",{"$f":"IF(G35=1,0.5,0)","v":0.5}]
[24,null,null,"наличие оформленных договоров с социальными партнерами","если да = 1",null,1,"да + 1б",{"$f":"IF(G36=1,1,0)","v":1}]
[25,null,"учебно-методическое обеспечение","обеспеченность слушателей учебниками, справочной литературой","полное обеспечение = 1,\nчастичное = 2",null,2,"1 + 2б, \n2 + 1б",{"$f":"IF(G37=1,2,0)+IF(G37=2,1,0)","v":1}]
[26,null,null,"обеспеченность преподавателей методической литературой, программными средствами обучения","полное обеспечение = 1,\nчастичное = 2",null,2,"1 + 2б, \n2 + 1б",{"$f":"IF(G38=1,2,0)+IF(G38=2,1,0)","v":1}]
[27,"Результаты образовательной деятельности","уровень и качество общеобразовательной подготовки слушателей","слушатели, применившие полученную информацию на практике","количество",null,36,"100% + 2б",{"$f":"ROUND(G39/H7*2,1)","v":2}]
[28,null,null,"слушатели, освоившие программу и получившие удостоверение","количество",null,36,"100% + 4б",{"$f":"ROUND(G40/$H$7*4,1)","v":4}]
[29,null,null,"слушатели, получившие сертификат","количество",null,0,"100% + 1б",{"$f":"ROUND(G41/H7*1,1)","v":0}]
[30,null,"сформированность ключевых компетентностей слушателей","слушатели, имеющие документально подтвержденные достижения по теме Программы:"]
[null,null,null," - на школьном уровне","количество",null,4,"100% + 2б",{"$f":"ROUND(G43/$H$7*2,1)","v":0.2}]
[null,null,null," - на муниципальном уровне","количество",null,0,"100% + 3б",{"$f":"ROUND(G44/$H$7*3,1)","v":0}]
[null,null,null," - на региональном уровне","количество",null,1,"100% + 4б",{"$f":"ROUND(G45/$H$7*4,1)","v":0.1}]
[null,null,null," - на федеральном  и международном уровнях","количество",null,0,"100% + 5б",{"$f":"ROUND(G46/$H$7*5,1)","v":0}]
[31,null,"уровень обобщения и представления опыта деятельности Центра по теме Программы","публичное представление промежуточных результатов реализации образовательной Программы:"]
[null,null,null," - на школьном уровне","количество",null,1,"за 1 + 0,1б",{"$f":"G48*0.1","v":0.1}]
[null,null,null," - на муниципальном уровне","количество",null,0,"за 1 + 0,2б",{"$f":"G49*0.2","v":0}]
[null,null,null," - на региональном уровне","количество",null,0,"за 1 + 0,3б",{"$f":"G50*0.3","v":0}]
[null,null,null," - на федеральном  и международном уровнях","количество",null,0,"за 1 + 0,5б",{"$f":"G51*0.4","v":0}]
[32,null,null,"организация мероприятий, семинаров различного уровня по теме образовательной Программы:"]
[null,null,null," - на муниципальном уровне","количество",null,0,"за 1 + 0,3б",{"$f":"G53*0.3","v":0}]
[null,null,null," - на региональном уровне","количество",null,1,"за 1 + 0,5б",{"$f":"G54*0.5","v":0.5}]
[null,null,null," - на федеральном  и международном уровнях","количество",null,null,"за 1 + 0,7б",{"$f":"G55*0.7","v":0}]
[33,null,null,"внешкольная экспертная деятельность преподавателей Центра по теме Программы","количество часов",null,0,"за 100ч + 2б",{"$f":"G56*0.02","v":0}]
[34,null,null,"наличие публикаций в методических изданиях по теме Программы","количество страниц А4, интервал 1,5, шрифт 14 ",null,0,"за 24 стр. + 2б",{"$f":"ROUND(G57*2/24,1)","v":0}]
[35,null,null,"количество публикаций в СМИ муниципального и регионального уровня по теме Программы","количество статей",null,0,"за 1 ст. + 0,1б",{"$f":"G58*0.1","v":0}]
[36,null,"уровень организации и степень достижения целей и задач инновационной деятельности","наличие рецензии на образовательную Программу","если да = 1",null,1,"да + 2б",{"$f":"IF(G59=1,2,0)","v":2}]
[37,null,null,"Программа Центра является частью программы развития ОУ","если да = 1",null,1,"да + 1б",{"$f":"IF(G60=1,1,0)","v":1}]
[38,null,null,"Программа Центра является частью муниципальной программы развития","если да = 1",null,1,"да + 2б",{"$f":"IF(G61=1,2,0)","v":2}]
[39,null,null,"наличие общественной экспертизы результатов реализации образовательной Программы","если да = 1",null,1,"да + 1б",{"$f":"IF(G62=1,1,0)","v":1}]
[40,null,null,"публичное представление результатов инновационной деятельности на научно-практических конференциях"]
[null,null,null," - на школьном уровне","если да = 1",null,0,"да + 0,3б",{"$f":"IF(G64=1,0.3,0)","v":0}]
[null,null,null," - на муниципальном уровне","если да = 1",null,1,"да + 0,5б",{"$f":"IF(G65=1,0.5,0)","v":0.5}]
[null,null,null," - на региональном уровне","если да = 1",null,1,"да + 1б",{"$f":"IF(G66=1,1,0)","v":1}]
[null,null,null," - на федеральном  и международном уровнях","если да = 1",null,0,"да + 2б",{"$f":"IF(G67=1,2,0)","v":0}]
["Общее рейтинговое значение ",null,null,null,null,null,null,null,{"$f":"SUM(I13:I41,I43:I46,I48:I51,I53:I62,I64:I67)","v":36.200000000000003}]

{"sheet":" ТР Кал","index":36,"n_rows":68,"n_cols":9,"rows_kept":68,"cut":false,"hidden":false,"merged":[[67,0,67,7],[62,0,66,0],[62,3,62,8],[63,4,63,5],[64,4,64,5],[65,4,65,5],[66,4,66,5],[46,0,50,0],[46,2,57,2],[46,3,46,8],[47,4,47,5],[48,4,48,5],[49,4,49,5],[50,4,50,5],[51,0,54,0],[51,3,51,8],[52,4,52,5],[55,4,55,5],[56,4,56,5],[57,4,57,5],[41,0,45,0],[41,2,45,2],[41,3,41,8],[42,4,42,5],[43,4,43,5],[44,4,44,5],[45,4,45,5],[38,1,66,1],[38,2,40,2],[38,4,38,5],[39,4,39,5],[40,4,40,5],[53,4,53,5],[54,4,54,5],[58,2,66,2],[58,4,58,5],[59,4,59,5],[60,4,60,5],[61,4,61,5],[34,4,34,5],[35,4,35,5],[36,2,37,2],[36,4,36,5],[37,4,37,5],[22,1,37,1],[22,2,25,2],[22,4,22,5],[23,4,23,5],[24,4,24,5],[25,4,25,5],[26,2,28,2],[26,4,26,5],[27,4,27,5],[28,4,28,5],[29,2,35,2],[29,4,29,5],[30,4,30,5],[31,4,31,5],[32,4,32,5],[33,4,33,5],[20,2,21,2],[20,4,20,5],[21,4,21,5],[12,1,21,1],[12,2,15,2],[12,4,12,5],[13,4,13,5],[14,4,14,5],[15,4,15,5],[16,2,19,2],[19,4,19,5],[16,4,16,5],[17,4,17,5],[18,4,18,5],[8,0,8,6],[9,0,9,6],[10,0,10,6],[11,2,11,3],[0,0,0,2],[0,3,2,8],[1,0,1,1],[2,0,2,1],[5,0,5,1],[5,3,5,8],[6,0,6,6],[7,0,7,6],[3,0,3,1],[3,3,3,8],[4,0,4,1],[4,3,4,8]]}
["РЕЙТИНГ",null,null,"ОЦЕНОЧНЫЙ ЛИСТ РЕЙТИНГА РЕЗУЛЬТАТИВНОСТИ ОБРАЗОВАТЕЛЬНЫХ ПРОГРАММ ЦЕНТРОВ ГРАЖДАНСКОГО ОБРАЗОВАНИЯ 2012-2013  "]
["первый",null,{"$f":"SUM(I13:I22)","v":6.5}]
["второй",null,{"$f":"SUM(I23:I38)","v":14.7}]
["третий",null,{"$f":"SUM(I39:I41,I43:I46,I48:I51,I53:I62,I64:I67)","v":13.1},"МБОУ Калтайская СОШ Томского Района "]
["общее",null,{"$f":"SUM(C2:C4)","v":34.299999999999997},"Центр гражданского образования \"Право в нашей жизни\""]
[1.0900000000000001,null,{"$f":"C5*A6","v":37.387},"Образовательная Программа \"Право в нашей жизни\""]
["Общее количество слушателей образовательной Программы",null,null,null,null,null,null,5,"человек"]
["Количество педагогических работников ",null,null,null,null,null,null,4,"человек"]
["Количество консультантов из числа опытных старшеклассников, выпускников Центра",null,null,null,null,null,null,0,"человек"]
["Количество привлеченных специалистов",null,null,null,null,null,null,3,"человек"]
["Продолжительность образовательной Программы",null,null,null,null,null,null,64,"часов"]
["№","Направ-ление","Критерии",null,"Значение критерия","Единица измерения","Значение в единицах измерения","Система оценки","Рейтинговое значение"]
[1,"Образовательная программа","адаптированность","продолжительность образовательной Программы","количество часов",null,{"$f":"H11","v":64},"18-24 + 1б,\n25-48 + 2б,  \nболее 48 + 3б",{"$f":"IF($G$13>17,1,0)+IF($G$13>24,1,0)+IF($G$13>48,1,0)","v":3}]
[2,null,null,"наличие модулей в образовательной Программе для разновозрастных групп","для обучающихся = 1,\n для обучающихся и взрослых = 2",null,0,"1 + 1б,\n2 + 2б",{"$f":"IF(G14=1,1,0)+IF(G14=2,2,0)","v":0}]
[3,null,null,"наличие в образовательной Программе активных и интерактивных форм обучения","менее 50% занятий = 1,\n более 50% занятий = 2",null,1,"1 + 1б,\n2 + 2б",{"$f":"IF(G15=1,1,0)+IF(G15=2,2,0)","v":1}]
[4,null,null,"преемственность образовательных Программ из года в год","если существует = 1",null,1,"да + 1б",{"$f":"IF(G16=1,1,0)","v":1}]
[5,null,"доступность","наличие модулей, предложенных слушателям на выбор","если 2 модуля = 1,\n3 и более модулей = 2",null,0,"1 + 1б,\n2 + 2б",{"$f":"IF(G17=1,1,0)+IF(G17=2,2,0)","v":0}]
[6,null,null,"проведение мониторинга уровня сформированности ключевых компетентностей","если да = 1",null,0,"да + 3б",{"$f":"IF(G18=1,3,0)","v":0}]
[7,null,null,"программа реализуется в сетевом взаимодействии с другими Центрами","если да = 1",null,0,"да + 2б",{"$f":"IF(G19=1,2,0)","v":0}]
[8,null,null,"доля слушателей, привлеченных из других ОУ","количество",null,0,"100% + 3б",{"$f":"ROUND((G20/H7*3),1)","v":0}]
[9,null,"полнота реализации","Программа реализуется в полном объеме","если да = 1",null,1,"да + 1,5б,\nнет + 1б",{"$f":"IF(G21=1,1.5,1)","v":1.5}]
[10,null,null,"Программа изменилась при лучших условиях","если да = 1",null,0,"да + 0,5б",{"$f":"IF(G22=1,0.5,0)","v":0}]
[11,"Организация образовательного процесса","кадровое обеспечение","укомплектованность преподавательского состава в соответствии с Программой","состав полностью укомплектован = 1",null,1,"да + 2б,\nнет + 1б",{"$f":"IF(G23=1,2,1)","v":2}]
[12,null,null,"подготовка преподавателей по теме Программы","количество",null,1,"100% + 2б",{"$f":"ROUND((G24/(H8+H9+H10)*2),1)","v":0.3}]
[13,null,null,"привлечение специалистов из профессионального сообщества","количество",null,{"$f":"H10","v":3},"100% + 2б",{"$f":"ROUND((G25/(H9+H10+H8)*2),1)","v":0.9}]
[14,null,null,"привлечение консультантов из числа обучающихся, выпускников","количество",null,{"$f":"H9","v":0},"100% + 2б",{"$f":"ROUND((G26/(H10+H9+H8)*2),1)","v":0}]
[15,null,"материально-техническое обеспечение","наличие достаточной материальной базы для проведения знаний","если да = 1",null,1,"да + 2б,\nнет + 1б",{"$f":"IF(G27=1,2,1)","v":2}]
[16,null,null,"использование материальной базы иных организаций","если да = 1",null,1,"да + 2б",{"$f":"IF(G28=1,2,0)","v":2}]
[17,null,null,"наличие оборудованных рабочих мест для слушателей и преподавателей","если да = 1, \nтолько преподавателей = 2",null,1,"1 + 1б, \n2 + 0,5б",{"$f":"IF(G29=1,1,0)+IF(G29=2,0.5,0)","v":1}]
[18,null,"информационно-технологическое обеспечение","наличие страницы Центра на сайте образовательного учреждения  ","если да = 1",null,0,"да + 1б",{"$f":"IF(G30=1,1,0)","v":0}]
[19,null,null,"регулярность обновления страницы Центра на сайте","более 1 раза в месяц = 1, \nреже = 2",null,0,"1 + 1б, \n2 + 0,5б",{"$f":"IF(G31=1,1,0)+IF(G31=2,0.5,0)","v":0}]
[20,null,null,"использование доступа в интернет преподавателями и слушателями","если да = 1,  только преподавателями = 2",null,1,"1 + 1б, \n2 + 0,5б",{"$f":"IF(G32=1,1,0)+IF(G32=2,0.5,0)","v":1}]
[21,null,null,"наличие методических материалов Центра на сайте ОУ","если да = 1",null,0,"да + 1б",{"$f":"IF(G33=1,1,0)","v":0}]
[22,null,null,"наличие Совета Центра","если да = 1",null,0,"да + 0,5б",{"$f":"IF(G34=1,0.5,0)","v":0}]
[23,null,null,"наличие утвержденного положения о деятельности Центра","если да = 1",null,1,"да + 0,5б",{"$f":"IF(G35=1,0.5,0)","v":0.5}]
[24,null,null,"наличие оформленных договоров с социальными партнерами","если да = 1",null,1,"да + 1б",{"$f":"IF(G36=1,1,0)","v":1}]
[25,null,"учебно-методическое обеспечение","обеспеченность слушателей учебниками, справочной литературой","полное обеспечение = 1,\nчастичное = 2",null,1,"1 + 2б, \n2 + 1б",{"$f":"IF(G37=1,2,0)+IF(G37=2,1,0)","v":2}]
[26,null,null,"обеспеченность преподавателей методической литературой, программными средствами обучения","полное обеспечение = 1,\nчастичное = 2",null,1,"1 + 2б, \n2 + 1б",{"$f":"IF(G38=1,2,0)+IF(G38=2,1,0)","v":2}]
[27,"Результаты образовательной деятельности","уровень и качество общеобразовательной подготовки слушателей","слушатели, применившие полученную информацию на практике","количество",null,5,"100% + 2б",{"$f":"ROUND(G39/H7*2,1)","v":2}]
[28,null,null,"слушатели, освоившие программу и получившие удостоверение","количество",null,3,"100% + 4б",{"$f":"ROUND(G40/$H$7*4,1)","v":2.4}]
[29,null,null,"слушатели, получившие сертификат","количество",null,2,"100% + 1б",{"$f":"ROUND(G41/H7*1,1)","v":0.4}]
[30,null,"сформированность ключевых компетентностей слушателей","слушатели, имеющие документально подтвержденные достижения по теме Программы:"]
[null,null,null," - на школьном уровне","количество",null,5,"100% + 2б",{"$f":"ROUND(G43/$H$7*2,1)","v":2}]
[null,null,null," - на муниципальном уровне","количество",null,1,"100% + 3б",{"$f":"ROUND(G44/$H$7*3,1)","v":0.6}]
[null,null,null," - на региональном уровне","количество",null,5,"100% + 4б",{"$f":"ROUND(G45/$H$7*4,1)","v":4}]
[null,null,null," - на федеральном  и международном уровнях","количество",null,0,"100% + 5б",{"$f":"ROUND(G46/$H$7*5,1)","v":0}]
[31,null,"уровень обобщения и представления опыта деятельности Центра по теме Программы","публичное представление промежуточных результатов реализации образовательной Программы:"]
[null,null,null," - на школьном уровне","количество",null,2,"за 1 + 0,1б",{"$f":"G48*0.1","v":0.2}]
[null,null,null," - на муниципальном уровне","количество",null,0,"за 1 + 0,2б",{"$f":"G49*0.2","v":0}]
[null,null,null," - на региональном уровне","количество",null,0,"за 1 + 0,3б",{"$f":"G50*0.3","v":0}]
[null,null,null," - на федеральном  и международном уровнях","количество",null,0,"за 1 + 0,5б",{"$f":"G51*0.4","v":0}]
[32,null,null,"организация мероприятий, семинаров различного уровня по теме образовательной Программы:"]
[null,null,null," - на муниципальном уровне","количество",null,0,"за 1 + 0,3б",{"$f":"G53*0.3","v":0}]
[null,null,null," - на региональном уровне","количество",null,1,"за 1 + 0,5б",{"$f":"G54*0.5","v":0.5}]
[null,null,null," - на федеральном  и международном уровнях","количество",null,0,"за 1 + 0,7б",{"$f":"G55*0.7","v":0}]
[33,null,null,"внешкольная экспертная деятельность преподавателей Центра по теме Программы","количество часов",null,0,"за 100ч + 2б",{"$f":"G56*0.02","v":0}]
[34,null,null,"наличие публикаций в методических изданиях по теме Программы","количество страниц А4, интервал 1,5, шрифт 14 ",null,0,"за 24 стр. + 2б",{"$f":"ROUND(G57*2/24,1)","v":0}]
[35,null,null,"количество публикаций в СМИ муниципального и регионального уровня по теме Программы","количество статей",null,0,"за 1 ст. + 0,1б",{"$f":"G58*0.1","v":0}]
[36,null,"уровень организации и степень достижения целей и задач инновационной деятельности","наличие рецензии на образовательную Программу","если да = 1",null,0,"да + 2б",{"$f":"IF(G59=1,2,0)","v":0}]
[37,null,null,"Программа Центра является частью программы развития ОУ","если да = 1",null,1,"да + 1б",{"$f":"IF(G60=1,1,0)","v":1}]
[38,null,null,"Программа Центра является частью муниципальной программы развития","если да = 1",null,0,"да + 2б",{"$f":"IF(G61=1,2,0)","v":0}]
[39,null,null,"наличие общественной экспертизы результатов реализации образовательной Программы","если да = 1",null,0,"да + 1б",{"$f":"IF(G62=1,1,0)","v":0}]
[40,null,null,"публичное представление результатов инновационной деятельности на научно-практических конференциях"]
[null,null,null," - на школьном уровне","если да = 1",null,0,"да + 0,3б",{"$f":"IF(G64=1,0.3,0)","v":0}]
[null,null,null," - на муниципальном уровне","если да = 1",null,0,"да + 0,5б",{"$f":"IF(G65=1,0.5,0)","v":0}]
[null,null,null," - на региональном уровне","если да = 1",null,0,"да + 1б",{"$f":"IF(G66=1,1,0)","v":0}]
[null,null,null," - на федеральном  и международном уровнях","если да = 1",null,0,"да + 2б",{"$f":"IF(G67=1,2,0)","v":0}]
["Общее рейтинговое значение ",null,null,null,null,null,null,null,{"$f":"SUM(I13:I41,I43:I46,I48:I51,I53:I62,I64:I67)","v":34.300000000000004}]

{"sheet":"ТР ДДТ","index":37,"n_rows":68,"n_cols":9,"rows_kept":68,"cut":false,"hidden":false,"merged":[[0,0,0,2],[67,0,67,7],[3,3,3,8],[29,2,35,2],[28,4,28,5],[50,4,50,5],[52,4,52,5],[33,4,33,5],[23,4,23,5],[27,4,27,5],[29,4,29,5],[31,4,31,5],[35,4,35,5],[4,0,4,1],[5,0,5,1],[4,3,4,8],[5,3,5,8],[22,4,22,5],[62,0,66,0],[24,4,24,5],[25,4,25,5],[37,4,37,5],[26,2,28,2],[51,0,54,0],[26,4,26,5],[46,0,50,0],[36,2,37,2],[53,4,53,5],[34,4,34,5],[47,4,47,5],[41,2,45,2],[57,4,57,5],[0,3,2,8],[13,4,13,5],[22,2,25,2],[22,1,37,1],[17,4,17,5],[18,4,18,5],[20,4,20,5],[20,2,21,2],[1,0,1,1],[2,0,2,1],[3,0,3,1],[12,4,12,5],[14,4,14,5],[16,4,16,5],[12,2,15,2],[10,0,10,6],[41,0,45,0],[6,0,6,6],[7,0,7,6],[8,0,8,6],[9,0,9,6],[19,4,19,5],[36,4,36,5],[43,4,43,5],[44,4,44,5],[11,2,11,3],[15,4,15,5],[12,1,21,1],[21,4,21,5],[16,2,19,2],[32,4,32,5],[30,4,30,5],[38,1,66,1],[45,4,45,5],[40,4,40,5],[38,4,38,5],[39,4,39,5],[41,3,41,8],[64,4,64,5],[54,4,54,5],[38,2,40,2],[56,4,56,5],[55,4,55,5],[42,4,42,5],[46,2,57,2],[51,3,51,8],[46,3,46,8],[66,4,66,5],[48,4,48,5],[49,4,49,5],[58,2,66,2],[62,3,62,8],[61,4,61,5],[63,4,63,5],[59,4,59,5],[58,4,58,5],[60,4,60,5],[65,4,65,5]]}
["РЕЙТИНГ",null,null,"ОЦЕНОЧНЫЙ ЛИСТ РЕЙТИНГА РЕЗУЛЬТАТИВНОСТИ ОБРАЗОВАТЕЛЬНЫХ ПРОГРАММ ЦЕНТРОВ ГРАЖДАНСКОГО ОБРАЗОВАНИЯ 2012-2013  "]
["первый",null,{"$f":"SUM(I13:I22)","v":16}]
["второй",null,{"$f":"SUM(I23:I38)","v":10.8}]
["третий",null,{"$f":"SUM(I39:I41,I43:I46,I48:I51,I53:I62,I64:I67)","v":5.2},"МБОУ ДДТ Томского района Томской области"]
["общее",null,{"$f":"SUM(C2:C4)","v":32},"ЦГО \"Перспектива\""]
[1.0900000000000001,null,{"$f":"C5*A6","v":34.880000000000003},"Образовательная программа «Перспектива»"]
["Общее количество слушателей образовательной Программы",null,null,null,null,null,null,50,"человек"]
["Количество педагогических работников ",null,null,null,null,null,null,3,"человек"]
["Количество консультантов из числа опытных старшеклассников, выпускников Центра",null,null,null,null,null,null,0,"человек"]
["Количество привлеченных специалистов",null,null,null,null,null,null,0,"человек"]
["Продолжительность образовательной Программы",null,null,null,null,null,null,32,"часов"]
["№","Направ-ление","Критерии",null,"Значение критерия","Единица измерения","Значение в единицах измерения","Система оценки","Рейтинговое значение"]
[1,"Образовательная программа","адаптированность","продолжительность образовательной Программы","количество часов",null,{"$f":"H11","v":32},"18-24 + 1б,\n25-48 + 2б,  \nболее 48 + 3б",{"$f":"IF($G$13>17,1,0)+IF($G$13>24,1,0)+IF($G$13>48,1,0)","v":2}]
[2,null,null,"наличие модулей в образовательной Программе для разновозрастных групп","для обучающихся = 1,\n для обучающихся и взрослых = 2",null,1,"1 + 1б,\n2 + 2б",{"$f":"IF(G14=1,1,0)+IF(G14=2,2,0)","v":1}]
[3,null,null,"наличие в образовательной Программе активных и интерактивных форм обучения","менее 50% занятий = 1,\n более 50% занятий = 2",null,2,"1 + 1б,\n2 + 2б",{"$f":"IF(G15=1,1,0)+IF(G15=2,2,0)","v":2}]
[4,null,null,"преемственность образовательных Программ из года в год","если существует = 1",null,1,"да + 1б",{"$f":"IF(G16=1,1,0)","v":1}]
[5,null,"доступность","наличие модулей, предложенных слушателям на выбор","если 2 модуля = 1,\n3 и более модулей = 2",null,0,"1 + 1б,\n2 + 2б",{"$f":"IF(G17=1,1,0)+IF(G17=2,2,0)","v":0}]
[6,null,null,"проведение мониторинга уровня сформированности ключевых компетентностей","если да = 1",null,1,"да + 3б",{"$f":"IF(G18=1,3,0)","v":3}]
[7,null,null,"программа реализуется в сетевом взаимодействии с другими Центрами","если да = 1",null,1,"да + 2б",{"$f":"IF(G19=1,2,0)","v":2}]
[8,null,null,"доля слушателей, привлеченных из других ОУ","количество",null,50,"100% + 3б",{"$f":"ROUND((G20/H7*3),1)","v":3}]
[9,null,"полнота реализации","Программа реализуется в полном объеме","если да = 1",null,1,"да + 1,5б,\nнет + 1б",{"$f":"IF(G21=1,1.5,1)","v":1.5}]
[10,null,null,"Программа изменилась при лучших условиях","если да = 1",null,1,"да + 0,5б",{"$f":"IF(G22=1,0.5,0)","v":0.5}]
[11,"Организация образовательного процесса","кадровое обеспечение","укомплектованность преподавательского состава в соответствии с Программой","состав полностью укомплектован = 1",null,1,"да + 2б,\nнет + 1б",{"$f":"IF(G23=1,2,1)","v":2}]
[12,null,null,"подготовка преподавателей по теме Программы","количество",null,2,"100% + 2б",{"$f":"ROUND((G24/(H8+H9+H10)*2),1)","v":1.3}]
[13,null,null,"привлечение специалистов из профессионального сообщества","количество",null,{"$f":"H10","v":0},"100% + 2б",{"$f":"ROUND((G25/(H9+H10+H8)*2),1)","v":0}]
[14,null,null,"привлечение консультантов из числа обучающихся, выпускников","количество",null,{"$f":"H9","v":0},"100% + 2б",{"$f":"ROUND((G26/(H10+H9+H8)*2),1)","v":0}]
[15,null,"материально-техническое обеспечение","наличие достаточной материальной базы для проведения знаний","если да = 1",null,1,"да + 2б,\nнет + 1б",{"$f":"IF(G27=1,2,1)","v":2}]
[16,null,null,"использование материальной базы иных организаций","если да = 1",null,0,"да + 2б",{"$f":"IF(G28=1,2,0)","v":0}]
[17,null,null,"наличие оборудованных рабочих мест для слушателей и преподавателей","если да = 1, \nтолько преподавателей = 2",null,1,"1 + 1б, \n2 + 0,5б",{"$f":"IF(G29=1,1,0)+IF(G29=2,0.5,0)","v":1}]
[18,null,"информационно-технологическое обеспечение","наличие страницы Центра на сайте образовательного учреждения  ","если да = 1",null,0,"да + 1б",{"$f":"IF(G30=1,1,0)","v":0}]
[19,null,null,"регулярность обновления страницы Центра на сайте","более 1 раза в месяц = 1, \nреже = 2",null,0,"1 + 1б, \n2 + 0,5б",{"$f":"IF(G31=1,1,0)+IF(G31=2,0.5,0)","v":0}]
[20,null,null,"использование доступа в интернет преподавателями и слушателями","если да = 1,  только преподавателями = 2",null,2,"1 + 1б, \n2 + 0,5б",{"$f":"IF(G32=1,1,0)+IF(G32=2,0.5,0)","v":0.5}]
[21,null,null,"наличие методических материалов Центра на сайте ОУ","если да = 1",null,0,"да + 1б",{"$f":"IF(G33=1,1,0)","v":0}]
[22,null,null,"наличие Совета Центра","если да = 1",null,1,"да + 0,5б",{"$f":"IF(G34=1,0.5,0)","v":0.5}]
[23,null,null,"наличие утвержденного положения о деятельности Центра","если да = 1",null,1,"да + 0,5б",{"$f":"IF(G35=1,0.5,0)","v":0.5}]
[24,null,null,"наличие оформленных договоров с социальными партнерами","если да = 1",null,1,"да + 1б",{"$f":"IF(G36=1,1,0)","v":1}]
[25,null,"учебно-методическое обеспечение","обеспеченность слушателей учебниками, справочной литературой","полное обеспечение = 1,\nчастичное = 2",null,2,"1 + 2б, \n2 + 1б",{"$f":"IF(G37=1,2,0)+IF(G37=2,1,0)","v":1}]
[26,null,null,"обеспеченность преподавателей методической литературой, программными средствами обучения","полное обеспечение = 1,\nчастичное = 2",null,2,"1 + 2б, \n2 + 1б",{"$f":"IF(G38=1,2,0)+IF(G38=2,1,0)","v":1}]
[27,"Результаты образовательной деятельности","уровень и качество общеобразовательной подготовки слушателей","слушатели, применившие полученную информацию на практике","количество",null,0,"100% + 2б",{"$f":"ROUND(G39/H7*2,1)","v":0}]
[28,null,null,"слушатели, освоившие программу и получившие удостоверение","количество",null,0,"100% + 4б",{"$f":"ROUND(G40/$H$7*4,1)","v":0}]
[29,null,null,"слушатели, получившие сертификат","количество",null,50,"100% + 1б",{"$f":"ROUND(G41/H7*1,1)","v":1}]
[30,null,"сформированность ключевых компетентностей слушателей","слушатели, имеющие документально подтвержденные достижения по теме Программы:"]
[null,null,null," - на школьном уровне","количество",null,0,"100% + 2б",{"$f":"ROUND(G43/$H$7*2,1)","v":0}]
[null,null,null," - на муниципальном уровне","количество",null,0,"100% + 3б",{"$f":"ROUND(G44/$H$7*3,1)","v":0}]
[null,null,null," - на региональном уровне","количество",null,1,"100% + 4б",{"$f":"ROUND(G45/$H$7*4,1)","v":0.1}]
[null,null,null," - на федеральном  и международном уровнях","количество",null,0,"100% + 5б",{"$f":"ROUND(G46/$H$7*5,1)","v":0}]
[31,null,"уровень обобщения и представления опыта деятельности Центра по теме Программы","публичное представление промежуточных результатов реализации образовательной Программы:"]
[null,null,null," - на школьном уровне","количество",null,0,"за 1 + 0,1б",{"$f":"G48*0.1","v":0}]
[null,null,null," - на муниципальном уровне","количество",null,0,"за 1 + 0,2б",{"$f":"G49*0.2","v":0}]
[null,null,null," - на региональном уровне","количество",null,0,"за 1 + 0,3б",{"$f":"G50*0.3","v":0}]
[null,null,null," - на федеральном  и международном уровнях","количество",null,0,"за 1 + 0,5б",{"$f":"G51*0.4","v":0}]
[32,null,null,"организация мероприятий, семинаров различного уровня по теме образовательной Программы:"]
[null,null,null," - на муниципальном уровне","количество",null,2,"за 1 + 0,3б",{"$f":"G53*0.3","v":0.6}]
[null,null,null," - на региональном уровне","количество",null,1,"за 1 + 0,5б",{"$f":"G54*0.5","v":0.5}]
[null,null,null," - на федеральном  и международном уровнях","количество",null,0,"за 1 + 0,7б",{"$f":"G55*0.7","v":0}]
[33,null,null,"внешкольная экспертная деятельность преподавателей Центра по теме Программы","количество часов",null,0,"за 100ч + 2б",{"$f":"G56*0.02","v":0}]
[34,null,null,"наличие публикаций в методических изданиях по теме Программы","количество страниц А4, интервал 1,5, шрифт 14 ",null,0,"за 24 стр. + 2б",{"$f":"ROUND(G57*2/24,1)","v":0}]
[35,null,null,"количество публикаций в СМИ муниципального и регионального уровня по теме Программы","количество статей",null,0,"за 1 ст. + 0,1б",{"$f":"G58*0.1","v":0}]
[36,null,"уровень организации и степень достижения целей и задач инновационной деятельности","наличие рецензии на образовательную Программу","если да = 1",null,0,"да + 2б",{"$f":"IF(G59=1,2,0)","v":0}]
[37,null,null,"Программа Центра является частью программы развития ОУ","если да = 1",null,1,"да + 1б",{"$f":"IF(G60=1,1,0)","v":1}]
[38,null,null,"Программа Центра является частью муниципальной программы развития","если да = 1",null,1,"да + 2б",{"$f":"IF(G61=1,2,0)","v":2}]
[39,null,null,"наличие общественной экспертизы результатов реализации образовательной Программы","если да = 1",null,0,"да + 1б",{"$f":"IF(G62=1,1,0)","v":0}]
[40,null,null,"публичное представление результатов инновационной деятельности на научно-практических конференциях"]
[null,null,null," - на школьном уровне","если да = 1",null,0,"да + 0,3б",{"$f":"IF(G64=1,0.3,0)","v":0}]
[null,null,null," - на муниципальном уровне","если да = 1",null,0,"да + 0,5б",{"$f":"IF(G65=1,0.5,0)","v":0}]
[null,null,null," - на региональном уровне","если да = 1",null,0,"да + 1б",{"$f":"IF(G66=1,1,0)","v":0}]
[null,null,null," - на федеральном  и международном уровнях","если да = 1",null,0,"да + 2б",{"$f":"IF(G67=1,2,0)","v":0}]
["Общее рейтинговое значение ",null,null,null,null,null,null,null,{"$f":"SUM(I13:I41,I43:I46,I48:I51,I53:I62,I64:I67)","v":32}]

{"sheet":"ТР Корн","index":38,"n_rows":68,"n_cols":9,"rows_kept":68,"cut":false,"hidden":false,"merged":[[0,0,0,2],[67,0,67,7],[3,3,3,8],[29,2,35,2],[28,4,28,5],[50,4,50,5],[36,2,37,2],[53,4,53,5],[34,4,34,5],[4,0,4,1],[52,4,52,5],[33,4,33,5],[29,4,29,5],[31,4,31,5],[35,4,35,5],[47,4,47,5],[5,0,5,1],[4,3,4,8],[5,3,5,8],[22,4,22,5],[23,4,23,5],[21,4,21,5],[16,2,19,2],[11,2,11,3],[6,0,6,6],[7,0,7,6],[8,0,8,6],[9,0,9,6],[19,4,19,5],[15,4,15,5],[12,1,21,1],[62,0,66,0],[24,4,24,5],[25,4,25,5],[37,4,37,5],[26,2,28,2],[51,0,54,0],[26,4,26,5],[46,0,50,0],[44,4,44,5],[49,4,49,5],[27,4,27,5],[46,3,46,8],[41,0,45,0],[36,4,36,5],[43,4,43,5],[41,3,41,8],[0,3,2,8],[13,4,13,5],[22,2,25,2],[22,1,37,1],[17,4,17,5],[18,4,18,5],[20,4,20,5],[20,2,21,2],[1,0,1,1],[2,0,2,1],[3,0,3,1],[12,4,12,5],[14,4,14,5],[16,4,16,5],[12,2,15,2],[10,0,10,6],[42,4,42,5],[46,2,57,2],[51,3,51,8],[48,4,48,5],[57,4,57,5],[41,2,45,2],[65,4,65,5],[58,4,58,5],[32,4,32,5],[30,4,30,5],[38,1,66,1],[45,4,45,5],[40,4,40,5],[38,4,38,5],[39,4,39,5],[66,4,66,5],[58,2,66,2],[64,4,64,5],[54,4,54,5],[38,2,40,2],[56,4,56,5],[55,4,55,5],[62,3,62,8],[61,4,61,5],[63,4,63,5],[59,4,59,5],[60,4,60,5]]}
["РЕЙТИНГ",null,null,"ОЦЕНОЧНЫЙ ЛИСТ РЕЙТИНГА РЕЗУЛЬТАТИВНОСТИ ОБРАЗОВАТЕЛЬНЫХ ПРОГРАММ ЦЕНТРОВ ГРАЖДАНСКОГО ОБРАЗОВАНИЯ 2012-2013  "]
["первый",null,{"$f":"SUM(I13:I22)","v":10.3}]
["второй",null,{"$f":"SUM(I23:I38)","v":14.5}]
["третий",null,{"$f":"SUM(I39:I41,I43:I46,I48:I51,I53:I62,I64:I67)","v":10.600000000000001},"МБОУ \"Корниловская СОШ\" Томского района"]
["общее",null,{"$f":"SUM(C2:C4)","v":35.400000000000006},"Центр ггражданского образования \"Все различны - все равны\""]
[1.0900000000000001,null,{"$f":"C5*A6","v":38.586000000000006},"Образовательная программа \"Введение в социальное проектирование\""]
["Общее количество слушателей образовательной Программы",null,null,null,null,null,null,11,"человек"]
["Количество педагогических работников ",null,null,null,null,null,null,3,"человек"]
["Количество консультантов из числа опытных старшеклассников, выпускников Центра",null,null,null,null,null,null,2,"человек"]
["Количество привлеченных специалистов",null,null,null,null,null,null,0,"человек"]
["Продолжительность образовательной Программы",null,null,null,null,null,null,24,"часов"]
["№","Направ-ление","Критерии",null,"Значение критерия","Единица измерения","Значение в единицах измерения","Система оценки","Рейтинговое значение"]
[1,"Образовательная программа","адаптированность","продолжительность образовательной Программы","количество часов",null,{"$f":"H11","v":24},"18-24 + 1б,\n25-48 + 2б,  \nболее 48 + 3б",{"$f":"IF($G$13>17,1,0)+IF($G$13>24,1,0)+IF($G$13>48,1,0)","v":1}]
[2,null,null,"наличие модулей в образовательной Программе для разновозрастных групп","для обучающихся = 1,\n для обучающихся и взрослых = 2",null,null,"1 + 1б,\n2 + 2б",{"$f":"IF(G14=1,1,0)+IF(G14=2,2,0)","v":0}]
[3,null,null,"наличие в образовательной Программе активных и интерактивных форм обучения","менее 50% занятий = 1,\n более 50% занятий = 2",null,1,"1 + 1б,\n2 + 2б",{"$f":"IF(G15=1,1,0)+IF(G15=2,2,0)","v":1}]
[4,null,null,"преемственность образовательных Программ из года в год","если существует = 1",null,1,"да + 1б",{"$f":"IF(G16=1,1,0)","v":1}]
[5,null,"доступность","наличие модулей, предложенных слушателям на выбор","если 2 модуля = 1,\n3 и более модулей = 2",null,null,"1 + 1б,\n2 + 2б",{"$f":"IF(G17=1,1,0)+IF(G17=2,2,0)","v":0}]
[6,null,null,"проведение мониторинга уровня сформированности ключевых компетентностей","если да = 1",null,1,"да + 3б",{"$f":"IF(G18=1,3,0)","v":3}]
[7,null,null,"программа реализуется в сетевом взаимодействии с другими Центрами","если да = 1",null,1,"да + 2б",{"$f":"IF(G19=1,2,0)","v":2}]
[8,null,null,"доля слушателей, привлеченных из других ОУ","количество",null,1,"100% + 3б",{"$f":"ROUND((G20/H7*3),1)","v":0.3}]
[9,null,"полнота реализации","Программа реализуется в полном объеме","если да = 1",null,1,"да + 1,5б,\nнет + 1б",{"$f":"IF(G21=1,1.5,1)","v":1.5}]
[10,null,null,"Программа изменилась при лучших условиях","если да = 1",null,1,"да + 0,5б",{"$f":"IF(G22=1,0.5,0)","v":0.5}]
[11,"Организация образовательного процесса","кадровое обеспечение","укомплектованность преподавательского состава в соответствии с Программой","состав полностью укомплектован = 1",null,1,"да + 2б,\nнет + 1б",{"$f":"IF(G23=1,2,1)","v":2}]
[12,null,null,"подготовка преподавателей по теме Программы","количество",null,3,"100% + 2б",{"$f":"ROUND((G24/(H8+H9+H10)*2),1)","v":1.2}]
[13,null,null,"привлечение специалистов из профессионального сообщества","количество",null,{"$f":"H10","v":0},"100% + 2б",{"$f":"ROUND((G25/(H9+H10+H8)*2),1)","v":0}]
[14,null,null,"привлечение консультантов из числа обучающихся, выпускников","количество",null,{"$f":"H9","v":2},"100% + 2б",{"$f":"ROUND((G26/(H10+H9+H8)*2),1)","v":0.8}]
[15,null,"материально-техническое обеспечение","наличие достаточной материальной базы для проведения знаний","если да = 1",null,1,"да + 2б,\nнет + 1б",{"$f":"IF(G27=1,2,1)","v":2}]
[16,null,null,"использование материальной базы иных организаций","если да = 1",null,1,"да + 2б",{"$f":"IF(G28=1,2,0)","v":2}]
[17,null,null,"наличие оборудованных рабочих мест для слушателей и преподавателей","если да = 1, \nтолько преподавателей = 2",null,2,"1 + 1б, \n2 + 0,5б",{"$f":"IF(G29=1,1,0)+IF(G29=2,0.5,0)","v":0.5}]
[18,null,"информационно-технологическое обеспечение","наличие страницы Центра на сайте образовательного учреждения  ","если да = 1",null,1,"да + 1б",{"$f":"IF(G30=1,1,0)","v":1}]
[19,null,null,"регулярность обновления страницы Центра на сайте","более 1 раза в месяц = 1, \nреже = 2",null,2,"1 + 1б, \n2 + 0,5б",{"$f":"IF(G31=1,1,0)+IF(G31=2,0.5,0)","v":0.5}]
[20,null,null,"использование доступа в интернет преподавателями и слушателями","если да = 1,  только преподавателями = 2",null,2,"1 + 1б, \n2 + 0,5б",{"$f":"IF(G32=1,1,0)+IF(G32=2,0.5,0)","v":0.5}]
[21,null,null,"наличие методических материалов Центра на сайте ОУ","если да = 1",null,null,"да + 1б",{"$f":"IF(G33=1,1,0)","v":0}]
[22,null,null,"наличие Совета Центра","если да = 1",null,1,"да + 0,5б",{"$f":"IF(G34=1,0.5,0)","v":0.5}]
[23,null,null,"наличие утвержденного положения о деятельности Центра","если да = 1",null,1,"да + 0,5б",{"$f":"IF(G35=1,0.5,0)","v":0.5}]
[24,null,null,"наличие оформленных договоров с социальными партнерами","если да = 1",null,1,"да + 1б",{"$f":"IF(G36=1,1,0)","v":1}]
[25,null,"учебно-методическое обеспечение","обеспеченность слушателей учебниками, справочной литературой","полное обеспечение = 1,\nчастичное = 2",null,2,"1 + 2б, \n2 + 1б",{"$f":"IF(G37=1,2,0)+IF(G37=2,1,0)","v":1}]
[26,null,null,"обеспеченность преподавателей методической литературой, программными средствами обучения","полное обеспечение = 1,\nчастичное = 2",null,2,"1 + 2б, \n2 + 1б",{"$f":"IF(G38=1,2,0)+IF(G38=2,1,0)","v":1}]
[27,"Результаты образовательной деятельности","уровень и качество общеобразовательной подготовки слушателей","слушатели, применившие полученную информацию на практике","количество",null,11,"100% + 2б",{"$f":"ROUND(G39/H7*2,1)","v":2}]
[28,null,null,"слушатели, освоившие программу и получившие удостоверение","количество",null,null,"100% + 4б",{"$f":"ROUND(G40/$H$7*4,1)","v":0}]
[29,null,null,"слушатели, получившие сертификат","количество",null,11,"100% + 1б",{"$f":"ROUND(G41/H7*1,1)","v":1}]
[30,null,"сформированность ключевых компетентностей слушателей","слушатели, имеющие документально подтвержденные достижения по теме Программы:"]
[null,null,null," - на школьном уровне","количество",null,11,"100% + 2б",{"$f":"ROUND(G43/$H$7*2,1)","v":2}]
[null,null,null," - на муниципальном уровне","количество",null,5,"100% + 3б",{"$f":"ROUND(G44/$H$7*3,1)","v":1.4}]
[null,null,null," - на региональном уровне","количество",null,6,"100% + 4б",{"$f":"ROUND(G45/$H$7*4,1)","v":2.2000000000000002}]
[null,null,null," - на федеральном  и международном уровнях","количество",null,null,"100% + 5б",{"$f":"ROUND(G46/$H$7*5,1)","v":0}]
[31,null,"уровень обобщения и представления опыта деятельности Центра по теме Программы","публичное представление промежуточных результатов реализации образовательной Программы:"]
[null,null,null," - на школьном уровне","количество",null,null,"за 1 + 0,1б",{"$f":"G48*0.1","v":0}]
[null,null,null," - на муниципальном уровне","количество",null,1,"за 1 + 0,2б",{"$f":"G49*0.2","v":0.2}]
[null,null,null," - на региональном уровне","количество",null,1,"за 1 + 0,3б",{"$f":"G50*0.3","v":0.3}]
[null,null,null," - на федеральном  и международном уровнях","количество",null,null,"за 1 + 0,5б",{"$f":"G51*0.4","v":0}]
[32,null,null,"организация мероприятий, семинаров различного уровня по теме образовательной Программы:"]
[null,null,null," - на муниципальном уровне","количество",null,null,"за 1 + 0,3б",{"$f":"G53*0.3","v":0}]
[null,null,null," - на региональном уровне","количество",null,1,"за 1 + 0,5б",{"$f":"G54*0.5","v":0.5}]
[null,null,null," - на федеральном  и международном уровнях","количество",null,null,"за 1 + 0,7б",{"$f":"G55*0.7","v":0}]
[33,null,null,"внешкольная экспертная деятельность преподавателей Центра по теме Программы","количество часов",null,null,"за 100ч + 2б",{"$f":"G56*0.02","v":0}]
[34,null,null,"наличие публикаций в методических изданиях по теме Программы","количество страниц А4, интервал 1,5, шрифт 14 ",null,null,"за 24 стр. + 2б",{"$f":"ROUND(G57*2/24,1)","v":0}]
[35,null,null,"количество публикаций в СМИ муниципального и регионального уровня по теме Программы","количество статей",null,null,"за 1 ст. + 0,1б",{"$f":"G58*0.1","v":0}]
[36,null,"уровень организации и степень достижения целей и задач инновационной деятельности","наличие рецензии на образовательную Программу","если да = 1",null,null,"да + 2б",{"$f":"IF(G59=1,2,0)","v":0}]
[37,null,null,"Программа Центра является частью программы развития ОУ","если да = 1",null,1,"да + 1б",{"$f":"IF(G60=1,1,0)","v":1}]
[38,null,null,"Программа Центра является частью муниципальной программы развития","если да = 1",null,null,"да + 2б",{"$f":"IF(G61=1,2,0)","v":0}]
[39,null,null,"наличие общественной экспертизы результатов реализации образовательной Программы","если да = 1",null,null,"да + 1б",{"$f":"IF(G62=1,1,0)","v":0}]
[40,null,null,"публичное представление результатов инновационной деятельности на научно-практических конференциях"]
[null,null,null," - на школьном уровне","если да = 1",null,null,"да + 0,3б",{"$f":"IF(G64=1,0.3,0)","v":0}]
[null,null,null," - на муниципальном уровне","если да = 1",null,null,"да + 0,5б",{"$f":"IF(G65=1,0.5,0)","v":0}]
[null,null,null," - на региональном уровне","если да = 1",null,null,"да + 1б",{"$f":"IF(G66=1,1,0)","v":0}]
[null,null,null," - на федеральном  и международном уровнях","если да = 1",null,null,"да + 2б",{"$f":"IF(G67=1,2,0)","v":0}]
["Общее рейтинговое значение ",null,null,null,null,null,null,null,{"$f":"SUM(I13:I41,I43:I46,I48:I51,I53:I62,I64:I67)","v":35.4}]

{"sheet":"ЧР Нов","index":39,"n_rows":68,"n_cols":9,"rows_kept":68,"cut":false,"hidden":false,"merged":[[60,4,60,5],[65,4,65,5],[38,1,66,1],[45,4,45,5],[40,4,40,5],[38,4,38,5],[39,4,39,5],[41,3,41,8],[64,4,64,5],[54,4,54,5],[46,3,46,8],[66,4,66,5],[58,2,66,2],[62,3,62,8],[61,4,61,5],[63,4,63,5],[59,4,59,5],[58,4,58,5],[44,4,44,5],[11,2,11,3],[38,2,40,2],[56,4,56,5],[55,4,55,5],[42,4,42,5],[46,2,57,2],[51,3,51,8],[48,4,48,5],[49,4,49,5],[41,2,45,2],[57,4,57,5],[32,4,32,5],[30,4,30,5],[0,3,2,8],[13,4,13,5],[22,2,25,2],[22,1,37,1],[17,4,17,5],[18,4,18,5],[20,4,20,5],[20,2,21,2],[1,0,1,1],[2,0,2,1],[6,0,6,6],[7,0,7,6],[8,0,8,6],[9,0,9,6],[19,4,19,5],[36,4,36,5],[3,0,3,1],[12,4,12,5],[14,4,14,5],[16,4,16,5],[12,2,15,2],[10,0,10,6],[15,4,15,5],[12,1,21,1],[21,4,21,5],[16,2,19,2],[23,4,23,5],[27,4,27,5],[29,4,29,5],[31,4,31,5],[62,0,66,0],[24,4,24,5],[25,4,25,5],[37,4,37,5],[26,2,28,2],[51,0,54,0],[26,4,26,5],[46,0,50,0],[36,2,37,2],[53,4,53,5],[41,0,45,0],[43,4,43,5],[35,4,35,5],[47,4,47,5],[0,0,0,2],[67,0,67,7],[3,3,3,8],[29,2,35,2],[28,4,28,5],[50,4,50,5],[52,4,52,5],[33,4,33,5],[34,4,34,5],[4,0,4,1],[5,0,5,1],[4,3,4,8],[5,3,5,8],[22,4,22,5]]}
["РЕЙТИНГ",null,null,"ОЦЕНОЧНЫЙ ЛИСТ РЕЙТИНГА РЕЗУЛЬТАТИВНОСТИ ОБРАЗОВАТЕЛЬНЫХ ПРОГРАММ ЦЕНТРОВ ГРАЖДАНСКОГО ОБРАЗОВАНИЯ 2011-2012  "]
["первый",null,{"$f":"SUM(I13:I22)","v":7.2}]
["второй",null,{"$f":"SUM(I23:I38)","v":17.5}]
["третий",null,{"$f":"SUM(I39:I41,I43:I46,I48:I51,I53:I62,I64:I67)","v":7.8},"МБОУ \"Новоколоминская СОШ\""]
["общее",null,{"$f":"SUM(C2:C4)","v":32.5},"Центр гражданского образования \"Контакт\""]
[1.0900000000000001,null,{"$f":"C5*A6","v":35.425000000000004},"\"Основы разработки и реализации социального проекта\""]
["Общее количество слушателей образовательной Программы",null,null,null,null,null,null,14,"человек"]
["Количество педагогических работников ",null,null,null,null,null,null,2,"человек"]
["Количество консультантов из числа опытных старшеклассников, выпускников Центра",null,null,null,null,null,null,0,"человек"]
["Количество привлеченных специалистов",null,null,null,null,null,null,0,"человек"]
["Продолжительность образовательной Программы",null,null,null,null,null,null,50,"часов"]
["№","Направ-ление","Критерии",null,"Значение критерия","Единица измерения","Значение в единицах измерения","Система оценки","Рейтинговое значение"]
[1,"Образовательная программа","адаптированность","продолжительность образовательной Программы","количество часов",null,{"$f":"H11","v":50},"18-24 + 1б,\n25-48 + 2б,  \nболее 48 + 3б",{"$f":"IF($G$13>17,1,0)+IF($G$13>24,1,0)+IF($G$13>48,1,0)","v":3}]
[2,null,null,"наличие модулей в образовательной Программе для разновозрастных групп","для обучающихся = 1,\n для обучающихся и взрослых = 2",null,1,"1 + 1б,\n2 + 2б",{"$f":"IF(G14=1,1,0)+IF(G14=2,2,0)","v":1}]
[3,null,null,"наличие в образовательной Программе активных и интерактивных форм обучения","менее 50% занятий = 1,\n более 50% занятий = 2",null,1,"1 + 1б,\n2 + 2б",{"$f":"IF(G15=1,1,0)+IF(G15=2,2,0)","v":1}]
[4,null,null,"преемственность образовательных Программ из года в год","если существует = 1",null,0,"да + 1б",{"$f":"IF(G16=1,1,0)","v":0}]
[5,null,"доступность","наличие модулей, предложенных слушателям на выбор","если 2 модуля = 1,\n3 и более модулей = 2",null,0,"1 + 1б,\n2 + 2б",{"$f":"IF(G17=1,1,0)+IF(G17=2,2,0)","v":0}]
[6,null,null,"проведение мониторинга уровня сформированности ключевых компетентностей","если да = 1",null,0,"да + 3б",{"$f":"IF(G18=1,3,0)","v":0}]
[7,null,null,"программа реализуется в сетевом взаимодействии с другими Центрами","если да = 1",null,0,"да + 2б",{"$f":"IF(G19=1,2,0)","v":0}]
[8,null,null,"доля слушателей, привлеченных из других ОУ","количество",null,1,"100% + 3б",{"$f":"ROUND((G20/H7*3),1)","v":0.2}]
[9,null,"полнота реализации","Программа реализуется в полном объеме","если да = 1",null,1,"да + 1,5б,\nнет + 1б",{"$f":"IF(G21=1,1.5,1)","v":1.5}]
[10,null,null,"Программа изменилась при лучших условиях","если да = 1",null,1,"да + 0,5б",{"$f":"IF(G22=1,0.5,0)","v":0.5}]
[11,"Организация образовательного процесса","кадровое обеспечение","укомплектованность преподавательского состава в соответствии с Программой","состав полностью укомплектован = 1",null,1,"да + 2б,\nнет + 1б",{"$f":"IF(G23=1,2,1)","v":2}]
[12,null,null,"подготовка преподавателей по теме Программы","количество",null,2,"100% + 2б",{"$f":"ROUND((G24/(H8+H9+H10)*2),1)","v":2}]
[13,null,null,"привлечение специалистов из профессионального сообщества","количество",null,{"$f":"H10","v":0},"100% + 2б",{"$f":"ROUND((G25/(H9+H10+H8)*2),1)","v":0}]
[14,null,null,"привлечение консультантов из числа обучающихся, выпускников","количество",null,{"$f":"H9","v":0},"100% + 2б",{"$f":"ROUND((G26/(H10+H9+H8)*2),1)","v":0}]
[15,null,"материально-техническое обеспечение","наличие достаточной материальной базы для проведения знаний","если да = 1",null,1,"да + 2б,\nнет + 1б",{"$f":"IF(G27=1,2,1)","v":2}]
[16,null,null,"использование материальной базы иных организаций","если да = 1",null,1,"да + 2б",{"$f":"IF(G28=1,2,0)","v":2}]
[17,null,null,"наличие оборудованных рабочих мест для слушателей и преподавателей","если да = 1, \nтолько преподавателей = 2",null,1,"1 + 1б, \n2 + 0,5б",{"$f":"IF(G29=1,1,0)+IF(G29=2,0.5,0)","v":1}]
[18,null,"информационно-технологическое обеспечение","наличие страницы Центра на сайте образовательного учреждения  ","если да = 1",null,1,"да + 1б",{"$f":"IF(G30=1,1,0)","v":1}]
[19,null,null,"регулярность обновления страницы Центра на сайте","более 1 раза в месяц = 1, \nреже = 2",null,2,"1 + 1б, \n2 + 0,5б",{"$f":"IF(G31=1,1,0)+IF(G31=2,0.5,0)","v":0.5}]
[20,null,null,"использование доступа в интернет преподавателями и слушателями","если да = 1,  только преподавателями = 2",null,1,"1 + 1б, \n2 + 0,5б",{"$f":"IF(G32=1,1,0)+IF(G32=2,0.5,0)","v":1}]
[21,null,null,"наличие методических материалов Центра на сайте ОУ","если да = 1",null,0,"да + 1б",{"$f":"IF(G33=1,1,0)","v":0}]
[22,null,null,"наличие Совета Центра","если да = 1",null,1,"да + 0,5б",{"$f":"IF(G34=1,0.5,0)","v":0.5}]
[23,null,null,"наличие утвержденного положения о деятельности Центра","если да = 1",null,1,"да + 0,5б",{"$f":"IF(G35=1,0.5,0)","v":0.5}]
[24,null,null,"наличие оформленных договоров с социальными партнерами","если да = 1",null,1,"да + 1б",{"$f":"IF(G36=1,1,0)","v":1}]
[25,null,"учебно-методическое обеспечение","обеспеченность слушателей учебниками, справочной литературой","полное обеспечение = 1,\nчастичное = 2",null,1,"1 + 2б, \n2 + 1б",{"$f":"IF(G37=1,2,0)+IF(G37=2,1,0)","v":2}]
[26,null,null,"обеспеченность преподавателей методической литературой, программными средствами обучения","полное обеспечение = 1,\nчастичное = 2",null,1,"1 + 2б, \n2 + 1б",{"$f":"IF(G38=1,2,0)+IF(G38=2,1,0)","v":2}]
[27,"Результаты образовательной деятельности","уровень и качество общеобразовательной подготовки слушателей","слушатели, применившие полученную информацию на практике","количество",null,14,"100% + 2б",{"$f":"ROUND(G39/H7*2,1)","v":2}]
[28,null,null,"слушатели, освоившие программу и получившие удостоверение","количество",null,5,"100% + 4б",{"$f":"ROUND(G40/$H$7*4,1)","v":1.4}]
[29,null,null,"слушатели, получившие сертификат","количество",null,9,"100% + 1б",{"$f":"ROUND(G41/H7*1,1)","v":0.6}]
[30,null,"сформированность ключевых компетентностей слушателей","слушатели, имеющие документально подтвержденные достижения по теме Программы:"]
[null,null,null," - на школьном уровне","количество",null,0,"100% + 2б",{"$f":"ROUND(G43/$H$7*2,1)","v":0}]
[null,null,null," - на муниципальном уровне","количество",null,0,"100% + 3б",{"$f":"ROUND(G44/$H$7*3,1)","v":0}]
[null,null,null," - на региональном уровне","количество",null,7,"100% + 4б",{"$f":"ROUND(G45/$H$7*4,1)","v":2}]
[null,null,null," - на федеральном  и международном уровнях","количество",null,null,"100% + 5б",{"$f":"ROUND(G46/$H$7*5,1)","v":0}]
[31,null,"уровень обобщения и представления опыта деятельности Центра по теме Программы","публичное представление промежуточных результатов реализации образовательной Программы:"]
[null,null,null," - на школьном уровне","количество",null,0,"за 1 + 0,1б",{"$f":"G48*0.1","v":0}]
[null,null,null," - на муниципальном уровне","количество",null,4,"за 1 + 0,2б",{"$f":"G49*0.2","v":0.8}]
[null,null,null," - на региональном уровне","количество",null,0,"за 1 + 0,3б",{"$f":"G50*0.3","v":0}]
[null,null,null," - на федеральном  и международном уровнях","количество",null,0,"за 1 + 0,5б",{"$f":"G51*0.4","v":0}]
[32,null,null,"организация мероприятий, семинаров различного уровня по теме образовательной Программы:"]
[null,null,null," - на муниципальном уровне","количество",null,0,"за 1 + 0,3б",{"$f":"G53*0.3","v":0}]
[null,null,null," - на региональном уровне","количество",null,0,"за 1 + 0,5б",{"$f":"G54*0.5","v":0}]
[null,null,null," - на федеральном  и международном уровнях","количество",null,0,"за 1 + 0,7б",{"$f":"G55*0.7","v":0}]
[33,null,null,"внешкольная экспертная деятельность преподавателей Центра по теме Программы","количество часов",null,0,"за 100ч + 2б",{"$f":"G56*0.02","v":0}]
[34,null,null,"наличие публикаций в методических изданиях по теме Программы","количество страниц А4, интервал 1,5, шрифт 14 ",null,0,"за 24 стр. + 2б",{"$f":"ROUND(G57*2/24,1)","v":0}]
[35,null,null,"количество публикаций в СМИ муниципального и регионального уровня по теме Программы","количество статей",null,0,"за 1 ст. + 0,1б",{"$f":"G58*0.1","v":0}]
[36,null,"уровень организации и степень достижения целей и задач инновационной деятельности","наличие рецензии на образовательную Программу","если да = 1",null,0,"да + 2б",{"$f":"IF(G59=1,2,0)","v":0}]
[37,null,null,"Программа Центра является частью программы развития ОУ","если да = 1",null,1,"да + 1б",{"$f":"IF(G60=1,1,0)","v":1}]
[38,null,null,"Программа Центра является частью муниципальной программы развития","если да = 1",null,0,"да + 2б",{"$f":"IF(G61=1,2,0)","v":0}]
[39,null,null,"наличие общественной экспертизы результатов реализации образовательной Программы","если да = 1",null,0,"да + 1б",{"$f":"IF(G62=1,1,0)","v":0}]
[40,null,null,"публичное представление результатов инновационной деятельности на научно-практических конференциях"]
[null,null,null," - на школьном уровне","если да = 1",null,null,"да + 0,3б",{"$f":"IF(G64=1,0.3,0)","v":0}]
[null,null,null," - на муниципальном уровне","если да = 1",null,0,"да + 0,5б",{"$f":"IF(G65=1,0.5,0)","v":0}]
[null,null,null," - на региональном уровне","если да = 1",null,null,"да + 1б",{"$f":"IF(G66=1,1,0)","v":0}]
[null,null,null," - на федеральном  и международном уровнях","если да = 1",null,null,"да + 2б",{"$f":"IF(G67=1,2,0)","v":0}]
["Общее рейтинговое значение ",null,null,null,null,null,null,null,{"$f":"SUM(I13:I41,I43:I46,I48:I51,I53:I62,I64:I67)","v":32.5}]

{"sheet":"ШР Поб","index":40,"n_rows":68,"n_cols":9,"rows_kept":68,"cut":false,"hidden":false,"merged":[[0,0,0,2],[67,0,67,7],[3,3,3,8],[29,2,35,2],[28,4,28,5],[50,4,50,5],[36,2,37,2],[53,4,53,5],[34,4,34,5],[4,0,4,1],[52,4,52,5],[33,4,33,5],[29,4,29,5],[31,4,31,5],[35,4,35,5],[47,4,47,5],[5,0,5,1],[4,3,4,8],[5,3,5,8],[22,4,22,5],[23,4,23,5],[21,4,21,5],[16,2,19,2],[11,2,11,3],[6,0,6,6],[7,0,7,6],[8,0,8,6],[9,0,9,6],[19,4,19,5],[15,4,15,5],[12,1,21,1],[62,0,66,0],[24,4,24,5],[25,4,25,5],[37,4,37,5],[26,2,28,2],[51,0,54,0],[26,4,26,5],[46,0,50,0],[44,4,44,5],[49,4,49,5],[27,4,27,5],[46,3,46,8],[41,0,45,0],[36,4,36,5],[43,4,43,5],[41,3,41,8],[0,3,2,8],[13,4,13,5],[22,2,25,2],[22,1,37,1],[17,4,17,5],[18,4,18,5],[20,4,20,5],[20,2,21,2],[1,0,1,1],[2,0,2,1],[3,0,3,1],[12,4,12,5],[14,4,14,5],[16,4,16,5],[12,2,15,2],[10,0,10,6],[42,4,42,5],[46,2,57,2],[51,3,51,8],[48,4,48,5],[57,4,57,5],[41,2,45,2],[65,4,65,5],[58,4,58,5],[32,4,32,5],[30,4,30,5],[38,1,66,1],[45,4,45,5],[40,4,40,5],[38,4,38,5],[39,4,39,5],[66,4,66,5],[58,2,66,2],[64,4,64,5],[54,4,54,5],[38,2,40,2],[56,4,56,5],[55,4,55,5],[62,3,62,8],[61,4,61,5],[63,4,63,5],[59,4,59,5],[60,4,60,5]]}
["РЕЙТИНГ",null,null,"ОЦЕНОЧНЫЙ ЛИСТ РЕЙТИНГА РЕЗУЛЬТАТИВНОСТИ ОБРАЗОВАТЕЛЬНЫХ ПРОГРАММ ЦЕНТРОВ ГРАЖДАНСКОГО ОБРАЗОВАНИЯ 2011-2012  "]
["первый",null,{"$f":"SUM(I13:I22)","v":8}]
["второй",null,{"$f":"SUM(I23:I38)","v":16.899999999999999}]
["третий",null,{"$f":"SUM(I39:I41,I43:I46,I48:I51,I53:I62,I64:I67)","v":14.2},"МБОУ\"Побединская СОШ\""]
["общее",null,{"$f":"SUM(C2:C4)","v":39.099999999999994},"Центр гражданского образования \"Я-гражданин\""]
[1.0900000000000001,null,{"$f":"C5*A6","v":42.619},"Образовательная программа \"Я - гражданин\""]
["Общее количество слушателей образовательной Программы",null,null,null,null,null,null,13,"человек"]
["Количество педагогических работников ",null,null,null,null,null,null,4,"человек"]
["Количество консультантов из числа опытных старшеклассников, выпускников Центра",null,null,null,null,null,null,3,"человек"]
["Количество привлеченных специалистов",null,null,null,null,null,null,3,"человек"]
["Продолжительность образовательной Программы",null,null,null,null,null,null,4,"часов"]
["№","Направ-ление","Критерии",null,"Значение критерия","Единица измерения","Значение в единицах измерения","Система оценки","Рейтинговое значение"]
[1,"Образовательная программа","адаптированность","продолжительность образовательной Программы","количество часов",null,{"$f":"H11","v":4},"18-24 + 1б,\n25-48 + 2б,  \nболее 48 + 3б",{"$f":"IF($G$13>17,1,0)+IF($G$13>24,1,0)+IF($G$13>48,1,0)","v":0}]
[2,null,null,"наличие модулей в образовательной Программе для разновозрастных групп","для обучающихся = 1,\n для обучающихся и взрослых = 2",null,1,"1 + 1б,\n2 + 2б",{"$f":"IF(G14=1,1,0)+IF(G14=2,2,0)","v":1}]
[3,null,null,"наличие в образовательной Программе активных и интерактивных форм обучения","менее 50% занятий = 1,\n более 50% занятий = 2",null,1,"1 + 1б,\n2 + 2б",{"$f":"IF(G15=1,1,0)+IF(G15=2,2,0)","v":1}]
[4,null,null,"преемственность образовательных Программ из года в год","если существует = 1",null,1,"да + 1б",{"$f":"IF(G16=1,1,0)","v":1}]
[5,null,"доступность","наличие модулей, предложенных слушателям на выбор","если 2 модуля = 1,\n3 и более модулей = 2",null,null,"1 + 1б,\n2 + 2б",{"$f":"IF(G17=1,1,0)+IF(G17=2,2,0)","v":0}]
[6,null,null,"проведение мониторинга уровня сформированности ключевых компетентностей","если да = 1",null,1,"да + 3б",{"$f":"IF(G18=1,3,0)","v":3}]
[7,null,null,"программа реализуется в сетевом взаимодействии с другими Центрами","если да = 1",null,null,"да + 2б",{"$f":"IF(G19=1,2,0)","v":0}]
[8,null,null,"доля слушателей, привлеченных из других ОУ","количество",null,null,"100% + 3б",{"$f":"ROUND((G20/H7*3),1)","v":0}]
[9,null,"полнота реализации","Программа реализуется в полном объеме","если да = 1",null,1,"да + 1,5б,\nнет + 1б",{"$f":"IF(G21=1,1.5,1)","v":1.5}]
[10,null,null,"Программа изменилась при лучших условиях","если да = 1",null,1,"да + 0,5б",{"$f":"IF(G22=1,0.5,0)","v":0.5}]
[11,"Организация образовательного процесса","кадровое обеспечение","укомплектованность преподавательского состава в соответствии с Программой","состав полностью укомплектован = 1",null,1,"да + 2б,\nнет + 1б",{"$f":"IF(G23=1,2,1)","v":2}]
[12,null,null,"подготовка преподавателей по теме Программы","количество",null,1,"100% + 2б",{"$f":"ROUND((G24/(H8+H9+H10)*2),1)","v":0.2}]
[13,null,null,"привлечение специалистов из профессионального сообщества","количество",null,{"$f":"H10","v":3},"100% + 2б",{"$f":"ROUND((G25/(H9+H10+H8)*2),1)","v":0.6}]
[14,null,null,"привлечение консультантов из числа обучающихся, выпускников","количество",null,{"$f":"H9","v":3},"100% + 2б",{"$f":"ROUND((G26/(H10+H9+H8)*2),1)","v":0.6}]
[15,null,"материально-техническое обеспечение","наличие достаточной материальной базы для проведения знаний","если да = 1",null,1,"да + 2б,\nнет + 1б",{"$f":"IF(G27=1,2,1)","v":2}]
[16,null,null,"использование материальной базы иных организаций","если да = 1",null,1,"да + 2б",{"$f":"IF(G28=1,2,0)","v":2}]
[17,null,null,"наличие оборудованных рабочих мест для слушателей и преподавателей","если да = 1, \nтолько преподавателей = 2",null,1,"1 + 1б, \n2 + 0,5б",{"$f":"IF(G29=1,1,0)+IF(G29=2,0.5,0)","v":1}]
[18,null,"информационно-технологическое обеспечение","наличие страницы Центра на сайте образовательного учреждения  ","если да = 1",null,1,"да + 1б",{"$f":"IF(G30=1,1,0)","v":1}]
[19,null,null,"регулярность обновления страницы Центра на сайте","более 1 раза в месяц = 1, \nреже = 2",null,2,"1 + 1б, \n2 + 0,5б",{"$f":"IF(G31=1,1,0)+IF(G31=2,0.5,0)","v":0.5}]
[20,null,null,"использование доступа в интернет преподавателями и слушателями","если да = 1,  только преподавателями = 2",null,1,"1 + 1б, \n2 + 0,5б",{"$f":"IF(G32=1,1,0)+IF(G32=2,0.5,0)","v":1}]
[21,null,null,"наличие методических материалов Центра на сайте ОУ","если да = 1",null,1,"да + 1б",{"$f":"IF(G33=1,1,0)","v":1}]
[22,null,null,"наличие Совета Центра","если да = 1",null,1,"да + 0,5б",{"$f":"IF(G34=1,0.5,0)","v":0.5}]
[23,null,null,"наличие утвержденного положения о деятельности Центра","если да = 1",null,1,"да + 0,5б",{"$f":"IF(G35=1,0.5,0)","v":0.5}]
[24,null,null,"наличие оформленных договоров с социальными партнерами","если да = 1",null,1,"да + 1б",{"$f":"IF(G36=1,1,0)","v":1}]
[25,null,"учебно-методическое обеспечение","обеспеченность слушателей учебниками, справочной литературой","полное обеспечение = 1,\nчастичное = 2",null,2,"1 + 2б, \n2 + 1б",{"$f":"IF(G37=1,2,0)+IF(G37=2,1,0)","v":1}]
[26,null,null,"обеспеченность преподавателей методической литературой, программными средствами обучения","полное обеспечение = 1,\nчастичное = 2",null,1,"1 + 2б, \n2 + 1б",{"$f":"IF(G38=1,2,0)+IF(G38=2,1,0)","v":2}]
[27,"Результаты образовательной деятельности","уровень и качество общеобразовательной подготовки слушателей","слушатели, применившие полученную информацию на практике","количество",null,12,"100% + 2б",{"$f":"ROUND(G39/H7*2,1)","v":1.8}]
[28,null,null,"слушатели, освоившие программу и получившие удостоверение","количество",null,8,"100% + 4б",{"$f":"ROUND(G40/$H$7*4,1)","v":2.5}]
[29,null,null,"слушатели, получившие сертификат","количество",null,5,"100% + 1б",{"$f":"ROUND(G41/H7*1,1)","v":0.4}]
[30,null,"сформированность ключевых компетентностей слушателей","слушатели, имеющие документально подтвержденные достижения по теме Программы:"]
[null,null,null," - на школьном уровне","количество",null,12,"100% + 2б",{"$f":"ROUND(G43/$H$7*2,1)","v":1.8}]
[null,null,null," - на муниципальном уровне","количество",null,2,"100% + 3б",{"$f":"ROUND(G44/$H$7*3,1)","v":0.5}]
[null,null,null," - на региональном уровне","количество",null,13,"100% + 4б",{"$f":"ROUND(G45/$H$7*4,1)","v":4}]
[null,null,null," - на федеральном  и международном уровнях","количество",null,null,"100% + 5б",{"$f":"ROUND(G46/$H$7*5,1)","v":0}]
[31,null,"уровень обобщения и представления опыта деятельности Центра по теме Программы","публичное представление промежуточных результатов реализации образовательной Программы:"]
[null,null,null," - на школьном уровне","количество",null,1,"за 1 + 0,1б",{"$f":"G48*0.1","v":0.1}]
[null,null,null," - на муниципальном уровне","количество",null,0,"за 1 + 0,2б",{"$f":"G49*0.2","v":0}]
[null,null,null," - на региональном уровне","количество",null,0,"за 1 + 0,3б",{"$f":"G50*0.3","v":0}]
[null,null,null," - на федеральном  и международном уровнях","количество",null,0,"за 1 + 0,5б",{"$f":"G51*0.4","v":0}]
[32,null,null,"организация мероприятий, семинаров различного уровня по теме образовательной Программы:"]
[null,null,null," - на муниципальном уровне","количество",null,null,"за 1 + 0,3б",{"$f":"G53*0.3","v":0}]
[null,null,null," - на региональном уровне","количество",null,1,"за 1 + 0,5б",{"$f":"G54*0.5","v":0.5}]
[null,null,null," - на федеральном  и международном уровнях","количество",null,null,"за 1 + 0,7б",{"$f":"G55*0.7","v":0}]
[33,null,null,"внешкольная экспертная деятельность преподавателей Центра по теме Программы","количество часов",null,null,"за 100ч + 2б",{"$f":"G56*0.02","v":0}]
[34,null,null,"наличие публикаций в методических изданиях по теме Программы","количество страниц А4, интервал 1,5, шрифт 14 ",null,null,"за 24 стр. + 2б",{"$f":"ROUND(G57*2/24,1)","v":0}]
[35,null,null,"количество публикаций в СМИ муниципального и регионального уровня по теме Программы","количество статей",null,1,"за 1 ст. + 0,1б",{"$f":"G58*0.1","v":0.1}]
[36,null,"уровень организации и степень достижения целей и задач инновационной деятельности","наличие рецензии на образовательную Программу","если да = 1",null,null,"да + 2б",{"$f":"IF(G59=1,2,0)","v":0}]
[37,null,null,"Программа Центра является частью программы развития ОУ","если да = 1",null,1,"да + 1б",{"$f":"IF(G60=1,1,0)","v":1}]
[38,null,null,"Программа Центра является частью муниципальной программы развития","если да = 1",null,null,"да + 2б",{"$f":"IF(G61=1,2,0)","v":0}]
[39,null,null,"наличие общественной экспертизы результатов реализации образовательной Программы","если да = 1",null,null,"да + 1б",{"$f":"IF(G62=1,1,0)","v":0}]
[40,null,null,"публичное представление результатов инновационной деятельности на научно-практических конференциях"]
[null,null,null," - на школьном уровне","если да = 1",null,0,"да + 0,3б",{"$f":"IF(G64=1,0.3,0)","v":0}]
[null,null,null," - на муниципальном уровне","если да = 1",null,1,"да + 0,5б",{"$f":"IF(G65=1,0.5,0)","v":0.5}]
[null,null,null," - на региональном уровне","если да = 1",null,1,"да + 1б",{"$f":"IF(G66=1,1,0)","v":1}]
[null,null,null," - на федеральном  и международном уровнях","если да = 1",null,null,"да + 2б",{"$f":"IF(G67=1,2,0)","v":0}]
["Общее рейтинговое значение ",null,null,null,null,null,null,null,{"$f":"SUM(I13:I41,I43:I46,I48:I51,I53:I62,I64:I67)","v":39.1}]

{"sheet":"Лист1","index":41,"n_rows":63,"n_cols":47,"rows_kept":63,"cut":false,"hidden":false,"merged":[[62,0,62,3],[36,0,40,0],[36,2,40,2],[41,0,45,0],[41,2,52,2],[46,0,49,0],[53,2,61,2],[57,0,61,0],[33,1,61,1],[33,2,35,2],[17,1,32,1],[17,2,20,2],[21,2,23,2],[24,2,30,2],[31,2,32,2],[0,0,0,1],[6,2,6,3],[7,1,16,1],[7,2,10,2],[11,2,14,2],[15,2,16,2]]}
[null,null,null,null,"Сокращенное наименование образовательного учреждения ОГБОУ СПО \"АТПромИс\"","МОУ «Академический лицей» г. Томска","МОУ «Гимназия № 6» г. Томска","МОУ «Гимназия № 55» г. Томска","МАОУ СОШ №14 им. А. Ф. Лебедева","МОУ «Заозерная СОШ № 16» г. Томска","МОУ «СОШ № 33» г. Томска","МОУ «СОШ № 37» г. Томска","МОУ ДОД «ЦПК» г. Томск","МОУ ДОД «ЦДОД» г. Стрежевого","МОУ «Самусьский лицей им. ак. В.В. Пекарского» ЗАТО Северск","МОУ «СОШ № 86», МОУ \"СОШ № 89\" ЗАТО Северск","МОУ «СОШ № 80» ЗАТО Северск","МОУ «СОШ № 87» ЗАТО Северск","МОУ «СОШ № 196» ЗАТО Северск","МОУ «СОШ № 197 им. Маркелова» ЗАТО Северск","МОУ «СОШ № 2» Асиновского района","МОУ «СОШ № 4» Асиновского района","МОУ «СОШ с. Ново-Кусково» Асиновского района","МОУ ДОД «ДДТ» Асиновского района","МОУ «Бакчарская СОШ» Бакчарского района","МОУ «Высокоярская СОШ» Бакчарского района","МОУ «Зырянская СОШ» Зырянского района","МОУ «Высоковская СОШ» Зырянского района","МОУ «Кожевниковская СОШ № 1» Кожевниковского района","МОУ «Кожевниковская СОШ № 2» Кожевниковского района","МОУ «Володинская СОШ» Кривошеинского района","МОУ «Кривошеинская СОШ» Кривошеинского района","МОУ «Молчановская СОШ № 2» Молчановского района","МОУ ДОД «ДДТ» Парабельского района","МБОУ Куяновская СОШ","МОУ «Первомайская СОШ» Первомайского района","МОУ «Воронинская СОШ» Томского района","МОУ «Малиновская СОШ» Томского района","МОУ «Турунтаевская СОШ» Томского района","МОУ «Чернореченская СОШ» Томского района","МБОУ Калтайская СОШ Томского Района ","МОУ ДОД «ДДТ» Томского района","МБОУ \"Корниловская СОШ\" Томского района","МОУ «Новоколоминская СОШ» Чаинского района","МОУ «Побединская СОШ» Шегарского района"]
[null,null,null,"Общее количество слушателей образовательной Программы",{"$f":"'АР АПТЛ'!H7","v":15},{"$f":"'Т Ак.л'!H7","v":41},{"$f":"'Т №6'!H7","v":53},{"$f":"'Т № 55'!H7","v":24},{"$f":"'Т №14'!H7","v":50},{"$f":"'Т №16'!H7","v":50},{"$f":"'Т №33'!H7","v":33},{"$f":"'Т № 37'!H7","v":82},{"$f":"'Т ПК'!H7","v":40},{"$f":"'Стр ЦДОД'!H7","v":253},{"$f":"'ЗС Сам'!H7","v":12},{"$f":"'ЗС №86-87'!H7","v":73},{"$f":"'ЗС №80'!H7","v":30},{"$f":"'ЗС №87'!H7","v":25},{"$f":"'ЗС №196'!H7","v":20},{"$f":"'ЗС №197'!H7","v":25},{"$f":"'АР  №2'!H7","v":25},{"$f":"'АР №4'!H7","v":25},{"$f":"'АР Нов'!H7","v":10},{"$f":"'АР ДДТ'!H7","v":10},{"$f":"'БР Бак'!H7","v":15},{"$f":"'БР Выс'!H7","v":65},{"$f":"'ЗР Зыр'!H7","v":26},{"$f":"'ЗР Зыр Выс'!H7","v":15},{"$f":"' КР Кож №1'!H7","v":184},{"$f":"'КР Кож №2'!H7","v":76},{"$f":"'КР Вол Крив'!H7","v":22},{"$f":"'КР Крив'!H7","v":24},{"$f":"' МР Мол'!H7","v":21},{"$f":"'ПР Пар. ДДТ'!H7","v":17},{"$f":"'ПР Куян'!H7","v":18},{"$f":"' ПР Пер'!H7","v":20},{"$f":"'ТР  Вор'!H7","v":10},{"$f":"'ТР Мал'!H7","v":32},{"$f":"'ТР Тур'!H7","v":15},{"$f":"'ТР Чер'!H7","v":36},{"$f":"' ТР Кал'!H7","v":5},{"$f":"'ТР ДДТ'!H7","v":50},{"$f":"'ТР Корн'!H7","v":11},{"$f":"'ЧР Нов'!H7","v":14},{"$f":"'ШР Поб'!H7","v":13},{"$f":"SUM(C2:AS2)","v":1585},{"$f":"AT2/41","v":38.658536585365852}]
[null,null,null,"Количество педагогических работников ",{"$f":"'АР АПТЛ'!H8","v":3},{"$f":"'Т Ак.л'!H8","v":5},{"$f":"'Т №6'!H8","v":4},{"$f":"'Т № 55'!H8","v":3},{"$f":"'Т №14'!H8","v":8},{"$f":"'Т №16'!H8","v":5},{"$f":"'Т №33'!H8","v":3},{"$f":"'Т № 37'!H8","v":5},{"$f":"'Т ПК'!H8","v":4},{"$f":"'Стр ЦДОД'!H8","v":6},{"$f":"'ЗС Сам'!H8","v":3},{"$f":"'ЗС №86-87'!H8","v":4},{"$f":"'ЗС №80'!H8","v":4},{"$f":"'ЗС №87'!H8","v":3},{"$f":"'ЗС №196'!H8","v":3},{"$f":"'ЗС №197'!H8","v":5},{"$f":"'АР  №2'!H8","v":3},{"$f":"'АР №4'!H8","v":3},{"$f":"'АР Нов'!H8","v":3},{"$f":"'АР ДДТ'!H8","v":2},{"$f":"'БР Бак'!H8","v":5},{"$f":"'БР Выс'!H8","v":3},{"$f":"'ЗР Зыр'!H8","v":3},{"$f":"'ЗР Зыр Выс'!H8","v":3},{"$f":"' КР Кож №1'!H8","v":5},{"$f":"'КР Кож №2'!H8","v":5},{"$f":"'КР Вол Крив'!H8","v":2},{"$f":"'КР Крив'!H8","v":1},{"$f":"' МР Мол'!H8","v":5},{"$f":"'ПР Пар. ДДТ'!H8","v":1},{"$f":"'ПР Куян'!H8","v":6},{"$f":"' ПР Пер'!H8","v":5},{"$f":"'ТР  Вор'!H8","v":1},{"$f":"'ТР Мал'!H8","v":2},{"$f":"'ТР Тур'!H8","v":3},{"$f":"'ТР Чер'!H8","v":6},{"$f":"' ТР Кал'!H8","v":4},{"$f":"'ТР ДДТ'!H8","v":3},{"$f":"'ТР Корн'!H8","v":3},{"$f":"'ЧР Нов'!H8","v":2},{"$f":"'ШР Поб'!H8","v":4},{"$f":"SUM(C3:AS3)","v":151},{"$f":"AT3/SUM(AT3:AT5)","v":0.43019943019943019}]
[null,null,null,"Количество консультантов из числа опытных старшеклассников, выпускников Центра",{"$f":"'АР АПТЛ'!H9","v":0},{"$f":"'Т Ак.л'!H9","v":5},{"$f":"'Т №6'!H9","v":3},{"$f":"'Т № 55'!H9","v":6},{"$f":"'Т №14'!H9","v":0},{"$f":"'Т №16'!H9","v":3},{"$f":"'Т №33'!H9","v":3},{"$f":"'Т № 37'!H9","v":7},{"$f":"'Т ПК'!H9","v":0},{"$f":"'Стр ЦДОД'!H9","v":0},{"$f":"'ЗС Сам'!H9","v":8},{"$f":"'ЗС №86-87'!H9","v":10},{"$f":"'ЗС №80'!H9","v":7},{"$f":"'ЗС №87'!H9","v":0},{"$f":"'ЗС №196'!H9","v":0},{"$f":"'ЗС №197'!H9","v":3},{"$f":"'АР  №2'!H9","v":0},{"$f":"'АР №4'!H9","v":2},{"$f":"'АР Нов'!H9","v":6},{"$f":"'АР ДДТ'!H9","v":2},{"$f":"'БР Бак'!H9","v":3},{"$f":"'БР Выс'!H9","v":2},{"$f":"'ЗР Зыр'!H9","v":5},{"$f":"'ЗР Зыр Выс'!H9","v":0},{"$f":"' КР Кож №1'!H9","v":4},{"$f":"'КР Кож №2'!H9","v":0},{"$f":"'КР Вол Крив'!H9","v":6},{"$f":"'КР Крив'!H9","v":3},{"$f":"' МР Мол'!H9","v":5},{"$f":"'ПР Пар. ДДТ'!H9","v":0},{"$f":"'ПР Куян'!H9","v":2},{"$f":"' ПР Пер'!H9","v":4},{"$f":"'ТР  Вор'!H9","v":2},{"$f":"'ТР Мал'!H9","v":6},{"$f":"'ТР Тур'!H9","v":5},{"$f":"'ТР Чер'!H9","v":0},{"$f":"' ТР Кал'!H9","v":0},{"$f":"'ТР ДДТ'!H9","v":0},{"$f":"'ТР Корн'!H9","v":2},{"$f":"'ЧР Нов'!H9","v":0},{"$f":"'ШР Поб'!H9","v":3},117,{"$f":"AT4/SUM(AT3:AT5)","v":0.33333333333333331}]
[null,null,null,"Количество привлеченных специалистов",{"$f":"'АР АПТЛ'!H10","v":0},{"$f":"'Т Ак.л'!H10","v":1},{"$f":"'Т №6'!H10","v":2},{"$f":"'Т № 55'!H10","v":0},{"$f":"'Т №14'!H10","v":4},{"$f":"'Т №16'!H10","v":0},{"$f":"'Т №33'!H10","v":0},{"$f":"'Т № 37'!H10","v":2},{"$f":"'Т ПК'!H10","v":1},{"$f":"'Стр ЦДОД'!H10","v":11},{"$f":"'ЗС Сам'!H10","v":0},{"$f":"'ЗС №86-87'!H10","v":6},{"$f":"'ЗС №80'!H10","v":0},{"$f":"'ЗС №87'!H10","v":2},{"$f":"'ЗС №196'!H10","v":4},{"$f":"'ЗС №197'!H10","v":1},{"$f":"'АР  №2'!H10","v":12},{"$f":"'АР №4'!H10","v":5},{"$f":"'АР Нов'!H10","v":1},{"$f":"'АР ДДТ'!H10","v":2},{"$f":"'БР Бак'!H10","v":0},{"$f":"'БР Выс'!H10","v":0},{"$f":"'ЗР Зыр'!H10","v":0},{"$f":"'ЗР Зыр Выс'!H10","v":0},{"$f":"' КР Кож №1'!H10","v":1},{"$f":"'КР Кож №2'!H10","v":1},{"$f":"'КР Вол Крив'!H10","v":2},{"$f":"'КР Крив'!H10","v":0},{"$f":"' МР Мол'!H10","v":0},{"$f":"'ПР Пар. ДДТ'!H10","v":9},{"$f":"'ПР Куян'!H10","v":2},{"$f":"' ПР Пер'!H10","v":3},{"$f":"'ТР  Вор'!H10","v":0},{"$f":"'ТР Мал'!H10","v":5},{"$f":"'ТР Тур'!H10","v":0},{"$f":"'ТР Чер'!H10","v":0},{"$f":"' ТР Кал'!H10","v":3},{"$f":"'ТР ДДТ'!H10","v":0},{"$f":"'ТР Корн'!H10","v":0},{"$f":"'ЧР Нов'!H10","v":0},{"$f":"'ШР Поб'!H10","v":3},83,{"$f":"AT5/SUM(AT3:AT5)","v":0.23646723646723647}]
[null,null,null,"Продолжительность образовательной Программы",{"$f":"'АР АПТЛ'!H11","v":32},{"$f":"'Т Ак.л'!H11","v":54},{"$f":"'Т №6'!H11","v":94},{"$f":"'Т № 55'!H11","v":32},{"$f":"'Т №14'!H11","v":105},{"$f":"'Т №16'!H11","v":78},{"$f":"'Т №33'!H11","v":30},{"$f":"'Т № 37'!H11","v":52},{"$f":"'Т ПК'!H11","v":40},{"$f":"'Стр ЦДОД'!H11","v":860},{"$f":"'ЗС Сам'!H11","v":32},{"$f":"'ЗС №86-87'!H11","v":72},{"$f":"'ЗС №80'!H11","v":18},{"$f":"'ЗС №87'!H11","v":38},{"$f":"'ЗС №196'!H11","v":71},{"$f":"'ЗС №197'!H11","v":28},{"$f":"'АР  №2'!H11","v":96},{"$f":"'АР №4'!H11","v":68},{"$f":"'АР Нов'!H11","v":60},{"$f":"'АР ДДТ'!H11","v":180},{"$f":"'БР Бак'!H11","v":46},{"$f":"'БР Выс'!H11","v":271},{"$f":"'ЗР Зыр'!H11","v":68},{"$f":"'ЗР Зыр Выс'!H11","v":68},{"$f":"' КР Кож №1'!H11","v":42},{"$f":"'КР Кож №2'!H11","v":24},{"$f":"'КР Вол Крив'!H11","v":21},{"$f":"'КР Крив'!H11","v":19},{"$f":"' МР Мол'!H11","v":36},{"$f":"'ПР Пар. ДДТ'!H11","v":68},{"$f":"'ПР Куян'!H11","v":34},{"$f":"' ПР Пер'!H11","v":22},{"$f":"'ТР  Вор'!H11","v":18},{"$f":"'ТР Мал'!H11","v":83},{"$f":"'ТР Тур'!H11","v":72},{"$f":"'ТР Чер'!H11","v":20},{"$f":"' ТР Кал'!H11","v":64},{"$f":"'ТР ДДТ'!H11","v":32},{"$f":"'ТР Корн'!H11","v":24},{"$f":"'ЧР Нов'!H11","v":50},{"$f":"'ШР Поб'!H11","v":4},{"$f":"SUM(C6:AS6)/41","v":76.243902439024396}]
["№","Направ-ление","Критерии",null,1,1,1,1,1,1,1,1,1,1,1,1,1,1,1,1,1,1,1,1,1,1,1,1,1,1,1,1,1,1,1,1,1,1,1,1,1,1,1,1,1,41]
[1,"Образовательная программа","адаптированность","продолжительность образовательной Программы",{"$f":"'АР АПТЛ'!G13","v":32},{"$f":"'Т Ак.л'!G13","v":54},{"$f":"'Т №6'!G13","v":94},{"$f":"'Т № 55'!G13","v":32},{"$f":"'Т №14'!G13","v":105},{"$f":"'Т №16'!G13","v":78},{"$f":"'Т №33'!G13","v":30},{"$f":"'Т № 37'!G13","v":52},{"$f":"'Т ПК'!G13","v":40},{"$f":"'Стр ЦДОД'!G13","v":860},{"$f":"'ЗС Сам'!G13","v":32},{"$f":"'ЗС №86-87'!G13","v":72},{"$f":"'ЗС №80'!G13","v":18},{"$f":"'ЗС №87'!G13","v":38},{"$f":"'ЗС №196'!G13","v":71},{"$f":"'ЗС №197'!G13","v":28},{"$f":"'АР  №2'!G13","v":96},{"$f":"'АР №4'!G13","v":68},{"$f":"'АР Нов'!G13","v":60},{"$f":"'АР ДДТ'!G13","v":180},{"$f":"'БР Бак'!G13","v":46},{"$f":"'БР Выс'!G13","v":271},{"$f":"'ЗР Зыр'!G13","v":68},{"$f":"'ЗР Зыр Выс'!G13","v":68},{"$f":"' КР Кож №1'!G13","v":42},{"$f":"'КР Кож №2'!G13","v":24},{"$f":"'КР Вол Крив'!G13","v":21},{"$f":"'КР Крив'!G13","v":19},{"$f":"' МР Мол'!G13","v":36},{"$f":"'ПР Пар. ДДТ'!G13","v":68},{"$f":"'ПР Куян'!G13","v":34},{"$f":"' ПР Пер'!G13","v":22},{"$f":"'ТР  Вор'!G13","v":18},{"$f":"'ТР Мал'!G13","v":83},{"$f":"'ТР Тур'!G13","v":72},{"$f":"'ТР Чер'!G13","v":20},{"$f":"' ТР Кал'!G13","v":64},{"$f":"'ТР ДДТ'!G13","v":32},{"$f":"'ТР Корн'!G13","v":24},{"$f":"'ЧР Нов'!G13","v":50},{"$f":"'ШР Поб'!G13","v":4},3126]
[2,null,null,"наличие модулей в образовательной Программе для разновозрастных групп",{"$f":"'АР АПТЛ'!G14","v":1},{"$f":"'Т Ак.л'!G14","v":1},{"$f":"'Т №6'!G14","v":1},{"$f":"'Т № 55'!G14","v":"нет"},{"$f":"'Т №14'!G14","v":0},{"$f":"'Т №16'!G14","v":1},{"$f":"'Т №33'!G14","v":2},{"$f":"'Т № 37'!G14","v":1},{"$f":"'Т ПК'!G14","v":0},{"$f":"'Стр ЦДОД'!G14","v":1},{"$f":"'ЗС Сам'!G14","v":1},{"$f":"'ЗС №86-87'!G14","v":2},{"$f":"'ЗС №80'!G14","v":1},{"$f":"'ЗС №87'!G14","v":1},{"$f":"'ЗС №196'!G14","v":0},{"$f":"'ЗС №197'!G14","v":0},{"$f":"'АР  №2'!G14","v":0},{"$f":"'АР №4'!G14","v":1},{"$f":"'АР Нов'!G14","v":1},{"$f":"'АР ДДТ'!G14","v":1},{"$f":"'БР Бак'!G14","v":0},{"$f":"'БР Выс'!G14","v":1},{"$f":"'ЗР Зыр'!G14","v":1},{"$f":"'ЗР Зыр Выс'!G14","v":1},{"$f":"' КР Кож №1'!G14","v":2},{"$f":"'КР Кож №2'!G14","v":1},{"$f":"'КР Вол Крив'!G14","v":1},{"$f":"'КР Крив'!G14","v":1},{"$f":"' МР Мол'!G14","v":1},{"$f":"'ПР Пар. ДДТ'!G14","v":0},{"$f":"'ПР Куян'!G14","v":1},{"$f":"' ПР Пер'!G14","v":0},{"$f":"'ТР  Вор'!G14","v":1},{"$f":"'ТР Мал'!G14","v":1},{"$f":"'ТР Тур'!G14","v":1},{"$f":"'ТР Чер'!G14","v":1},{"$f":"' ТР Кал'!G14","v":0},{"$f":"'ТР ДДТ'!G14","v":1},{"$f":"'ТР Корн'!G14","v":0},{"$f":"'ЧР Нов'!G14","v":1},{"$f":"'ШР Поб'!G14","v":1},33]
[3,null,null,"наличие в образовательной Программе активных и интерактивных форм обучения",{"$f":"'АР АПТЛ'!G15","v":2},{"$f":"'Т Ак.л'!G15","v":2},{"$f":"'Т №6'!G15","v":2},{"$f":"'Т № 55'!G15","v":1},{"$f":"'Т №14'!G15","v":2},{"$f":"'Т №16'!G15","v":2},{"$f":"'Т №33'!G15","v":2},{"$f":"'Т № 37'!G15","v":2},{"$f":"'Т ПК'!G15","v":2},{"$f":"'Стр ЦДОД'!G15","v":2},{"$f":"'ЗС Сам'!G15","v":2},{"$f":"'ЗС №86-87'!G15","v":2},{"$f":"'ЗС №80'!G15","v":2},{"$f":"'ЗС №87'!G15","v":2},{"$f":"'ЗС №196'!G15","v":2},{"$f":"'ЗС №197'!G15","v":2},{"$f":"'АР  №2'!G15","v":2},{"$f":"'АР №4'!G15","v":2},{"$f":"'АР Нов'!G15","v":2},{"$f":"'АР ДДТ'!G15","v":2},{"$f":"'БР Бак'!G15","v":1},{"$f":"'БР Выс'!G15","v":2},{"$f":"'ЗР Зыр'!G15","v":2},{"$f":"'ЗР Зыр Выс'!G15","v":1},{"$f":"' КР Кож №1'!G15","v":2},{"$f":"'КР Кож №2'!G15","v":2},{"$f":"'КР Вол Крив'!G15","v":2},{"$f":"'КР Крив'!G15","v":2},{"$f":"' МР Мол'!G15","v":2},{"$f":"'ПР Пар. ДДТ'!G15","v":1},{"$f":"'ПР Куян'!G15","v":2},{"$f":"' ПР Пер'!G15","v":2},{"$f":"'ТР  Вор'!G15","v":2},{"$f":"'ТР Мал'!G15","v":2},{"$f":"'ТР Тур'!G15","v":2},{"$f":"'ТР Чер'!G15","v":2},{"$f":"' ТР Кал'!G15","v":1},{"$f":"'ТР ДДТ'!G15","v":2},{"$f":"'ТР Корн'!G15","v":1},{"$f":"'ЧР Нов'!G15","v":1},{"$f":"'ШР Поб'!G15","v":1},74]
[4,null,null,"преемственность образовательных Программ из года в год",{"$f":"'АР АПТЛ'!G16","v":1},{"$f":"'Т Ак.л'!G16","v":1},{"$f":"'Т №6'!G16","v":1},{"$f":"'Т № 55'!G16","v":1},{"$f":"'Т №14'!G16","v":0},{"$f":"'Т №16'!G16","v":1},{"$f":"'Т №33'!G16","v":1},{"$f":"'Т № 37'!G16","v":1},{"$f":"'Т ПК'!G16","v":1},{"$f":"'Стр ЦДОД'!G16","v":1},{"$f":"'ЗС Сам'!G16","v":1},{"$f":"'ЗС №86-87'!G16","v":1},{"$f":"'ЗС №80'!G16","v":1},{"$f":"'ЗС №87'!G16","v":1},{"$f":"'ЗС №196'!G16","v":1},{"$f":"'ЗС №197'!G16","v":1},{"$f":"'АР  №2'!G16","v":1},{"$f":"'АР №4'!G16","v":1},{"$f":"'АР Нов'!G16","v":0},{"$f":"'АР ДДТ'!G16","v":1},{"$f":"'БР Бак'!G16","v":0},{"$f":"'БР Выс'!G16","v":1},{"$f":"'ЗР Зыр'!G16","v":1},{"$f":"'ЗР Зыр Выс'!G16","v":1},{"$f":"' КР Кож №1'!G16","v":1},{"$f":"'КР Кож №2'!G16","v":1},{"$f":"'КР Вол Крив'!G16","v":1},{"$f":"'КР Крив'!G16","v":0},{"$f":"' МР Мол'!G16","v":1},{"$f":"'ПР Пар. ДДТ'!G16","v":0},{"$f":"'ПР Куян'!G16","v":0},{"$f":"' ПР Пер'!G16","v":1},{"$f":"'ТР  Вор'!G16","v":1},{"$f":"'ТР Мал'!G16","v":1},{"$f":"'ТР Тур'!G16","v":1},{"$f":"'ТР Чер'!G16","v":1},{"$f":"' ТР Кал'!G16","v":1},{"$f":"'ТР ДДТ'!G16","v":1},{"$f":"'ТР Корн'!G16","v":1},{"$f":"'ЧР Нов'!G16","v":0},{"$f":"'ШР Поб'!G16","v":1},34]
[5,null,"доступность","наличие модулей, предложенных слушателям на выбор",{"$f":"'АР АПТЛ'!G17","v":0},{"$f":"'Т Ак.л'!G17","v":0},{"$f":"'Т №6'!G17","v":0},{"$f":"'Т № 55'!G17","v":"нет"},{"$f":"'Т №14'!G17","v":0},{"$f":"'Т №16'!G17","v":2},{"$f":"'Т №33'!G17","v":1},{"$f":"'Т № 37'!G17","v":2},{"$f":"'Т ПК'!G17","v":0},{"$f":"'Стр ЦДОД'!G17","v":2},{"$f":"'ЗС Сам'!G17","v":0},{"$f":"'ЗС №86-87'!G17","v":2},{"$f":"'ЗС №80'!G17","v":0},{"$f":"'ЗС №87'!G17","v":0},{"$f":"'ЗС №196'!G17","v":0},{"$f":"'ЗС №197'!G17","v":0},{"$f":"'АР  №2'!G17","v":0},{"$f":"'АР №4'!G17","v":0},{"$f":"'АР Нов'!G17","v":0},{"$f":"'АР ДДТ'!G17","v":0},{"$f":"'БР Бак'!G17","v":0},{"$f":"'БР Выс'!G17","v":2},{"$f":"'ЗР Зыр'!G17","v":0},{"$f":"'ЗР Зыр Выс'!G17","v":0},{"$f":"' КР Кож №1'!G17","v":1},{"$f":"'КР Кож №2'!G17","v":0},{"$f":"'КР Вол Крив'!G17","v":0},{"$f":"'КР Крив'!G17","v":0},{"$f":"' МР Мол'!G17","v":0},{"$f":"'ПР Пар. ДДТ'!G17","v":0},{"$f":"'ПР Куян'!G17","v":0},{"$f":"' ПР Пер'!G17","v":0},{"$f":"'ТР  Вор'!G17","v":0},{"$f":"'ТР Мал'!G17","v":0},{"$f":"'ТР Тур'!G17","v":2},{"$f":"'ТР Чер'!G17","v":0},{"$f":"' ТР Кал'!G17","v":0},{"$f":"'ТР ДДТ'!G17","v":0},{"$f":"'ТР Корн'!G17","v":0},{"$f":"'ЧР Нов'!G17","v":0},{"$f":"'ШР Поб'!G17","v":0},14]
[6,null,null,"проведение мониторинга уровня сформированности ключевых компетентностей",{"$f":"'АР АПТЛ'!G18","v":1},{"$f":"'Т Ак.л'!G18","v":1},{"$f":"'Т №6'!G18","v":1},{"$f":"'Т № 55'!G18","v":1},{"$f":"'Т №14'!G18","v":1},{"$f":"'Т №16'!G18","v":1},{"$f":"'Т №33'!G18","v":1},{"$f":"'Т № 37'!G18","v":1},{"$f":"'Т ПК'!G18","v":1},{"$f":"'Стр ЦДОД'!G18","v":1},{"$f":"'ЗС Сам'!G18","v":1},{"$f":"'ЗС №86-87'!G18","v":1},{"$f":"'ЗС №80'!G18","v":1},{"$f":"'ЗС №87'!G18","v":1},{"$f":"'ЗС №196'!G18","v":1},{"$f":"'ЗС №197'!G18","v":1},{"$f":"'АР  №2'!G18","v":1},{"$f":"'АР №4'!G18","v":1},{"$f":"'АР Нов'!G18","v":1},{"$f":"'АР ДДТ'!G18","v":1},{"$f":"'БР Бак'!G18","v":0},{"$f":"'БР Выс'!G18","v":1},{"$f":"'ЗР Зыр'!G18","v":1},{"$f":"'ЗР Зыр Выс'!G18","v":1},{"$f":"' КР Кож №1'!G18","v":1},{"$f":"'КР Кож №2'!G18","v":1},{"$f":"'КР Вол Крив'!G18","v":1},{"$f":"'КР Крив'!G18","v":1},{"$f":"' МР Мол'!G18","v":1},{"$f":"'ПР Пар. ДДТ'!G18","v":0},{"$f":"'ПР Куян'!G18","v":1},{"$f":"' ПР Пер'!G18","v":1},{"$f":"'ТР  Вор'!G18","v":1},{"$f":"'ТР Мал'!G18","v":1},{"$f":"'ТР Тур'!G18","v":1},{"$f":"'ТР Чер'!G18","v":1},{"$f":"' ТР Кал'!G18","v":0},{"$f":"'ТР ДДТ'!G18","v":1},{"$f":"'ТР Корн'!G18","v":1},{"$f":"'ЧР Нов'!G18","v":0},{"$f":"'ШР Поб'!G18","v":1},37,{"$f":"AT13/41","v":0.90243902439024393}]
[7,null,null,"программа реализуется в сетевом взаимодействии с другими Центрами",{"$f":"'АР АПТЛ'!G19","v":0},{"$f":"'Т Ак.л'!G19","v":1},{"$f":"'Т №6'!G19","v":1},{"$f":"'Т № 55'!G19","v":1},{"$f":"'Т №14'!G19","v":0},{"$f":"'Т №16'!G19","v":1},{"$f":"'Т №33'!G19","v":0},{"$f":"'Т № 37'!G19","v":1},{"$f":"'Т ПК'!G19","v":1},{"$f":"'Стр ЦДОД'!G19","v":1},{"$f":"'ЗС Сам'!G19","v":1},{"$f":"'ЗС №86-87'!G19","v":1},{"$f":"'ЗС №80'!G19","v":1},{"$f":"'ЗС №87'!G19","v":0},{"$f":"'ЗС №196'!G19","v":1},{"$f":"'ЗС №197'!G19","v":1},{"$f":"'АР  №2'!G19","v":1},{"$f":"'АР №4'!G19","v":1},{"$f":"'АР Нов'!G19","v":1},{"$f":"'АР ДДТ'!G19","v":0},{"$f":"'БР Бак'!G19","v":0},{"$f":"'БР Выс'!G19","v":1},{"$f":"'ЗР Зыр'!G19","v":1},{"$f":"'ЗР Зыр Выс'!G19","v":1},{"$f":"' КР Кож №1'!G19","v":1},{"$f":"'КР Кож №2'!G19","v":1},{"$f":"'КР Вол Крив'!G19","v":1},{"$f":"'КР Крив'!G19","v":1},{"$f":"' МР Мол'!G19","v":1},{"$f":"'ПР Пар. ДДТ'!G19","v":0},{"$f":"'ПР Куян'!G19","v":0},{"$f":"' ПР Пер'!G19","v":0},{"$f":"'ТР  Вор'!G19","v":1},{"$f":"'ТР Мал'!G19","v":0},{"$f":"'ТР Тур'!G19","v":0},{"$f":"'ТР Чер'!G19","v":0},{"$f":"' ТР Кал'!G19","v":0},{"$f":"'ТР ДДТ'!G19","v":1},{"$f":"'ТР Корн'!G19","v":1},{"$f":"'ЧР Нов'!G19","v":0},{"$f":"'ШР Поб'!G19","v":0},26]
[8,null,null,"доля слушателей, привлеченных из других ОУ",{"$f":"'АР АПТЛ'!G20","v":0},{"$f":"'Т Ак.л'!G20","v":0},{"$f":"'Т №6'!G20","v":0},{"$f":"'Т № 55'!G20","v":0},{"$f":"'Т №14'!G20","v":0},{"$f":"'Т №16'!G20","v":10},{"$f":"'Т №33'!G20","v":0},{"$f":"'Т № 37'!G20","v":0},{"$f":"'Т ПК'!G20","v":40},{"$f":"'Стр ЦДОД'!G20","v":253},{"$f":"'ЗС Сам'!G20","v":0},{"$f":"'ЗС №86-87'!G20","v":47},{"$f":"'ЗС №80'!G20","v":0},{"$f":"'ЗС №87'!G20","v":0},{"$f":"'ЗС №196'!G20","v":0},{"$f":"'ЗС №197'!G20","v":15},{"$f":"'АР  №2'!G20","v":0},{"$f":"'АР №4'!G20","v":5},{"$f":"'АР Нов'!G20","v":0},{"$f":"'АР ДДТ'!G20","v":10},{"$f":"'БР Бак'!G20","v":0},{"$f":"'БР Выс'!G20","v":0},{"$f":"'ЗР Зыр'!G20","v":0},{"$f":"'ЗР Зыр Выс'!G20","v":0},{"$f":"' КР Кож №1'!G20","v":55},{"$f":"'КР Кож №2'!G20","v":44},{"$f":"'КР Вол Крив'!G20","v":0},{"$f":"'КР Крив'!G20","v":0},{"$f":"' МР Мол'!G20","v":0},{"$f":"'ПР Пар. ДДТ'!G20","v":17},{"$f":"'ПР Куян'!G20","v":1},{"$f":"' ПР Пер'!G20","v":0},{"$f":"'ТР  Вор'!G20","v":0},{"$f":"'ТР Мал'!G20","v":0},{"$f":"'ТР Тур'!G20","v":0},{"$f":"'ТР Чер'!G20","v":0},{"$f":"' ТР Кал'!G20","v":0},{"$f":"'ТР ДДТ'!G20","v":50},{"$f":"'ТР Корн'!G20","v":1},{"$f":"'ЧР Нов'!G20","v":1},{"$f":"'ШР Поб'!G20","v":0},549,{"$f":"AT15/AT2","v":0.34637223974763409}]
[9,null,"полнота реализации","Программа реализуется в полном объеме",{"$f":"'АР АПТЛ'!G21","v":1},{"$f":"'Т Ак.л'!G21","v":1},{"$f":"'Т №6'!G21","v":1},{"$f":"'Т № 55'!G21","v":1},{"$f":"'Т №14'!G21","v":1},{"$f":"'Т №16'!G21","v":1},{"$f":"'Т №33'!G21","v":1},{"$f":"'Т № 37'!G21","v":1},{"$f":"'Т ПК'!G21","v":1},{"$f":"'Стр ЦДОД'!G21","v":1},{"$f":"'ЗС Сам'!G21","v":1},{"$f":"'ЗС №86-87'!G21","v":1},{"$f":"'ЗС №80'!G21","v":1},{"$f":"'ЗС №87'!G21","v":1},{"$f":"'ЗС №196'!G21","v":1},{"$f":"'ЗС №197'!G21","v":1},{"$f":"'АР  №2'!G21","v":1},{"$f":"'АР №4'!G21","v":1},{"$f":"'АР Нов'!G21","v":1},{"$f":"'АР ДДТ'!G21","v":1},{"$f":"'БР Бак'!G21","v":1},{"$f":"'БР Выс'!G21","v":1},{"$f":"'ЗР Зыр'!G21","v":1},{"$f":"'ЗР Зыр Выс'!G21","v":1},{"$f":"' КР Кож №1'!G21","v":1},{"$f":"'КР Кож №2'!G21","v":1},{"$f":"'КР Вол Крив'!G21","v":1},{"$f":"'КР Крив'!G21","v":1},{"$f":"' МР Мол'!G21","v":1},{"$f":"'ПР Пар. ДДТ'!G21","v":1},{"$f":"'ПР Куян'!G21","v":1},{"$f":"' ПР Пер'!G21","v":1},{"$f":"'ТР  Вор'!G21","v":1},{"$f":"'ТР Мал'!G21","v":1},{"$f":"'ТР Тур'!G21","v":1},{"$f":"'ТР Чер'!G21","v":1},{"$f":"' ТР Кал'!G21","v":1},{"$f":"'ТР ДДТ'!G21","v":1},{"$f":"'ТР Корн'!G21","v":1},{"$f":"'ЧР Нов'!G21","v":1},{"$f":"'ШР Поб'!G21","v":1},41,{"$f":"AT16/41","v":1}]
[10,null,null,"Программа изменилась при лучших условиях",{"$f":"'АР АПТЛ'!G22","v":1},{"$f":"'Т Ак.л'!G22","v":1},{"$f":"'Т №6'!G22","v":1},{"$f":"'Т № 55'!G22","v":1},{"$f":"'Т №14'!G22","v":0},{"$f":"'Т №16'!G22","v":1},{"$f":"'Т №33'!G22","v":1},{"$f":"'Т № 37'!G22","v":1},{"$f":"'Т ПК'!G22","v":0},{"$f":"'Стр ЦДОД'!G22","v":1},{"$f":"'ЗС Сам'!G22","v":1},{"$f":"'ЗС №86-87'!G22","v":1},{"$f":"'ЗС №80'!G22","v":1},{"$f":"'ЗС №87'!G22","v":1},{"$f":"'ЗС №196'!G22","v":1},{"$f":"'ЗС №197'!G22","v":1},{"$f":"'АР  №2'!G22","v":1},{"$f":"'АР №4'!G22","v":1},{"$f":"'АР Нов'!G22","v":0},{"$f":"'АР ДДТ'!G22","v":1},{"$f":"'БР Бак'!G22","v":0},{"$f":"'БР Выс'!G22","v":1},{"$f":"'ЗР Зыр'!G22","v":1},{"$f":"'ЗР Зыр Выс'!G22","v":0},{"$f":"' КР Кож №1'!G22","v":1},{"$f":"'КР Кож №2'!G22","v":1},{"$f":"'КР Вол Крив'!G22","v":1},{"$f":"'КР Крив'!G22","v":1},{"$f":"' МР Мол'!G22","v":1},{"$f":"'ПР Пар. ДДТ'!G22","v":0},{"$f":"'ПР Куян'!G22","v":1},{"$f":"' ПР Пер'!G22","v":1},{"$f":"'ТР  Вор'!G22","v":1},{"$f":"'ТР Мал'!G22","v":1},{"$f":"'ТР Тур'!G22","v":1},{"$f":"'ТР Чер'!G22","v":1},{"$f":"' ТР Кал'!G22","v":0},{"$f":"'ТР ДДТ'!G22","v":1},{"$f":"'ТР Корн'!G22","v":1},{"$f":"'ЧР Нов'!G22","v":1},{"$f":"'ШР Поб'!G22","v":1},34]
[11,"Организация образовательного процесса","кадровое обеспечение","укомплектованность преподавательского состава в соответствии с Программой",{"$f":"'АР АПТЛ'!G23","v":1},{"$f":"'Т Ак.л'!G23","v":1},{"$f":"'Т №6'!G23","v":1},{"$f":"'Т № 55'!G23","v":1},{"$f":"'Т №14'!G23","v":1},{"$f":"'Т №16'!G23","v":1},{"$f":"'Т №33'!G23","v":1},{"$f":"'Т № 37'!G23","v":1},{"$f":"'Т ПК'!G23","v":1},{"$f":"'Стр ЦДОД'!G23","v":1},{"$f":"'ЗС Сам'!G23","v":1},{"$f":"'ЗС №86-87'!G23","v":1},{"$f":"'ЗС №80'!G23","v":1},{"$f":"'ЗС №87'!G23","v":1},{"$f":"'ЗС №196'!G23","v":1},{"$f":"'ЗС №197'!G23","v":1},{"$f":"'АР  №2'!G23","v":1},{"$f":"'АР №4'!G23","v":1},{"$f":"'АР Нов'!G23","v":1},{"$f":"'АР ДДТ'!G23","v":1},{"$f":"'БР Бак'!G23","v":1},{"$f":"'БР Выс'!G23","v":1},{"$f":"'ЗР Зыр'!G23","v":1},{"$f":"'ЗР Зыр Выс'!G23","v":0},{"$f":"' КР Кож №1'!G23","v":1},{"$f":"'КР Кож №2'!G23","v":1},{"$f":"'КР Вол Крив'!G23","v":1},{"$f":"'КР Крив'!G23","v":1},{"$f":"' МР Мол'!G23","v":1},{"$f":"'ПР Пар. ДДТ'!G23","v":0},{"$f":"'ПР Куян'!G23","v":1},{"$f":"' ПР Пер'!G23","v":1},{"$f":"'ТР  Вор'!G23","v":1},{"$f":"'ТР Мал'!G23","v":1},{"$f":"'ТР Тур'!G23","v":1},{"$f":"'ТР Чер'!G23","v":1},{"$f":"' ТР Кал'!G23","v":1},{"$f":"'ТР ДДТ'!G23","v":1},{"$f":"'ТР Корн'!G23","v":1},{"$f":"'ЧР Нов'!G23","v":1},{"$f":"'ШР Поб'!G23","v":1},39]
[12,null,null,"подготовка преподавателей по теме Программы",{"$f":"'АР АПТЛ'!G24","v":2},{"$f":"'Т Ак.л'!G24","v":2},{"$f":"'Т №6'!G24","v":4},{"$f":"'Т № 55'!G24","v":1},{"$f":"'Т №14'!G24","v":1},{"$f":"'Т №16'!G24","v":5},{"$f":"'Т №33'!G24","v":2},{"$f":"'Т № 37'!G24","v":12},{"$f":"'Т ПК'!G24","v":4},{"$f":"'Стр ЦДОД'!G24","v":6},{"$f":"'ЗС Сам'!G24","v":2},{"$f":"'ЗС №86-87'!G24","v":34},{"$f":"'ЗС №80'!G24","v":1},{"$f":"'ЗС №87'!G24","v":3},{"$f":"'ЗС №196'!G24","v":3},{"$f":"'ЗС №197'!G24","v":4},{"$f":"'АР  №2'!G24","v":3},{"$f":"'АР №4'!G24","v":3},{"$f":"'АР Нов'!G24","v":3},{"$f":"'АР ДДТ'!G24","v":2},{"$f":"'БР Бак'!G24","v":0},{"$f":"'БР Выс'!G24","v":3},{"$f":"'ЗР Зыр'!G24","v":1},{"$f":"'ЗР Зыр Выс'!G24","v":2},{"$f":"' КР Кож №1'!G24","v":5},{"$f":"'КР Кож №2'!G24","v":2},{"$f":"'КР Вол Крив'!G24","v":4},{"$f":"'КР Крив'!G24","v":1},{"$f":"' МР Мол'!G24","v":1},{"$f":"'ПР Пар. ДДТ'!G24","v":0},{"$f":"'ПР Куян'!G24","v":6},{"$f":"' ПР Пер'!G24","v":2},{"$f":"'ТР  Вор'!G24","v":1},{"$f":"'ТР Мал'!G24","v":2},{"$f":"'ТР Тур'!G24","v":3},{"$f":"'ТР Чер'!G24","v":1},{"$f":"' ТР Кал'!G24","v":1},{"$f":"'ТР ДДТ'!G24","v":2},{"$f":"'ТР Корн'!G24","v":3},{"$f":"'ЧР Нов'!G24","v":2},{"$f":"'ШР Поб'!G24","v":1},140]
[13,null,null,"привлечение специалистов из профессионального сообщества",{"$f":"'АР АПТЛ'!G25","v":0},{"$f":"'Т Ак.л'!G25","v":1},{"$f":"'Т №6'!G25","v":2},{"$f":"'Т № 55'!G25","v":0},{"$f":"'Т №14'!G25","v":4},{"$f":"'Т №16'!G25","v":0},{"$f":"'Т №33'!G25","v":0},{"$f":"'Т № 37'!G25","v":2},{"$f":"'Т ПК'!G25","v":1},{"$f":"'Стр ЦДОД'!G25","v":11},{"$f":"'ЗС Сам'!G25","v":0},{"$f":"'ЗС №86-87'!G25","v":6},{"$f":"'ЗС №80'!G25","v":0},{"$f":"'ЗС №87'!G25","v":2},{"$f":"'ЗС №196'!G25","v":4},{"$f":"'ЗС №197'!G25","v":1},{"$f":"'АР  №2'!G25","v":12},{"$f":"'АР №4'!G25","v":5},{"$f":"'АР Нов'!G25","v":1},{"$f":"'АР ДДТ'!G25","v":2},{"$f":"'БР Бак'!G25","v":0},{"$f":"'БР Выс'!G25","v":0},{"$f":"'ЗР Зыр'!G25","v":0},{"$f":"'ЗР Зыр Выс'!G25","v":0},{"$f":"' КР Кож №1'!G25","v":1},{"$f":"'КР Кож №2'!G25","v":1},{"$f":"'КР Вол Крив'!G25","v":2},{"$f":"'КР Крив'!G25","v":0},{"$f":"' МР Мол'!G25","v":0},{"$f":"'ПР Пар. ДДТ'!G25","v":9},{"$f":"'ПР Куян'!G25","v":2},{"$f":"' ПР Пер'!G25","v":3},{"$f":"'ТР  Вор'!G25","v":0},{"$f":"'ТР Мал'!G25","v":5},{"$f":"'ТР Тур'!G25","v":0},{"$f":"'ТР Чер'!G25","v":0},{"$f":"' ТР Кал'!G25","v":3},{"$f":"'ТР ДДТ'!G25","v":0},{"$f":"'ТР Корн'!G25","v":0},{"$f":"'ЧР Нов'!G25","v":0},{"$f":"'ШР Поб'!G25","v":3},83]
[14,null,null,"привлечение консультантов из числа обучающихся, выпускников",{"$f":"'АР АПТЛ'!G26","v":0},{"$f":"'Т Ак.л'!G26","v":5},{"$f":"'Т №6'!G26","v":3},{"$f":"'Т № 55'!G26","v":6},{"$f":"'Т №14'!G26","v":0},{"$f":"'Т №16'!G26","v":3},{"$f":"'Т №33'!G26","v":3},{"$f":"'Т № 37'!G26","v":7},{"$f":"'Т ПК'!G26","v":0},{"$f":"'Стр ЦДОД'!G26","v":0},{"$f":"'ЗС Сам'!G26","v":8},{"$f":"'ЗС №86-87'!G26","v":10},{"$f":"'ЗС №80'!G26","v":7},{"$f":"'ЗС №87'!G26","v":0},{"$f":"'ЗС №196'!G26","v":0},{"$f":"'ЗС №197'!G26","v":3},{"$f":"'АР  №2'!G26","v":0},{"$f":"'АР №4'!G26","v":2},{"$f":"'АР Нов'!G26","v":6},{"$f":"'АР ДДТ'!G26","v":2},{"$f":"'БР Бак'!G26","v":3},{"$f":"'БР Выс'!G26","v":2},{"$f":"'ЗР Зыр'!G26","v":5},{"$f":"'ЗР Зыр Выс'!G26","v":0},{"$f":"' КР Кож №1'!G26","v":4},{"$f":"'КР Кож №2'!G26","v":0},{"$f":"'КР Вол Крив'!G26","v":6},{"$f":"'КР Крив'!G26","v":3},{"$f":"' МР Мол'!G26","v":5},{"$f":"'ПР Пар. ДДТ'!G26","v":0},{"$f":"'ПР Куян'!G26","v":2},{"$f":"' ПР Пер'!G26","v":4},{"$f":"'ТР  Вор'!G26","v":2},{"$f":"'ТР Мал'!G26","v":6},{"$f":"'ТР Тур'!G26","v":5},{"$f":"'ТР Чер'!G26","v":0},{"$f":"' ТР Кал'!G26","v":0},{"$f":"'ТР ДДТ'!G26","v":0},{"$f":"'ТР Корн'!G26","v":2},{"$f":"'ЧР Нов'!G26","v":0},{"$f":"'ШР Поб'!G26","v":3},117]
[15,null,"материально-техническое обеспечение","наличие достаточной материальной базы для проведения знаний",{"$f":"'АР АПТЛ'!G27","v":1},{"$f":"'Т Ак.л'!G27","v":1},{"$f":"'Т №6'!G27","v":1},{"$f":"'Т № 55'!G27","v":1},{"$f":"'Т №14'!G27","v":1},{"$f":"'Т №16'!G27","v":","},{"$f":"'Т №33'!G27","v":1},{"$f":"'Т № 37'!G27","v":1},{"$f":"'Т ПК'!G27","v":1},{"$f":"'Стр ЦДОД'!G27","v":1},{"$f":"'ЗС Сам'!G27","v":1},{"$f":"'ЗС №86-87'!G27","v":1},{"$f":"'ЗС №80'!G27","v":1},{"$f":"'ЗС №87'!G27","v":1},{"$f":"'ЗС №196'!G27","v":1},{"$f":"'ЗС №197'!G27","v":1},{"$f":"'АР  №2'!G27","v":1},{"$f":"'АР №4'!G27","v":1},{"$f":"'АР Нов'!G27","v":1},{"$f":"'АР ДДТ'!G27","v":1},{"$f":"'БР Бак'!G27","v":1},{"$f":"'БР Выс'!G27","v":1},{"$f":"'ЗР Зыр'!G27","v":1},{"$f":"'ЗР Зыр Выс'!G27","v":0},{"$f":"' КР Кож №1'!G27","v":1},{"$f":"'КР Кож №2'!G27","v":1},{"$f":"'КР Вол Крив'!G27","v":1},{"$f":"'КР Крив'!G27","v":1},{"$f":"' МР Мол'!G27","v":1},{"$f":"'ПР Пар. ДДТ'!G27","v":1},{"$f":"'ПР Куян'!G27","v":1},{"$f":"' ПР Пер'!G27","v":1},{"$f":"'ТР  Вор'!G27","v":1},{"$f":"'ТР Мал'!G27","v":1},{"$f":"'ТР Тур'!G27","v":1},{"$f":"'ТР Чер'!G27","v":1},{"$f":"' ТР Кал'!G27","v":1},{"$f":"'ТР ДДТ'!G27","v":1},{"$f":"'ТР Корн'!G27","v":1},{"$f":"'ЧР Нов'!G27","v":1},{"$f":"'ШР Поб'!G27","v":1},39,{"$f":"AT22/41","v":0.95121951219512191}]
[16,null,null,"использование материальной базы иных организаций",{"$f":"'АР АПТЛ'!G28","v":1},{"$f":"'Т Ак.л'!G28","v":1},{"$f":"'Т №6'!G28","v":1},{"$f":"'Т № 55'!G28","v":1},{"$f":"'Т №14'!G28","v":1},{"$f":"'Т №16'!G28","v":1},{"$f":"'Т №33'!G28","v":1},{"$f":"'Т № 37'!G28","v":1},{"$f":"'Т ПК'!G28","v":1},{"$f":"'Стр ЦДОД'!G28","v":1},{"$f":"'ЗС Сам'!G28","v":1},{"$f":"'ЗС №86-87'!G28","v":1},{"$f":"'ЗС №80'!G28","v":1},{"$f":"'ЗС №87'!G28","v":0},{"$f":"'ЗС №196'!G28","v":1},{"$f":"'ЗС №197'!G28","v":0},{"$f":"'АР  №2'!G28","v":1},{"$f":"'АР №4'!G28","v":1},{"$f":"'АР Нов'!G28","v":1},{"$f":"'АР ДДТ'!G28","v":1},{"$f":"'БР Бак'!G28","v":1},{"$f":"'БР Выс'!G28","v":1},{"$f":"'ЗР Зыр'!G28","v":1},{"$f":"'ЗР Зыр Выс'!G28","v":1},{"$f":"' КР Кож №1'!G28","v":1},{"$f":"'КР Кож №2'!G28","v":1},{"$f":"'КР Вол Крив'!G28","v":1},{"$f":"'КР Крив'!G28","v":0},{"$f":"' МР Мол'!G28","v":1},{"$f":"'ПР Пар. ДДТ'!G28","v":1},{"$f":"'ПР Куян'!G28","v":1},{"$f":"' ПР Пер'!G28","v":1},{"$f":"'ТР  Вор'!G28","v":1},{"$f":"'ТР Мал'!G28","v":1},{"$f":"'ТР Тур'!G28","v":1},{"$f":"'ТР Чер'!G28","v":0},{"$f":"' ТР Кал'!G28","v":1},{"$f":"'ТР ДДТ'!G28","v":0},{"$f":"'ТР Корн'!G28","v":1},{"$f":"'ЧР Нов'!G28","v":1},{"$f":"'ШР Поб'!G28","v":1},36,{"$f":"AT23/41","v":0.87804878048780488}]
[17,null,null,"наличие оборудованных рабочих мест для слушателей и преподавателей",{"$f":"'АР АПТЛ'!G29","v":2},{"$f":"'Т Ак.л'!G29","v":1},{"$f":"'Т №6'!G29","v":1},{"$f":"'Т № 55'!G29","v":1},{"$f":"'Т №14'!G29","v":1},{"$f":"'Т №16'!G29","v":1},{"$f":"'Т №33'!G29","v":2},{"$f":"'Т № 37'!G29","v":1},{"$f":"'Т ПК'!G29","v":1},{"$f":"'Стр ЦДОД'!G29","v":1},{"$f":"'ЗС Сам'!G29","v":1},{"$f":"'ЗС №86-87'!G29","v":1},{"$f":"'ЗС №80'!G29","v":1},{"$f":"'ЗС №87'!G29","v":1},{"$f":"'ЗС №196'!G29","v":1},{"$f":"'ЗС №197'!G29","v":1},{"$f":"'АР  №2'!G29","v":1},{"$f":"'АР №4'!G29","v":1},{"$f":"'АР Нов'!G29","v":1},{"$f":"'АР ДДТ'!G29","v":1},{"$f":"'БР Бак'!G29","v":1},{"$f":"'БР Выс'!G29","v":1},{"$f":"'ЗР Зыр'!G29","v":1},{"$f":"'ЗР Зыр Выс'!G29","v":1},{"$f":"' КР Кож №1'!G29","v":1},{"$f":"'КР Кож №2'!G29","v":1},{"$f":"'КР Вол Крив'!G29","v":1},{"$f":"'КР Крив'!G29","v":1},{"$f":"' МР Мол'!G29","v":1},{"$f":"'ПР Пар. ДДТ'!G29","v":1},{"$f":"'ПР Куян'!G29","v":1},{"$f":"' ПР Пер'!G29","v":1},{"$f":"'ТР  Вор'!G29","v":1},{"$f":"'ТР Мал'!G29","v":2},{"$f":"'ТР Тур'!G29","v":1},{"$f":"'ТР Чер'!G29","v":2},{"$f":"' ТР Кал'!G29","v":1},{"$f":"'ТР ДДТ'!G29","v":1},{"$f":"'ТР Корн'!G29","v":2},{"$f":"'ЧР Нов'!G29","v":1},{"$f":"'ШР Поб'!G29","v":1},46]
[18,null,"информационно-технологическое обеспечение","наличие страницы Центра на сайте образовательного учреждения  ",{"$f":"'АР АПТЛ'!G30","v":1},{"$f":"'Т Ак.л'!G30","v":1},{"$f":"'Т №6'!G30","v":1},{"$f":"'Т № 55'!G30","v":1},{"$f":"'Т №14'!G30","v":1},{"$f":"'Т №16'!G30","v":1},{"$f":"'Т №33'!G30","v":1},{"$f":"'Т № 37'!G30","v":1},{"$f":"'Т ПК'!G30","v":1},{"$f":"'Стр ЦДОД'!G30","v":1},{"$f":"'ЗС Сам'!G30","v":1},{"$f":"'ЗС №86-87'!G30","v":1},{"$f":"'ЗС №80'!G30","v":1},{"$f":"'ЗС №87'!G30","v":1},{"$f":"'ЗС №196'!G30","v":1},{"$f":"'ЗС №197'!G30","v":1},{"$f":"'АР  №2'!G30","v":1},{"$f":"'АР №4'!G30","v":1},{"$f":"'АР Нов'!G30","v":1},{"$f":"'АР ДДТ'!G30","v":1},{"$f":"'БР Бак'!G30","v":1},{"$f":"'БР Выс'!G30","v":1},{"$f":"'ЗР Зыр'!G30","v":1},{"$f":"'ЗР Зыр Выс'!G30","v":0},{"$f":"' КР Кож №1'!G30","v":1},{"$f":"'КР Кож №2'!G30","v":1},{"$f":"'КР Вол Крив'!G30","v":2},{"$f":"'КР Крив'!G30","v":1},{"$f":"' МР Мол'!G30","v":1},{"$f":"'ПР Пар. ДДТ'!G30","v":0},{"$f":"'ПР Куян'!G30","v":1},{"$f":"' ПР Пер'!G30","v":1},{"$f":"'ТР  Вор'!G30","v":1},{"$f":"'ТР Мал'!G30","v":1},{"$f":"'ТР Тур'!G30","v":1},{"$f":"'ТР Чер'!G30","v":1},{"$f":"' ТР Кал'!G30","v":0},{"$f":"'ТР ДДТ'!G30","v":0},{"$f":"'ТР Корн'!G30","v":1},{"$f":"'ЧР Нов'!G30","v":1},{"$f":"'ШР Поб'!G30","v":1},38,{"$f":"AT25/41","v":0.92682926829268297}]
[19,null,null,"регулярность обновления страницы Центра на сайте",{"$f":"'АР АПТЛ'!G31","v":2},{"$f":"'Т Ак.л'!G31","v":1},{"$f":"'Т №6'!G31","v":1},{"$f":"'Т № 55'!G31","v":2},{"$f":"'Т №14'!G31","v":2},{"$f":"'Т №16'!G31","v":1},{"$f":"'Т №33'!G31","v":2},{"$f":"'Т № 37'!G31","v":1},{"$f":"'Т ПК'!G31","v":1},{"$f":"'Стр ЦДОД'!G31","v":1},{"$f":"'ЗС Сам'!G31","v":2},{"$f":"'ЗС №86-87'!G31","v":1},{"$f":"'ЗС №80'!G31","v":2},{"$f":"'ЗС №87'!G31","v":2},{"$f":"'ЗС №196'!G31","v":1},{"$f":"'ЗС №197'!G31","v":1},{"$f":"'АР  №2'!G31","v":1},{"$f":"'АР №4'!G31","v":1},{"$f":"'АР Нов'!G31","v":2},{"$f":"'АР ДДТ'!G31","v":1},{"$f":"'БР Бак'!G31","v":1},{"$f":"'БР Выс'!G31","v":1},{"$f":"'ЗР Зыр'!G31","v":1},{"$f":"'ЗР Зыр Выс'!G31","v":0},{"$f":"' КР Кож №1'!G31","v":2},{"$f":"'КР Кож №2'!G31","v":2},{"$f":"'КР Вол Крив'!G31","v":2},{"$f":"'КР Крив'!G31","v":2},{"$f":"' МР Мол'!G31","v":1},{"$f":"'ПР Пар. ДДТ'!G31","v":0},{"$f":"'ПР Куян'!G31","v":2},{"$f":"' ПР Пер'!G31","v":2},{"$f":"'ТР  Вор'!G31","v":2},{"$f":"'ТР Мал'!G31","v":2},{"$f":"'ТР Тур'!G31","v":2},{"$f":"'ТР Чер'!G31","v":2},{"$f":"' ТР Кал'!G31","v":0},{"$f":"'ТР ДДТ'!G31","v":0},{"$f":"'ТР Корн'!G31","v":2},{"$f":"'ЧР Нов'!G31","v":2},{"$f":"'ШР Поб'!G31","v":2},58,{"$f":"11/41","v":0.26829268292682928}]
[20,null,null,"использование доступа в интернет преподавателями и слушателями",{"$f":"'АР АПТЛ'!G32","v":1},{"$f":"'Т Ак.л'!G32","v":1},{"$f":"'Т №6'!G32","v":1},{"$f":"'Т № 55'!G32","v":1},{"$f":"'Т №14'!G32","v":2},{"$f":"'Т №16'!G32","v":1},{"$f":"'Т №33'!G32","v":1},{"$f":"'Т № 37'!G32","v":1},{"$f":"'Т ПК'!G32","v":1},{"$f":"'Стр ЦДОД'!G32","v":1},{"$f":"'ЗС Сам'!G32","v":1},{"$f":"'ЗС №86-87'!G32","v":1},{"$f":"'ЗС №80'!G32","v":1},{"$f":"'ЗС №87'!G32","v":1},{"$f":"'ЗС №196'!G32","v":1},{"$f":"'ЗС №197'!G32","v":1},{"$f":"'АР  №2'!G32","v":1},{"$f":"'АР №4'!G32","v":1},{"$f":"'АР Нов'!G32","v":1},{"$f":"'АР ДДТ'!G32","v":1},{"$f":"'БР Бак'!G32","v":2},{"$f":"'БР Выс'!G32","v":1},{"$f":"'ЗР Зыр'!G32","v":1},{"$f":"'ЗР Зыр Выс'!G32","v":1},{"$f":"' КР Кож №1'!G32","v":1},{"$f":"'КР Кож №2'!G32","v":1},{"$f":"'КР Вол Крив'!G32","v":1},{"$f":"'КР Крив'!G32","v":1},{"$f":"' МР Мол'!G32","v":1},{"$f":"'ПР Пар. ДДТ'!G32","v":1},{"$f":"'ПР Куян'!G32","v":1},{"$f":"' ПР Пер'!G32","v":1},{"$f":"'ТР  Вор'!G32","v":1},{"$f":"'ТР Мал'!G32","v":2},{"$f":"'ТР Тур'!G32","v":1},{"$f":"'ТР Чер'!G32","v":2},{"$f":"' ТР Кал'!G32","v":1},{"$f":"'ТР ДДТ'!G32","v":2},{"$f":"'ТР Корн'!G32","v":2},{"$f":"'ЧР Нов'!G32","v":1},{"$f":"'ШР Поб'!G32","v":1},47]
[21,null,null,"наличие методических материалов Центра на сайте ОУ",{"$f":"'АР АПТЛ'!G33","v":1},{"$f":"'Т Ак.л'!G33","v":1},{"$f":"'Т №6'!G33","v":1},{"$f":"'Т № 55'!G33","v":1},{"$f":"'Т №14'!G33","v":0},{"$f":"'Т №16'!G33","v":1},{"$f":"'Т №33'!G33","v":1},{"$f":"'Т № 37'!G33","v":1},{"$f":"'Т ПК'!G33","v":1},{"$f":"'Стр ЦДОД'!G33","v":1},{"$f":"'ЗС Сам'!G33","v":1},{"$f":"'ЗС №86-87'!G33","v":1},{"$f":"'ЗС №80'!G33","v":1},{"$f":"'ЗС №87'!G33","v":0},{"$f":"'ЗС №196'!G33","v":1},{"$f":"'ЗС №197'!G33","v":1},{"$f":"'АР  №2'!G33","v":1},{"$f":"'АР №4'!G33","v":1},{"$f":"'АР Нов'!G33","v":1},{"$f":"'АР ДДТ'!G33","v":0},{"$f":"'БР Бак'!G33","v":0},{"$f":"'БР Выс'!G33","v":1},{"$f":"'ЗР Зыр'!G33","v":1},{"$f":"'ЗР Зыр Выс'!G33","v":0},{"$f":"' КР Кож №1'!G33","v":1},{"$f":"'КР Кож №2'!G33","v":1},{"$f":"'КР Вол Крив'!G33","v":0},{"$f":"'КР Крив'!G33","v":1},{"$f":"' МР Мол'!G33","v":1},{"$f":"'ПР Пар. ДДТ'!G33","v":0},{"$f":"'ПР Куян'!G33","v":0},{"$f":"' ПР Пер'!G33","v":0},{"$f":"'ТР  Вор'!G33","v":1},{"$f":"'ТР Мал'!G33","v":1},{"$f":"'ТР Тур'!G33","v":0},{"$f":"'ТР Чер'!G33","v":1},{"$f":"' ТР Кал'!G33","v":0},{"$f":"'ТР ДДТ'!G33","v":0},{"$f":"'ТР Корн'!G33","v":0},{"$f":"'ЧР Нов'!G33","v":0},{"$f":"'ШР Поб'!G33","v":1},27,{"$f":"AT28/41","v":0.65853658536585369}]
[22,null,null,"наличие Совета Центра",{"$f":"'АР АПТЛ'!G34","v":1},{"$f":"'Т Ак.л'!G34","v":1},{"$f":"'Т №6'!G34","v":1},{"$f":"'Т № 55'!G34","v":1},{"$f":"'Т №14'!G34","v":1},{"$f":"'Т №16'!G34","v":1},{"$f":"'Т №33'!G34","v":1},{"$f":"'Т № 37'!G34","v":1},{"$f":"'Т ПК'!G34","v":1},{"$f":"'Стр ЦДОД'!G34","v":1},{"$f":"'ЗС Сам'!G34","v":1},{"$f":"'ЗС №86-87'!G34","v":1},{"$f":"'ЗС №80'!G34","v":1},{"$f":"'ЗС №87'!G34","v":1},{"$f":"'ЗС №196'!G34","v":1},{"$f":"'ЗС №197'!G34","v":1},{"$f":"'АР  №2'!G34","v":1},{"$f":"'АР №4'!G34","v":1},{"$f":"'АР Нов'!G34","v":1},{"$f":"'АР ДДТ'!G34","v":0},{"$f":"'БР Бак'!G34","v":0},{"$f":"'БР Выс'!G34","v":1},{"$f":"'ЗР Зыр'!G34","v":1},{"$f":"'ЗР Зыр Выс'!G34","v":0},{"$f":"' КР Кож №1'!G34","v":1},{"$f":"'КР Кож №2'!G34","v":1},{"$f":"'КР Вол Крив'!G34","v":1},{"$f":"'КР Крив'!G34","v":1},{"$f":"' МР Мол'!G34","v":1},{"$f":"'ПР Пар. ДДТ'!G34","v":0},{"$f":"'ПР Куян'!G34","v":1},{"$f":"' ПР Пер'!G34","v":0},{"$f":"'ТР  Вор'!G34","v":1},{"$f":"'ТР Мал'!G34","v":1},{"$f":"'ТР Тур'!G34","v":1},{"$f":"'ТР Чер'!G34","v":1},{"$f":"' ТР Кал'!G34","v":0},{"$f":"'ТР ДДТ'!G34","v":1},{"$f":"'ТР Корн'!G34","v":1},{"$f":"'ЧР Нов'!G34","v":1},{"$f":"'ШР Поб'!G34","v":1},35,{"$f":"AT29/41","v":0.85365853658536583}]
[23,null,null,"наличие утвержденного положения о деятельности Центра",{"$f":"'АР АПТЛ'!G35","v":1},{"$f":"'Т Ак.л'!G35","v":1},{"$f":"'Т №6'!G35","v":1},{"$f":"'Т № 55'!G35","v":1},{"$f":"'Т №14'!G35","v":1},{"$f":"'Т №16'!G35","v":1},{"$f":"'Т №33'!G35","v":1},{"$f":"'Т № 37'!G35","v":1},{"$f":"'Т ПК'!G35","v":1},{"$f":"'Стр ЦДОД'!G35","v":1},{"$f":"'ЗС Сам'!G35","v":1},{"$f":"'ЗС №86-87'!G35","v":1},{"$f":"'ЗС №80'!G35","v":1},{"$f":"'ЗС №87'!G35","v":1},{"$f":"'ЗС №196'!G35","v":1},{"$f":"'ЗС №197'!G35","v":1},{"$f":"'АР  №2'!G35","v":1},{"$f":"'АР №4'!G35","v":1},{"$f":"'АР Нов'!G35","v":1},{"$f":"'АР ДДТ'!G35","v":1},{"$f":"'БР Бак'!G35","v":1},{"$f":"'БР Выс'!G35","v":1},{"$f":"'ЗР Зыр'!G35","v":1},{"$f":"'ЗР Зыр Выс'!G35","v":1},{"$f":"' КР Кож №1'!G35","v":1},{"$f":"'КР Кож №2'!G35","v":1},{"$f":"'КР Вол Крив'!G35","v":1},{"$f":"'КР Крив'!G35","v":1},{"$f":"' МР Мол'!G35","v":1},{"$f":"'ПР Пар. ДДТ'!G35","v":1},{"$f":"'ПР Куян'!G35","v":1},{"$f":"' ПР Пер'!G35","v":1},{"$f":"'ТР  Вор'!G35","v":1},{"$f":"'ТР Мал'!G35","v":1},{"$f":"'ТР Тур'!G35","v":1},{"$f":"'ТР Чер'!G35","v":1},{"$f":"' ТР Кал'!G35","v":1},{"$f":"'ТР ДДТ'!G35","v":1},{"$f":"'ТР Корн'!G35","v":1},{"$f":"'ЧР Нов'!G35","v":1},{"$f":"'ШР Поб'!G35","v":1},41,{"$f":"AT30/41","v":1}]
[24,null,null,"наличие оформленных договоров с социальными партнерами",{"$f":"'АР АПТЛ'!G36","v":1},{"$f":"'Т Ак.л'!G36","v":1},{"$f":"'Т №6'!G36","v":1},{"$f":"'Т № 55'!G36","v":1},{"$f":"'Т №14'!G36","v":1},{"$f":"'Т №16'!G36","v":1},{"$f":"'Т №33'!G36","v":1},{"$f":"'Т № 37'!G36","v":1},{"$f":"'Т ПК'!G36","v":1},{"$f":"'Стр ЦДОД'!G36","v":1},{"$f":"'ЗС Сам'!G36","v":1},{"$f":"'ЗС №86-87'!G36","v":1},{"$f":"'ЗС №80'!G36","v":1},{"$f":"'ЗС №87'!G36","v":1},{"$f":"'ЗС №196'!G36","v":1},{"$f":"'ЗС №197'!G36","v":1},{"$f":"'АР  №2'!G36","v":1},{"$f":"'АР №4'!G36","v":1},{"$f":"'АР Нов'!G36","v":1},{"$f":"'АР ДДТ'!G36","v":1},{"$f":"'БР Бак'!G36","v":1},{"$f":"'БР Выс'!G36","v":1},{"$f":"'ЗР Зыр'!G36","v":1},{"$f":"'ЗР Зыр Выс'!G36","v":0},{"$f":"' КР Кож №1'!G36","v":1},{"$f":"'КР Кож №2'!G36","v":1},{"$f":"'КР Вол Крив'!G36","v":1},{"$f":"'КР Крив'!G36","v":1},{"$f":"' МР Мол'!G36","v":1},{"$f":"'ПР Пар. ДДТ'!G36","v":1},{"$f":"'ПР Куян'!G36","v":1},{"$f":"' ПР Пер'!G36","v":1},{"$f":"'ТР  Вор'!G36","v":1},{"$f":"'ТР Мал'!G36","v":1},{"$f":"'ТР Тур'!G36","v":1},{"$f":"'ТР Чер'!G36","v":1},{"$f":"' ТР Кал'!G36","v":1},{"$f":"'ТР ДДТ'!G36","v":1},{"$f":"'ТР Корн'!G36","v":1},{"$f":"'ЧР Нов'!G36","v":1},{"$f":"'ШР Поб'!G36","v":1},40]
[25,null,"учебно-методическое обеспечение","обеспеченность слушателей учебниками, справочной литературой",{"$f":"'АР АПТЛ'!G37","v":2},{"$f":"'Т Ак.л'!G37","v":1},{"$f":"'Т №6'!G37","v":1},{"$f":"'Т № 55'!G37","v":1},{"$f":"'Т №14'!G37","v":2},{"$f":"'Т №16'!G37","v":1},{"$f":"'Т №33'!G37","v":1},{"$f":"'Т № 37'!G37","v":1},{"$f":"'Т ПК'!G37","v":1},{"$f":"'Стр ЦДОД'!G37","v":1},{"$f":"'ЗС Сам'!G37","v":1},{"$f":"'ЗС №86-87'!G37","v":1},{"$f":"'ЗС №80'!G37","v":1},{"$f":"'ЗС №87'!G37","v":1},{"$f":"'ЗС №196'!G37","v":1},{"$f":"'ЗС №197'!G37","v":1},{"$f":"'АР  №2'!G37","v":2},{"$f":"'АР №4'!G37","v":1},{"$f":"'АР Нов'!G37","v":1},{"$f":"'АР ДДТ'!G37","v":1},{"$f":"'БР Бак'!G37","v":1},{"$f":"'БР Выс'!G37","v":1},{"$f":"'ЗР Зыр'!G37","v":1},{"$f":"'ЗР Зыр Выс'!G37","v":0},{"$f":"' КР Кож №1'!G37","v":1},{"$f":"'КР Кож №2'!G37","v":1},{"$f":"'КР Вол Крив'!G37","v":1},{"$f":"'КР Крив'!G37","v":1},{"$f":"' МР Мол'!G37","v":1},{"$f":"'ПР Пар. ДДТ'!G37","v":1},{"$f":"'ПР Куян'!G37","v":2},{"$f":"' ПР Пер'!G37","v":2},{"$f":"'ТР  Вор'!G37","v":1},{"$f":"'ТР Мал'!G37","v":2},{"$f":"'ТР Тур'!G37","v":0},{"$f":"'ТР Чер'!G37","v":2},{"$f":"' ТР Кал'!G37","v":1},{"$f":"'ТР ДДТ'!G37","v":2},{"$f":"'ТР Корн'!G37","v":2},{"$f":"'ЧР Нов'!G37","v":1},{"$f":"'ШР Поб'!G37","v":2},49,{"$f":"AT32/41/2","v":0.59756097560975607}]
[26,null,null,"обеспеченность преподавателей методической литературой, программными средствами обучения",{"$f":"'АР АПТЛ'!G38","v":1},{"$f":"'Т Ак.л'!G38","v":1},{"$f":"'Т №6'!G38","v":1},{"$f":"'Т № 55'!G38","v":1},{"$f":"'Т №14'!G38","v":2},{"$f":"'Т №16'!G38","v":1},{"$f":"'Т №33'!G38","v":1},{"$f":"'Т № 37'!G38","v":1},{"$f":"'Т ПК'!G38","v":1},{"$f":"'Стр ЦДОД'!G38","v":1},{"$f":"'ЗС Сам'!G38","v":1},{"$f":"'ЗС №86-87'!G38","v":1},{"$f":"'ЗС №80'!G38","v":1},{"$f":"'ЗС №87'!G38","v":1},{"$f":"'ЗС №196'!G38","v":1},{"$f":"'ЗС №197'!G38","v":1},{"$f":"'АР  №2'!G38","v":2},{"$f":"'АР №4'!G38","v":1},{"$f":"'АР Нов'!G38","v":1},{"$f":"'АР ДДТ'!G38","v":1},{"$f":"'БР Бак'!G38","v":1},{"$f":"'БР Выс'!G38","v":1},{"$f":"'ЗР Зыр'!G38","v":1},{"$f":"'ЗР Зыр Выс'!G38","v":2},{"$f":"' КР Кож №1'!G38","v":1},{"$f":"'КР Кож №2'!G38","v":1},{"$f":"'КР Вол Крив'!G38","v":1},{"$f":"'КР Крив'!G38","v":1},{"$f":"' МР Мол'!G38","v":1},{"$f":"'ПР Пар. ДДТ'!G38","v":1},{"$f":"'ПР Куян'!G38","v":1},{"$f":"' ПР Пер'!G38","v":1},{"$f":"'ТР  Вор'!G38","v":1},{"$f":"'ТР Мал'!G38","v":1},{"$f":"'ТР Тур'!G38","v":1},{"$f":"'ТР Чер'!G38","v":2},{"$f":"' ТР Кал'!G38","v":1},{"$f":"'ТР ДДТ'!G38","v":2},{"$f":"'ТР Корн'!G38","v":2},{"$f":"'ЧР Нов'!G38","v":1},{"$f":"'ШР Поб'!G38","v":1},47]
[27,"Результаты образовательной деятельности","уровень и качество общеобразовательной подготовки слушателей","слушатели, применившие полученную информацию на практике",{"$f":"'АР АПТЛ'!G39","v":16},{"$f":"'Т Ак.л'!G39","v":41},{"$f":"'Т №6'!G39","v":53},{"$f":"'Т № 55'!G39","v":24},{"$f":"'Т №14'!G39","v":50},{"$f":"'Т №16'!G39","v":50},{"$f":"'Т №33'!G39","v":33},{"$f":"'Т № 37'!G39","v":82},{"$f":"'Т ПК'!G39","v":40},{"$f":"'Стр ЦДОД'!G39","v":253},{"$f":"'ЗС Сам'!G39","v":12},{"$f":"'ЗС №86-87'!G39","v":73},{"$f":"'ЗС №80'!G39","v":30},{"$f":"'ЗС №87'!G39","v":25},{"$f":"'ЗС №196'!G39","v":20},{"$f":"'ЗС №197'!G39","v":25},{"$f":"'АР  №2'!G39","v":25},{"$f":"'АР №4'!G39","v":25},{"$f":"'АР Нов'!G39","v":10},{"$f":"'АР ДДТ'!G39","v":10},{"$f":"'БР Бак'!G39","v":15},{"$f":"'БР Выс'!G39","v":65},{"$f":"'ЗР Зыр'!G39","v":26},{"$f":"'ЗР Зыр Выс'!G39","v":15},{"$f":"' КР Кож №1'!G39","v":184},{"$f":"'КР Кож №2'!G39","v":76},{"$f":"'КР Вол Крив'!G39","v":22},{"$f":"'КР Крив'!G39","v":24},{"$f":"' МР Мол'!G39","v":21},{"$f":"'ПР Пар. ДДТ'!G39","v":17},{"$f":"'ПР Куян'!G39","v":18},{"$f":"' ПР Пер'!G39","v":20},{"$f":"'ТР  Вор'!G39","v":10},{"$f":"'ТР Мал'!G39","v":19},{"$f":"'ТР Тур'!G39","v":15},{"$f":"'ТР Чер'!G39","v":36},{"$f":"' ТР Кал'!G39","v":5},{"$f":"'ТР ДДТ'!G39","v":0},{"$f":"'ТР Корн'!G39","v":11},{"$f":"'ЧР Нов'!G39","v":14},{"$f":"'ШР Поб'!G39","v":12},1522,{"$f":"AT34/AT2","v":0.96025236593059937}]
[28,null,null,"слушатели, освоившие программу и получившие удостоверение",{"$f":"'АР АПТЛ'!G40","v":16},{"$f":"'Т Ак.л'!G40","v":17},{"$f":"'Т №6'!G40","v":21},{"$f":"'Т № 55'!G40","v":9},{"$f":"'Т №14'!G40","v":48},{"$f":"'Т №16'!G40","v":30},{"$f":"'Т №33'!G40","v":9},{"$f":"'Т № 37'!G40","v":82},{"$f":"'Т ПК'!G40","v":0},{"$f":"'Стр ЦДОД'!G40","v":26},{"$f":"'ЗС Сам'!G40","v":10},{"$f":"'ЗС №86-87'!G40","v":34},{"$f":"'ЗС №80'!G40","v":0},{"$f":"'ЗС №87'!G40","v":14},{"$f":"'ЗС №196'!G40","v":20},{"$f":"'ЗС №197'!G40","v":10},{"$f":"'АР  №2'!G40","v":25},{"$f":"'АР №4'!G40","v":25},{"$f":"'АР Нов'!G40","v":6},{"$f":"'АР ДДТ'!G40","v":0},{"$f":"'БР Бак'!G40","v":11},{"$f":"'БР Выс'!G40","v":16},{"$f":"'ЗР Зыр'!G40","v":26},{"$f":"'ЗР Зыр Выс'!G40","v":15},{"$f":"' КР Кож №1'!G40","v":90},{"$f":"'КР Кож №2'!G40","v":0},{"$f":"'КР Вол Крив'!G40","v":0},{"$f":"'КР Крив'!G40","v":24},{"$f":"' МР Мол'!G40","v":0},{"$f":"'ПР Пар. ДДТ'!G40","v":0},{"$f":"'ПР Куян'!G40","v":18},{"$f":"' ПР Пер'!G40","v":20},{"$f":"'ТР  Вор'!G40","v":5},{"$f":"'ТР Мал'!G40","v":19},{"$f":"'ТР Тур'!G40","v":2},{"$f":"'ТР Чер'!G40","v":36},{"$f":"' ТР Кал'!G40","v":3},{"$f":"'ТР ДДТ'!G40","v":0},{"$f":"'ТР Корн'!G40","v":0},{"$f":"'ЧР Нов'!G40","v":5},{"$f":"'ШР Поб'!G40","v":8},700,{"$f":"AT35/AT2","v":0.44164037854889587}]
[29,null,null,"слушатели, получившие сертификат",{"$f":"'АР АПТЛ'!G41","v":0},{"$f":"'Т Ак.л'!G41","v":24},{"$f":"'Т №6'!G41","v":32},{"$f":"'Т № 55'!G41","v":15},{"$f":"'Т №14'!G41","v":2},{"$f":"'Т №16'!G41","v":20},{"$f":"'Т №33'!G41","v":24},{"$f":"'Т № 37'!G41","v":0},{"$f":"'Т ПК'!G41","v":40},{"$f":"'Стр ЦДОД'!G41","v":227},{"$f":"'ЗС Сам'!G41","v":2},{"$f":"'ЗС №86-87'!G41","v":39},{"$f":"'ЗС №80'!G41","v":30},{"$f":"'ЗС №87'!G41","v":11},{"$f":"'ЗС №196'!G41","v":0},{"$f":"'ЗС №197'!G41","v":15},{"$f":"'АР  №2'!G41","v":0},{"$f":"'АР №4'!G41","v":0},{"$f":"'АР Нов'!G41","v":4},{"$f":"'АР ДДТ'!G41","v":8},{"$f":"'БР Бак'!G41","v":4},{"$f":"'БР Выс'!G41","v":49},{"$f":"'ЗР Зыр'!G41","v":0},{"$f":"'ЗР Зыр Выс'!G41","v":0},{"$f":"' КР Кож №1'!G41","v":94},{"$f":"'КР Кож №2'!G41","v":75},{"$f":"'КР Вол Крив'!G41","v":22},{"$f":"'КР Крив'!G41","v":0},{"$f":"' МР Мол'!G41","v":21},{"$f":"'ПР Пар. ДДТ'!G41","v":17},{"$f":"'ПР Куян'!G41","v":0},{"$f":"' ПР Пер'!G41","v":0},{"$f":"'ТР  Вор'!G41","v":5},{"$f":"'ТР Мал'!G41","v":13},{"$f":"'ТР Тур'!G41","v":13},{"$f":"'ТР Чер'!G41","v":0},{"$f":"' ТР Кал'!G41","v":2},{"$f":"'ТР ДДТ'!G41","v":50},{"$f":"'ТР Корн'!G41","v":11},{"$f":"'ЧР Нов'!G41","v":9},{"$f":"'ШР Поб'!G41","v":5},883,{"$f":"AT36/AT2","v":0.55709779179810726}]
[30,null,"сформированность ключевых компетентностей слушателей","слушатели, имеющие документально подтвержденные достижения по теме Программы:",{"$f":"'АР АПТЛ'!G42","v":0},{"$f":"'Т Ак.л'!G42","v":0},{"$f":"'Т №6'!G42","v":0},{"$f":"'Т № 55'!G42","v":0},{"$f":"'Т №14'!G42","v":0},{"$f":"'Т №16'!G42","v":0},{"$f":"'Т №33'!G42","v":0},{"$f":"'Т № 37'!G42","v":0},{"$f":"'Т ПК'!G42","v":0},{"$f":"'Стр ЦДОД'!G42","v":0},{"$f":"'ЗС Сам'!G42","v":0},{"$f":"'ЗС №86-87'!G42","v":0},{"$f":"'ЗС №80'!G42","v":0},{"$f":"'ЗС №87'!G42","v":0},{"$f":"'ЗС №196'!G42","v":0},{"$f":"'ЗС №197'!G42","v":0},{"$f":"'АР  №2'!G42","v":0},{"$f":"'АР №4'!G42","v":0},{"$f":"'АР Нов'!G42","v":0},{"$f":"'АР ДДТ'!G42","v":0},{"$f":"'БР Бак'!G42","v":0},{"$f":"'БР Выс'!G42","v":0},{"$f":"'ЗР Зыр'!G42","v":0},{"$f":"'ЗР Зыр Выс'!G42","v":0},{"$f":"' КР Кож №1'!G42","v":0},{"$f":"'КР Кож №2'!G42","v":0},{"$f":"'КР Вол Крив'!G42","v":0},{"$f":"'КР Крив'!G42","v":0},{"$f":"' МР Мол'!G42","v":0},{"$f":"'ПР Пар. ДДТ'!G42","v":0},{"$f":"'ПР Куян'!G42","v":0},{"$f":"' ПР Пер'!G42","v":0},{"$f":"'ТР  Вор'!G42","v":0},{"$f":"'ТР Мал'!G42","v":0},{"$f":"'ТР Тур'!G42","v":0},{"$f":"'ТР Чер'!G42","v":0},{"$f":"' ТР Кал'!G42","v":0},{"$f":"'ТР ДДТ'!G42","v":0},{"$f":"'ТР Корн'!G42","v":0},{"$f":"'ЧР Нов'!G42","v":0},{"$f":"'ШР Поб'!G42","v":0},0]
[null,null,null," - на школьном уровне",{"$f":"'АР АПТЛ'!G43","v":9},{"$f":"'Т Ак.л'!G43","v":41},{"$f":"'Т №6'!G43","v":37},{"$f":"'Т № 55'!G43","v":24},{"$f":"'Т №14'!G43","v":50},{"$f":"'Т №16'!G43","v":0},{"$f":"'Т №33'!G43","v":33},{"$f":"'Т № 37'!G43","v":82},{"$f":"'Т ПК'!G43","v":0},{"$f":"'Стр ЦДОД'!G43","v":253},{"$f":"'ЗС Сам'!G43","v":6},{"$f":"'ЗС №86-87'!G43","v":47},{"$f":"'ЗС №80'!G43","v":30},{"$f":"'ЗС №87'!G43","v":18},{"$f":"'ЗС №196'!G43","v":20},{"$f":"'ЗС №197'!G43","v":25},{"$f":"'АР  №2'!G43","v":25},{"$f":"'АР №4'!G43","v":25},{"$f":"'АР Нов'!G43","v":0},{"$f":"'АР ДДТ'!G43","v":8},{"$f":"'БР Бак'!G43","v":15},{"$f":"'БР Выс'!G43","v":65},{"$f":"'ЗР Зыр'!G43","v":25},{"$f":"'ЗР Зыр Выс'!G43","v":14},{"$f":"' КР Кож №1'!G43","v":129},{"$f":"'КР Кож №2'!G43","v":32},{"$f":"'КР Вол Крив'!G43","v":7},{"$f":"'КР Крив'!G43","v":0},{"$f":"' МР Мол'!G43","v":21},{"$f":"'ПР Пар. ДДТ'!G43","v":0},{"$f":"'ПР Куян'!G43","v":18},{"$f":"' ПР Пер'!G43","v":0},{"$f":"'ТР  Вор'!G43","v":10},{"$f":"'ТР Мал'!G43","v":9},{"$f":"'ТР Тур'!G43","v":15},{"$f":"'ТР Чер'!G43","v":4},{"$f":"' ТР Кал'!G43","v":5},{"$f":"'ТР ДДТ'!G43","v":0},{"$f":"'ТР Корн'!G43","v":11},{"$f":"'ЧР Нов'!G43","v":0},{"$f":"'ШР Поб'!G43","v":12},1125,{"$f":"AT38/$AT$2","v":0.70977917981072558}]
[null,null,null," - на муниципальном уровне",{"$f":"'АР АПТЛ'!G44","v":0},{"$f":"'Т Ак.л'!G44","v":6},{"$f":"'Т №6'!G44","v":24},{"$f":"'Т № 55'!G44","v":5},{"$f":"'Т №14'!G44","v":1},{"$f":"'Т №16'!G44","v":14},{"$f":"'Т №33'!G44","v":7},{"$f":"'Т № 37'!G44","v":15},{"$f":"'Т ПК'!G44","v":14},{"$f":"'Стр ЦДОД'!G44","v":253},{"$f":"'ЗС Сам'!G44","v":3},{"$f":"'ЗС №86-87'!G44","v":51},{"$f":"'ЗС №80'!G44","v":30},{"$f":"'ЗС №87'!G44","v":25},{"$f":"'ЗС №196'!G44","v":20},{"$f":"'ЗС №197'!G44","v":9},{"$f":"'АР  №2'!G44","v":25},{"$f":"'АР №4'!G44","v":13},{"$f":"'АР Нов'!G44","v":1},{"$f":"'АР ДДТ'!G44","v":8},{"$f":"'БР Бак'!G44","v":11},{"$f":"'БР Выс'!G44","v":57},{"$f":"'ЗР Зыр'!G44","v":26},{"$f":"'ЗР Зыр Выс'!G44","v":3},{"$f":"' КР Кож №1'!G44","v":23},{"$f":"'КР Кож №2'!G44","v":76},{"$f":"'КР Вол Крив'!G44","v":0},{"$f":"'КР Крив'!G44","v":0},{"$f":"' МР Мол'!G44","v":2},{"$f":"'ПР Пар. ДДТ'!G44","v":0},{"$f":"'ПР Куян'!G44","v":18},{"$f":"' ПР Пер'!G44","v":5},{"$f":"'ТР  Вор'!G44","v":0},{"$f":"'ТР Мал'!G44","v":11},{"$f":"'ТР Тур'!G44","v":7},{"$f":"'ТР Чер'!G44","v":0},{"$f":"' ТР Кал'!G44","v":1},{"$f":"'ТР ДДТ'!G44","v":0},{"$f":"'ТР Корн'!G44","v":5},{"$f":"'ЧР Нов'!G44","v":0},{"$f":"'ШР Поб'!G44","v":2},771,{"$f":"AT39/$AT$2","v":0.48643533123028393}]
[null,null,null," - на региональном уровне",{"$f":"'АР АПТЛ'!G45","v":15},{"$f":"'Т Ак.л'!G45","v":21},{"$f":"'Т №6'!G45","v":12},{"$f":"'Т № 55'!G45","v":0},{"$f":"'Т №14'!G45","v":12},{"$f":"'Т №16'!G45","v":31},{"$f":"'Т №33'!G45","v":17},{"$f":"'Т № 37'!G45","v":28},{"$f":"'Т ПК'!G45","v":8},{"$f":"'Стр ЦДОД'!G45","v":171},{"$f":"'ЗС Сам'!G45","v":12},{"$f":"'ЗС №86-87'!G45","v":19},{"$f":"'ЗС №80'!G45","v":30},{"$f":"'ЗС №87'!G45","v":0},{"$f":"'ЗС №196'!G45","v":20},{"$f":"'ЗС №197'!G45","v":10},{"$f":"'АР  №2'!G45","v":25},{"$f":"'АР №4'!G45","v":25},{"$f":"'АР Нов'!G45","v":10},{"$f":"'АР ДДТ'!G45","v":4},{"$f":"'БР Бак'!G45","v":0},{"$f":"'БР Выс'!G45","v":19},{"$f":"'ЗР Зыр'!G45","v":14},{"$f":"'ЗР Зыр Выс'!G45","v":2},{"$f":"' КР Кож №1'!G45","v":93},{"$f":"'КР Кож №2'!G45","v":11},{"$f":"'КР Вол Крив'!G45","v":22},{"$f":"'КР Крив'!G45","v":2},{"$f":"' МР Мол'!G45","v":21},{"$f":"'ПР Пар. ДДТ'!G45","v":0},{"$f":"'ПР Куян'!G45","v":10},{"$f":"' ПР Пер'!G45","v":16},{"$f":"'ТР  Вор'!G45","v":0},{"$f":"'ТР Мал'!G45","v":12},{"$f":"'ТР Тур'!G45","v":14},{"$f":"'ТР Чер'!G45","v":1},{"$f":"' ТР Кал'!G45","v":5},{"$f":"'ТР ДДТ'!G45","v":1},{"$f":"'ТР Корн'!G45","v":6},{"$f":"'ЧР Нов'!G45","v":7},{"$f":"'ШР Поб'!G45","v":13},739,{"$f":"AT40/$AT$2","v":0.46624605678233438}]
[null,null,null," - на федеральном  и международном уровнях",{"$f":"'АР АПТЛ'!G46","v":0},{"$f":"'Т Ак.л'!G46","v":4},{"$f":"'Т №6'!G46","v":16},{"$f":"'Т № 55'!G46","v":0},{"$f":"'Т №14'!G46","v":0},{"$f":"'Т №16'!G46","v":3},{"$f":"'Т №33'!G46","v":0},{"$f":"'Т № 37'!G46","v":55},{"$f":"'Т ПК'!G46","v":0},{"$f":"'Стр ЦДОД'!G46","v":146},{"$f":"'ЗС Сам'!G46","v":3},{"$f":"'ЗС №86-87'!G46","v":38},{"$f":"'ЗС №80'!G46","v":0},{"$f":"'ЗС №87'!G46","v":0},{"$f":"'ЗС №196'!G46","v":14},{"$f":"'ЗС №197'!G46","v":0},{"$f":"'АР  №2'!G46","v":7},{"$f":"'АР №4'!G46","v":22},{"$f":"'АР Нов'!G46","v":0},{"$f":"'АР ДДТ'!G46","v":0},{"$f":"'БР Бак'!G46","v":0},{"$f":"'БР Выс'!G46","v":4},{"$f":"'ЗР Зыр'!G46","v":0},{"$f":"'ЗР Зыр Выс'!G46","v":3},{"$f":"' КР Кож №1'!G46","v":6},{"$f":"'КР Кож №2'!G46","v":4},{"$f":"'КР Вол Крив'!G46","v":0},{"$f":"'КР Крив'!G46","v":0},{"$f":"' МР Мол'!G46","v":0},{"$f":"'ПР Пар. ДДТ'!G46","v":0},{"$f":"'ПР Куян'!G46","v":0},{"$f":"' ПР Пер'!G46","v":4},{"$f":"'ТР  Вор'!G46","v":0},{"$f":"'ТР Мал'!G46","v":0},{"$f":"'ТР Тур'!G46","v":0},{"$f":"'ТР Чер'!G46","v":0},{"$f":"' ТР Кал'!G46","v":0},{"$f":"'ТР ДДТ'!G46","v":0},{"$f":"'ТР Корн'!G46","v":0},{"$f":"'ЧР Нов'!G46","v":0},{"$f":"'ШР Поб'!G46","v":0},329,{"$f":"AT41/$AT$2","v":0.20757097791798107}]
[31,null,"уровень обобщения и представления опыта деятельности Центра по теме Программы","публичное представление промежуточных результатов реализации образовательной Программы:",{"$f":"'АР АПТЛ'!G47","v":0},{"$f":"'Т Ак.л'!G47","v":0},{"$f":"'Т №6'!G47","v":0},{"$f":"'Т № 55'!G47","v":0},{"$f":"'Т №14'!G47","v":0},{"$f":"'Т №16'!G47","v":0},{"$f":"'Т №33'!G47","v":0},{"$f":"'Т № 37'!G47","v":0},{"$f":"'Т ПК'!G47","v":0},{"$f":"'Стр ЦДОД'!G47","v":0},{"$f":"'ЗС Сам'!G47","v":0},{"$f":"'ЗС №86-87'!G47","v":0},{"$f":"'ЗС №80'!G47","v":0},{"$f":"'ЗС №87'!G47","v":0},{"$f":"'ЗС №196'!G47","v":0},{"$f":"'ЗС №197'!G47","v":0},{"$f":"'АР  №2'!G47","v":0},{"$f":"'АР №4'!G47","v":0},{"$f":"'АР Нов'!G47","v":0},{"$f":"'АР ДДТ'!G47","v":0},{"$f":"'БР Бак'!G47","v":0},{"$f":"'БР Выс'!G47","v":0},{"$f":"'ЗР Зыр'!G47","v":0},{"$f":"'ЗР Зыр Выс'!G47","v":0},{"$f":"' КР Кож №1'!G47","v":0},{"$f":"'КР Кож №2'!G47","v":0},{"$f":"'КР Вол Крив'!G47","v":0},{"$f":"'КР Крив'!G47","v":0},{"$f":"' МР Мол'!G47","v":0},{"$f":"'ПР Пар. ДДТ'!G47","v":0},{"$f":"'ПР Куян'!G47","v":0},{"$f":"' ПР Пер'!G47","v":0},{"$f":"'ТР  Вор'!G47","v":0},{"$f":"'ТР Мал'!G47","v":0},{"$f":"'ТР Тур'!G47","v":0},{"$f":"'ТР Чер'!G47","v":0},{"$f":"' ТР Кал'!G47","v":0},{"$f":"'ТР ДДТ'!G47","v":0},{"$f":"'ТР Корн'!G47","v":0},{"$f":"'ЧР Нов'!G47","v":0},{"$f":"'ШР Поб'!G47","v":0}]
[null,null,null," - на школьном уровне",{"$f":"'АР АПТЛ'!G48","v":0},{"$f":"'Т Ак.л'!G48","v":16},{"$f":"'Т №6'!G48","v":2},{"$f":"'Т № 55'!G48","v":1},{"$f":"'Т №14'!G48","v":2},{"$f":"'Т №16'!G48","v":0},{"$f":"'Т №33'!G48","v":2},{"$f":"'Т № 37'!G48","v":1},{"$f":"'Т ПК'!G48","v":0},{"$f":"'Стр ЦДОД'!G48","v":6},{"$f":"'ЗС Сам'!G48","v":2},{"$f":"'ЗС №86-87'!G48","v":3},{"$f":"'ЗС №80'!G48","v":0},{"$f":"'ЗС №87'!G48","v":1},{"$f":"'ЗС №196'!G48","v":4},{"$f":"'ЗС №197'!G48","v":3},{"$f":"'АР  №2'!G48","v":1},{"$f":"'АР №4'!G48","v":2},{"$f":"'АР Нов'!G48","v":0},{"$f":"'АР ДДТ'!G48","v":0},{"$f":"'БР Бак'!G48","v":0},{"$f":"'БР Выс'!G48","v":1},{"$f":"'ЗР Зыр'!G48","v":0},{"$f":"'ЗР Зыр Выс'!G48","v":1},{"$f":"' КР Кож №1'!G48","v":1},{"$f":"'КР Кож №2'!G48","v":0},{"$f":"'КР Вол Крив'!G48","v":0},{"$f":"'КР Крив'!G48","v":0},{"$f":"' МР Мол'!G48","v":1},{"$f":"'ПР Пар. ДДТ'!G48","v":0},{"$f":"'ПР Куян'!G48","v":2},{"$f":"' ПР Пер'!G48","v":0},{"$f":"'ТР  Вор'!G48","v":1},{"$f":"'ТР Мал'!G48","v":1},{"$f":"'ТР Тур'!G48","v":3},{"$f":"'ТР Чер'!G48","v":1},{"$f":"' ТР Кал'!G48","v":2},{"$f":"'ТР ДДТ'!G48","v":0},{"$f":"'ТР Корн'!G48","v":0},{"$f":"'ЧР Нов'!G48","v":0},{"$f":"'ШР Поб'!G48","v":1},61,{"$f":"28/41","v":0.68292682926829273}]
[null,null,null," - на муниципальном уровне",{"$f":"'АР АПТЛ'!G49","v":0},{"$f":"'Т Ак.л'!G49","v":3},{"$f":"'Т №6'!G49","v":0},{"$f":"'Т № 55'!G49","v":1},{"$f":"'Т №14'!G49","v":1},{"$f":"'Т №16'!G49","v":0},{"$f":"'Т №33'!G49","v":2},{"$f":"'Т № 37'!G49","v":3},{"$f":"'Т ПК'!G49","v":0},{"$f":"'Стр ЦДОД'!G49","v":20},{"$f":"'ЗС Сам'!G49","v":2},{"$f":"'ЗС №86-87'!G49","v":2},{"$f":"'ЗС №80'!G49","v":2},{"$f":"'ЗС №87'!G49","v":2},{"$f":"'ЗС №196'!G49","v":4},{"$f":"'ЗС №197'!G49","v":0},{"$f":"'АР  №2'!G49","v":0},{"$f":"'АР №4'!G49","v":2},{"$f":"'АР Нов'!G49","v":0},{"$f":"'АР ДДТ'!G49","v":0},{"$f":"'БР Бак'!G49","v":5},{"$f":"'БР Выс'!G49","v":1},{"$f":"'ЗР Зыр'!G49","v":1},{"$f":"'ЗР Зыр Выс'!G49","v":1},{"$f":"' КР Кож №1'!G49","v":0},{"$f":"'КР Кож №2'!G49","v":0},{"$f":"'КР Вол Крив'!G49","v":1},{"$f":"'КР Крив'!G49","v":1},{"$f":"' МР Мол'!G49","v":0},{"$f":"'ПР Пар. ДДТ'!G49","v":0},{"$f":"'ПР Куян'!G49","v":2},{"$f":"' ПР Пер'!G49","v":1},{"$f":"'ТР  Вор'!G49","v":1},{"$f":"'ТР Мал'!G49","v":1},{"$f":"'ТР Тур'!G49","v":0},{"$f":"'ТР Чер'!G49","v":0},{"$f":"' ТР Кал'!G49","v":0},{"$f":"'ТР ДДТ'!G49","v":0},{"$f":"'ТР Корн'!G49","v":1},{"$f":"'ЧР Нов'!G49","v":4},{"$f":"'ШР Поб'!G49","v":0},64,{"$f":"29/41","v":0.70731707317073167}]
[null,null,null," - на региональном уровне",{"$f":"'АР АПТЛ'!G50","v":0},{"$f":"'Т Ак.л'!G50","v":9},{"$f":"'Т №6'!G50","v":0},{"$f":"'Т № 55'!G50","v":1},{"$f":"'Т №14'!G50","v":0},{"$f":"'Т №16'!G50","v":4},{"$f":"'Т №33'!G50","v":2},{"$f":"'Т № 37'!G50","v":4},{"$f":"'Т ПК'!G50","v":1},{"$f":"'Стр ЦДОД'!G50","v":6},{"$f":"'ЗС Сам'!G50","v":0},{"$f":"'ЗС №86-87'!G50","v":2},{"$f":"'ЗС №80'!G50","v":0},{"$f":"'ЗС №87'!G50","v":2},{"$f":"'ЗС №196'!G50","v":4},{"$f":"'ЗС №197'!G50","v":0},{"$f":"'АР  №2'!G50","v":0},{"$f":"'АР №4'!G50","v":8},{"$f":"'АР Нов'!G50","v":1},{"$f":"'АР ДДТ'!G50","v":3},{"$f":"'БР Бак'!G50","v":2},{"$f":"'БР Выс'!G50","v":0},{"$f":"'ЗР Зыр'!G50","v":0},{"$f":"'ЗР Зыр Выс'!G50","v":0},{"$f":"' КР Кож №1'!G50","v":1},{"$f":"'КР Кож №2'!G50","v":0},{"$f":"'КР Вол Крив'!G50","v":0},{"$f":"'КР Крив'!G50","v":0},{"$f":"' МР Мол'!G50","v":0},{"$f":"'ПР Пар. ДДТ'!G50","v":0},{"$f":"'ПР Куян'!G50","v":4},{"$f":"' ПР Пер'!G50","v":5},{"$f":"'ТР  Вор'!G50","v":0},{"$f":"'ТР Мал'!G50","v":1},{"$f":"'ТР Тур'!G50","v":1},{"$f":"'ТР Чер'!G50","v":0},{"$f":"' ТР Кал'!G50","v":0},{"$f":"'ТР ДДТ'!G50","v":0},{"$f":"'ТР Корн'!G50","v":1},{"$f":"'ЧР Нов'!G50","v":0},{"$f":"'ШР Поб'!G50","v":0},62,{"$f":"18/41","v":0.43902439024390244}]
[null,null,null," - на федеральном  и международном уровнях",{"$f":"'АР АПТЛ'!G51","v":0},{"$f":"'Т Ак.л'!G51","v":3},{"$f":"'Т №6'!G51","v":0},{"$f":"'Т № 55'!G51","v":0},{"$f":"'Т №14'!G51","v":0},{"$f":"'Т №16'!G51","v":2},{"$f":"'Т №33'!G51","v":1},{"$f":"'Т № 37'!G51","v":3},{"$f":"'Т ПК'!G51","v":1},{"$f":"'Стр ЦДОД'!G51","v":4},{"$f":"'ЗС Сам'!G51","v":0},{"$f":"'ЗС №86-87'!G51","v":3},{"$f":"'ЗС №80'!G51","v":1},{"$f":"'ЗС №87'!G51","v":1},{"$f":"'ЗС №196'!G51","v":4},{"$f":"'ЗС №197'!G51","v":0},{"$f":"'АР  №2'!G51","v":0},{"$f":"'АР №4'!G51","v":2},{"$f":"'АР Нов'!G51","v":0},{"$f":"'АР ДДТ'!G51","v":0},{"$f":"'БР Бак'!G51","v":0},{"$f":"'БР Выс'!G51","v":0},{"$f":"'ЗР Зыр'!G51","v":0},{"$f":"'ЗР Зыр Выс'!G51","v":0},{"$f":"' КР Кож №1'!G51","v":1},{"$f":"'КР Кож №2'!G51","v":0},{"$f":"'КР Вол Крив'!G51","v":0},{"$f":"'КР Крив'!G51","v":0},{"$f":"' МР Мол'!G51","v":0},{"$f":"'ПР Пар. ДДТ'!G51","v":0},{"$f":"'ПР Куян'!G51","v":0},{"$f":"' ПР Пер'!G51","v":0},{"$f":"'ТР  Вор'!G51","v":0},{"$f":"'ТР Мал'!G51","v":0},{"$f":"'ТР Тур'!G51","v":0},{"$f":"'ТР Чер'!G51","v":0},{"$f":"' ТР Кал'!G51","v":0},{"$f":"'ТР ДДТ'!G51","v":0},{"$f":"'ТР Корн'!G51","v":0},{"$f":"'ЧР Нов'!G51","v":0},{"$f":"'ШР Поб'!G51","v":0},26,{"$f":"11/41","v":0.26829268292682928}]
[32,null,null,"организация мероприятий, семинаров различного уровня по теме образовательной Программы:",{"$f":"'АР АПТЛ'!G52","v":0},{"$f":"'Т Ак.л'!G52","v":0},{"$f":"'Т №6'!G52","v":0},{"$f":"'Т № 55'!G52","v":0},{"$f":"'Т №14'!G52","v":0},{"$f":"'Т №16'!G52","v":0},{"$f":"'Т №33'!G52","v":0},{"$f":"'Т № 37'!G52","v":0},{"$f":"'Т ПК'!G52","v":0},{"$f":"'Стр ЦДОД'!G52","v":0},{"$f":"'ЗС Сам'!G52","v":0},{"$f":"'ЗС №86-87'!G52","v":0},{"$f":"'ЗС №80'!G52","v":0},{"$f":"'ЗС №87'!G52","v":0},{"$f":"'ЗС №196'!G52","v":0},{"$f":"'ЗС №197'!G52","v":0},{"$f":"'АР  №2'!G52","v":0},{"$f":"'АР №4'!G52","v":0},{"$f":"'АР Нов'!G52","v":0},{"$f":"'АР ДДТ'!G52","v":0},{"$f":"'БР Бак'!G52","v":0},{"$f":"'БР Выс'!G52","v":0},{"$f":"'ЗР Зыр'!G52","v":0},{"$f":"'ЗР Зыр Выс'!G52","v":0},{"$f":"' КР Кож №1'!G52","v":0},{"$f":"'КР Кож №2'!G52","v":0},{"$f":"'КР Вол Крив'!G52","v":0},{"$f":"'КР Крив'!G52","v":0},{"$f":"' МР Мол'!G52","v":0},{"$f":"'ПР Пар. ДДТ'!G52","v":0},{"$f":"'ПР Куян'!G52","v":0},{"$f":"' ПР Пер'!G52","v":0},{"$f":"'ТР  Вор'!G52","v":0},{"$f":"'ТР Мал'!G52","v":0},{"$f":"'ТР Тур'!G52","v":0},{"$f":"'ТР Чер'!G52","v":0},{"$f":"' ТР Кал'!G52","v":0},{"$f":"'ТР ДДТ'!G52","v":0},{"$f":"'ТР Корн'!G52","v":0},{"$f":"'ЧР Нов'!G52","v":0},{"$f":"'ШР Поб'!G52","v":0}]
[null,null,null," - на муниципальном уровне",{"$f":"'АР АПТЛ'!G53","v":0},{"$f":"'Т Ак.л'!G53","v":2},{"$f":"'Т №6'!G53","v":0},{"$f":"'Т № 55'!G53","v":2},{"$f":"'Т №14'!G53","v":0},{"$f":"'Т №16'!G53","v":1},{"$f":"'Т №33'!G53","v":1},{"$f":"'Т № 37'!G53","v":1},{"$f":"'Т ПК'!G53","v":2},{"$f":"'Стр ЦДОД'!G53","v":20},{"$f":"'ЗС Сам'!G53","v":1},{"$f":"'ЗС №86-87'!G53","v":2},{"$f":"'ЗС №80'!G53","v":2},{"$f":"'ЗС №87'!G53","v":2},{"$f":"'ЗС №196'!G53","v":13},{"$f":"'ЗС №197'!G53","v":0},{"$f":"'АР  №2'!G53","v":0},{"$f":"'АР №4'!G53","v":5},{"$f":"'АР Нов'!G53","v":0},{"$f":"'АР ДДТ'!G53","v":2},{"$f":"'БР Бак'!G53","v":0},{"$f":"'БР Выс'!G53","v":0},{"$f":"'ЗР Зыр'!G53","v":2},{"$f":"'ЗР Зыр Выс'!G53","v":1},{"$f":"' КР Кож №1'!G53","v":3},{"$f":"'КР Кож №2'!G53","v":0},{"$f":"'КР Вол Крив'!G53","v":0},{"$f":"'КР Крив'!G53","v":0},{"$f":"' МР Мол'!G53","v":1},{"$f":"'ПР Пар. ДДТ'!G53","v":0},{"$f":"'ПР Куян'!G53","v":1},{"$f":"' ПР Пер'!G53","v":0},{"$f":"'ТР  Вор'!G53","v":1},{"$f":"'ТР Мал'!G53","v":0},{"$f":"'ТР Тур'!G53","v":0},{"$f":"'ТР Чер'!G53","v":0},{"$f":"' ТР Кал'!G53","v":0},{"$f":"'ТР ДДТ'!G53","v":2},{"$f":"'ТР Корн'!G53","v":0},{"$f":"'ЧР Нов'!G53","v":0},{"$f":"'ШР Поб'!G53","v":0},67,{"$f":"AT48/46","v":1.4565217391304348}]
[null,null,null," - на региональном уровне",{"$f":"'АР АПТЛ'!G54","v":1},{"$f":"'Т Ак.л'!G54","v":2},{"$f":"'Т №6'!G54","v":1},{"$f":"'Т № 55'!G54","v":2},{"$f":"'Т №14'!G54","v":1},{"$f":"'Т №16'!G54","v":1},{"$f":"'Т №33'!G54","v":1},{"$f":"'Т № 37'!G54","v":4},{"$f":"'Т ПК'!G54","v":1},{"$f":"'Стр ЦДОД'!G54","v":6},{"$f":"'ЗС Сам'!G54","v":2},{"$f":"'ЗС №86-87'!G54","v":3},{"$f":"'ЗС №80'!G54","v":1},{"$f":"'ЗС №87'!G54","v":0},{"$f":"'ЗС №196'!G54","v":3},{"$f":"'ЗС №197'!G54","v":1},{"$f":"'АР  №2'!G54","v":2},{"$f":"'АР №4'!G54","v":2},{"$f":"'АР Нов'!G54","v":1},{"$f":"'АР ДДТ'!G54","v":0},{"$f":"'БР Бак'!G54","v":0},{"$f":"'БР Выс'!G54","v":2},{"$f":"'ЗР Зыр'!G54","v":0},{"$f":"'ЗР Зыр Выс'!G54","v":0},{"$f":"' КР Кож №1'!G54","v":4},{"$f":"'КР Кож №2'!G54","v":0},{"$f":"'КР Вол Крив'!G54","v":1},{"$f":"'КР Крив'!G54","v":1},{"$f":"' МР Мол'!G54","v":1},{"$f":"'ПР Пар. ДДТ'!G54","v":1},{"$f":"'ПР Куян'!G54","v":1},{"$f":"' ПР Пер'!G54","v":1},{"$f":"'ТР  Вор'!G54","v":0},{"$f":"'ТР Мал'!G54","v":2},{"$f":"'ТР Тур'!G54","v":1},{"$f":"'ТР Чер'!G54","v":1},{"$f":"' ТР Кал'!G54","v":1},{"$f":"'ТР ДДТ'!G54","v":1},{"$f":"'ТР Корн'!G54","v":1},{"$f":"'ЧР Нов'!G54","v":0},{"$f":"'ШР Поб'!G54","v":1},55,{"$f":"AT49/46","v":1.1956521739130435}]
[null,null,null," - на федеральном  и международном уровнях",{"$f":"'АР АПТЛ'!G55","v":0},{"$f":"'Т Ак.л'!G55","v":0},{"$f":"'Т №6'!G55","v":0},{"$f":"'Т № 55'!G55","v":0},{"$f":"'Т №14'!G55","v":0},{"$f":"'Т №16'!G55","v":1},{"$f":"'Т №33'!G55","v":0},{"$f":"'Т № 37'!G55","v":3},{"$f":"'Т ПК'!G55","v":0},{"$f":"'Стр ЦДОД'!G55","v":1},{"$f":"'ЗС Сам'!G55","v":0},{"$f":"'ЗС №86-87'!G55","v":1},{"$f":"'ЗС №80'!G55","v":0},{"$f":"'ЗС №87'!G55","v":0},{"$f":"'ЗС №196'!G55","v":0},{"$f":"'ЗС №197'!G55","v":0},{"$f":"'АР  №2'!G55","v":0},{"$f":"'АР №4'!G55","v":0},{"$f":"'АР Нов'!G55","v":0},{"$f":"'АР ДДТ'!G55","v":0},{"$f":"'БР Бак'!G55","v":0},{"$f":"'БР Выс'!G55","v":0},{"$f":"'ЗР Зыр'!G55","v":0},{"$f":"'ЗР Зыр Выс'!G55","v":0},{"$f":"' КР Кож №1'!G55","v":0},{"$f":"'КР Кож №2'!G55","v":0},{"$f":"'КР Вол Крив'!G55","v":0},{"$f":"'КР Крив'!G55","v":0},{"$f":"' МР Мол'!G55","v":0},{"$f":"'ПР Пар. ДДТ'!G55","v":0},{"$f":"'ПР Куян'!G55","v":0},{"$f":"' ПР Пер'!G55","v":0},{"$f":"'ТР  Вор'!G55","v":0},{"$f":"'ТР Мал'!G55","v":0},{"$f":"'ТР Тур'!G55","v":0},{"$f":"'ТР Чер'!G55","v":0},{"$f":"' ТР Кал'!G55","v":0},{"$f":"'ТР ДДТ'!G55","v":0},{"$f":"'ТР Корн'!G55","v":0},{"$f":"'ЧР Нов'!G55","v":0},{"$f":"'ШР Поб'!G55","v":0},6,{"$f":"AT50/46","v":0.13043478260869565}]
[33,null,null,"внешкольная экспертная деятельность преподавателей Центра по теме Программы",{"$f":"'АР АПТЛ'!G56","v":0},{"$f":"'Т Ак.л'!G56","v":4},{"$f":"'Т №6'!G56","v":0},{"$f":"'Т № 55'!G56","v":0},{"$f":"'Т №14'!G56","v":0},{"$f":"'Т №16'!G56","v":0},{"$f":"'Т №33'!G56","v":1},{"$f":"'Т № 37'!G56","v":15},{"$f":"'Т ПК'!G56","v":0},{"$f":"'Стр ЦДОД'!G56","v":184},{"$f":"'ЗС Сам'!G56","v":0},{"$f":"'ЗС №86-87'!G56","v":60},{"$f":"'ЗС №80'!G56","v":0},{"$f":"'ЗС №87'!G56","v":0},{"$f":"'ЗС №196'!G56","v":30},{"$f":"'ЗС №197'!G56","v":20},{"$f":"'АР  №2'!G56","v":0},{"$f":"'АР №4'!G56","v":32},{"$f":"'АР Нов'!G56","v":0},{"$f":"'АР ДДТ'!G56","v":3.5},{"$f":"'БР Бак'!G56","v":6},{"$f":"'БР Выс'!G56","v":5},{"$f":"'ЗР Зыр'!G56","v":5},{"$f":"'ЗР Зыр Выс'!G56","v":0},{"$f":"' КР Кож №1'!G56","v":24},{"$f":"'КР Кож №2'!G56","v":6},{"$f":"'КР Вол Крив'!G56","v":0},{"$f":"'КР Крив'!G56","v":0},{"$f":"' МР Мол'!G56","v":0},{"$f":"'ПР Пар. ДДТ'!G56","v":0},{"$f":"'ПР Куян'!G56","v":0},{"$f":"' ПР Пер'!G56","v":7},{"$f":"'ТР  Вор'!G56","v":16},{"$f":"'ТР Мал'!G56","v":0},{"$f":"'ТР Тур'!G56","v":0},{"$f":"'ТР Чер'!G56","v":0},{"$f":"' ТР Кал'!G56","v":0},{"$f":"'ТР ДДТ'!G56","v":0},{"$f":"'ТР Корн'!G56","v":0},{"$f":"'ЧР Нов'!G56","v":0},{"$f":"'ШР Поб'!G56","v":0},418.5,{"$f":"AT51/46","v":9.0978260869565215}]
[34,null,null,"наличие публикаций в методических изданиях по теме Программы",{"$f":"'АР АПТЛ'!G57","v":0},{"$f":"'Т Ак.л'!G57","v":4},{"$f":"'Т №6'!G57","v":1},{"$f":"'Т № 55'!G57","v":1},{"$f":"'Т №14'!G57","v":0},{"$f":"'Т №16'!G57","v":2},{"$f":"'Т №33'!G57","v":0},{"$f":"'Т № 37'!G57","v":22},{"$f":"'Т ПК'!G57","v":0},{"$f":"'Стр ЦДОД'!G57","v":265},{"$f":"'ЗС Сам'!G57","v":1},{"$f":"'ЗС №86-87'!G57","v":34},{"$f":"'ЗС №80'!G57","v":8},{"$f":"'ЗС №87'!G57","v":5},{"$f":"'ЗС №196'!G57","v":8},{"$f":"'ЗС №197'!G57","v":0},{"$f":"'АР  №2'!G57","v":0},{"$f":"'АР №4'!G57","v":12},{"$f":"'АР Нов'!G57","v":0},{"$f":"'АР ДДТ'!G57","v":0},{"$f":"'БР Бак'!G57","v":0},{"$f":"'БР Выс'!G57","v":0},{"$f":"'ЗР Зыр'!G57","v":0},{"$f":"'ЗР Зыр Выс'!G57","v":0},{"$f":"' КР Кож №1'!G57","v":0},{"$f":"'КР Кож №2'!G57","v":0},{"$f":"'КР Вол Крив'!G57","v":0},{"$f":"'КР Крив'!G57","v":0},{"$f":"' МР Мол'!G57","v":0},{"$f":"'ПР Пар. ДДТ'!G57","v":0},{"$f":"'ПР Куян'!G57","v":7},{"$f":"' ПР Пер'!G57","v":22},{"$f":"'ТР  Вор'!G57","v":0},{"$f":"'ТР Мал'!G57","v":3},{"$f":"'ТР Тур'!G57","v":0},{"$f":"'ТР Чер'!G57","v":0},{"$f":"' ТР Кал'!G57","v":0},{"$f":"'ТР ДДТ'!G57","v":0},{"$f":"'ТР Корн'!G57","v":0},{"$f":"'ЧР Нов'!G57","v":0},{"$f":"'ШР Поб'!G57","v":0},395,{"$f":"16/41","v":0.3902439024390244}]
[35,null,null,"количество публикаций в СМИ муниципального и регионального уровня по теме Программы",{"$f":"'АР АПТЛ'!G58","v":0},{"$f":"'Т Ак.л'!G58","v":1},{"$f":"'Т №6'!G58","v":0},{"$f":"'Т № 55'!G58","v":1},{"$f":"'Т №14'!G58","v":0},{"$f":"'Т №16'!G58","v":4},{"$f":"'Т №33'!G58","v":0},{"$f":"'Т № 37'!G58","v":0},{"$f":"'Т ПК'!G58","v":0},{"$f":"'Стр ЦДОД'!G58","v":23},{"$f":"'ЗС Сам'!G58","v":0},{"$f":"'ЗС №86-87'!G58","v":5},{"$f":"'ЗС №80'!G58","v":1},{"$f":"'ЗС №87'!G58","v":0},{"$f":"'ЗС №196'!G58","v":1},{"$f":"'ЗС №197'!G58","v":0},{"$f":"'АР  №2'!G58","v":9},{"$f":"'АР №4'!G58","v":4},{"$f":"'АР Нов'!G58","v":0},{"$f":"'АР ДДТ'!G58","v":2},{"$f":"'БР Бак'!G58","v":1},{"$f":"'БР Выс'!G58","v":3},{"$f":"'ЗР Зыр'!G58","v":1},{"$f":"'ЗР Зыр Выс'!G58","v":0},{"$f":"' КР Кож №1'!G58","v":2},{"$f":"'КР Кож №2'!G58","v":0},{"$f":"'КР Вол Крив'!G58","v":0},{"$f":"'КР Крив'!G58","v":1},{"$f":"' МР Мол'!G58","v":7},{"$f":"'ПР Пар. ДДТ'!G58","v":5},{"$f":"'ПР Куян'!G58","v":1},{"$f":"' ПР Пер'!G58","v":2},{"$f":"'ТР  Вор'!G58","v":0},{"$f":"'ТР Мал'!G58","v":1},{"$f":"'ТР Тур'!G58","v":1},{"$f":"'ТР Чер'!G58","v":0},{"$f":"' ТР Кал'!G58","v":0},{"$f":"'ТР ДДТ'!G58","v":0},{"$f":"'ТР Корн'!G58","v":0},{"$f":"'ЧР Нов'!G58","v":0},{"$f":"'ШР Поб'!G58","v":1},77,{"$f":"22/41","v":0.53658536585365857}]
[36,null,"уровень организации и степень достижения целей и задач инновационной деятельности","наличие рецензии на образовательную Программу",{"$f":"'АР АПТЛ'!G59","v":1},{"$f":"'Т Ак.л'!G59","v":1},{"$f":"'Т №6'!G59","v":0},{"$f":"'Т № 55'!G59","v":1},{"$f":"'Т №14'!G59","v":0},{"$f":"'Т №16'!G59","v":1},{"$f":"'Т №33'!G59","v":0},{"$f":"'Т № 37'!G59","v":1},{"$f":"'Т ПК'!G59","v":1},{"$f":"'Стр ЦДОД'!G59","v":1},{"$f":"'ЗС Сам'!G59","v":1},{"$f":"'ЗС №86-87'!G59","v":1},{"$f":"'ЗС №80'!G59","v":1},{"$f":"'ЗС №87'!G59","v":1},{"$f":"'ЗС №196'!G59","v":1},{"$f":"'ЗС №197'!G59","v":0},{"$f":"'АР  №2'!G59","v":1},{"$f":"'АР №4'!G59","v":1},{"$f":"'АР Нов'!G59","v":0},{"$f":"'АР ДДТ'!G59","v":0},{"$f":"'БР Бак'!G59","v":1},{"$f":"'БР Выс'!G59","v":1},{"$f":"'ЗР Зыр'!G59","v":0},{"$f":"'ЗР Зыр Выс'!G59","v":0},{"$f":"' КР Кож №1'!G59","v":1},{"$f":"'КР Кож №2'!G59","v":1},{"$f":"'КР Вол Крив'!G59","v":1},{"$f":"'КР Крив'!G59","v":0},{"$f":"' МР Мол'!G59","v":1},{"$f":"'ПР Пар. ДДТ'!G59","v":0},{"$f":"'ПР Куян'!G59","v":1},{"$f":"' ПР Пер'!G59","v":0},{"$f":"'ТР  Вор'!G59","v":1},{"$f":"'ТР Мал'!G59","v":1},{"$f":"'ТР Тур'!G59","v":1},{"$f":"'ТР Чер'!G59","v":1},{"$f":"' ТР Кал'!G59","v":0},{"$f":"'ТР ДДТ'!G59","v":0},{"$f":"'ТР Корн'!G59","v":0},{"$f":"'ЧР Нов'!G59","v":0},{"$f":"'ШР Поб'!G59","v":0},25,{"$f":"AT54/46","v":0.54347826086956519}]
[37,null,null,"Программа Центра является частью программы развития ОУ",{"$f":"'АР АПТЛ'!G60","v":1},{"$f":"'Т Ак.л'!G60","v":1},{"$f":"'Т №6'!G60","v":1},{"$f":"'Т № 55'!G60","v":1},{"$f":"'Т №14'!G60","v":0},{"$f":"'Т №16'!G60","v":1},{"$f":"'Т №33'!G60","v":1},{"$f":"'Т № 37'!G60","v":1},{"$f":"'Т ПК'!G60","v":1},{"$f":"'Стр ЦДОД'!G60","v":1},{"$f":"'ЗС Сам'!G60","v":1},{"$f":"'ЗС №86-87'!G60","v":1},{"$f":"'ЗС №80'!G60","v":1},{"$f":"'ЗС №87'!G60","v":1},{"$f":"'ЗС №196'!G60","v":1},{"$f":"'ЗС №197'!G60","v":1},{"$f":"'АР  №2'!G60","v":1},{"$f":"'АР №4'!G60","v":1},{"$f":"'АР Нов'!G60","v":1},{"$f":"'АР ДДТ'!G60","v":1},{"$f":"'БР Бак'!G60","v":1},{"$f":"'БР Выс'!G60","v":1},{"$f":"'ЗР Зыр'!G60","v":1},{"$f":"'ЗР Зыр Выс'!G60","v":0},{"$f":"' КР Кож №1'!G60","v":1},{"$f":"'КР Кож №2'!G60","v":1},{"$f":"'КР Вол Крив'!G60","v":1},{"$f":"'КР Крив'!G60","v":1},{"$f":"' МР Мол'!G60","v":1},{"$f":"'ПР Пар. ДДТ'!G60","v":0},{"$f":"'ПР Куян'!G60","v":1},{"$f":"' ПР Пер'!G60","v":1},{"$f":"'ТР  Вор'!G60","v":1},{"$f":"'ТР Мал'!G60","v":1},{"$f":"'ТР Тур'!G60","v":1},{"$f":"'ТР Чер'!G60","v":1},{"$f":"' ТР Кал'!G60","v":1},{"$f":"'ТР ДДТ'!G60","v":1},{"$f":"'ТР Корн'!G60","v":1},{"$f":"'ЧР Нов'!G60","v":1},{"$f":"'ШР Поб'!G60","v":1},38,0.82608695652173914]
[38,null,null,"Программа Центра является частью муниципальной программы развития",{"$f":"'АР АПТЛ'!G61","v":0},{"$f":"'Т Ак.л'!G61","v":1},{"$f":"'Т №6'!G61","v":1},{"$f":"'Т № 55'!G61","v":1},{"$f":"'Т №14'!G61","v":0},{"$f":"'Т №16'!G61","v":1},{"$f":"'Т №33'!G61","v":1},{"$f":"'Т № 37'!G61","v":1},{"$f":"'Т ПК'!G61","v":1},{"$f":"'Стр ЦДОД'!G61","v":1},{"$f":"'ЗС Сам'!G61","v":1},{"$f":"'ЗС №86-87'!G61","v":1},{"$f":"'ЗС №80'!G61","v":1},{"$f":"'ЗС №87'!G61","v":1},{"$f":"'ЗС №196'!G61","v":0},{"$f":"'ЗС №197'!G61","v":1},{"$f":"'АР  №2'!G61","v":1},{"$f":"'АР №4'!G61","v":1},{"$f":"'АР Нов'!G61","v":1},{"$f":"'АР ДДТ'!G61","v":0},{"$f":"'БР Бак'!G61","v":0},{"$f":"'БР Выс'!G61","v":1},{"$f":"'ЗР Зыр'!G61","v":1},{"$f":"'ЗР Зыр Выс'!G61","v":0},{"$f":"' КР Кож №1'!G61","v":1},{"$f":"'КР Кож №2'!G61","v":0},{"$f":"'КР Вол Крив'!G61","v":1},{"$f":"'КР Крив'!G61","v":1},{"$f":"' МР Мол'!G61","v":1},{"$f":"'ПР Пар. ДДТ'!G61","v":0},{"$f":"'ПР Куян'!G61","v":1},{"$f":"' ПР Пер'!G61","v":0},{"$f":"'ТР  Вор'!G61","v":0},{"$f":"'ТР Мал'!G61","v":0},{"$f":"'ТР Тур'!G61","v":1},{"$f":"'ТР Чер'!G61","v":1},{"$f":"' ТР Кал'!G61","v":0},{"$f":"'ТР ДДТ'!G61","v":1},{"$f":"'ТР Корн'!G61","v":0},{"$f":"'ЧР Нов'!G61","v":0},{"$f":"'ШР Поб'!G61","v":0},26,0.56521739130434778]
[39,null,null,"наличие общественной экспертизы результатов реализации образовательной Программы",{"$f":"'АР АПТЛ'!G62","v":0},{"$f":"'Т Ак.л'!G62","v":1},{"$f":"'Т №6'!G62","v":1},{"$f":"'Т № 55'!G62","v":1},{"$f":"'Т №14'!G62","v":0},{"$f":"'Т №16'!G62","v":0},{"$f":"'Т №33'!G62","v":1},{"$f":"'Т № 37'!G62","v":1},{"$f":"'Т ПК'!G62","v":0},{"$f":"'Стр ЦДОД'!G62","v":1},{"$f":"'ЗС Сам'!G62","v":0},{"$f":"'ЗС №86-87'!G62","v":1},{"$f":"'ЗС №80'!G62","v":1},{"$f":"'ЗС №87'!G62","v":0},{"$f":"'ЗС №196'!G62","v":1},{"$f":"'ЗС №197'!G62","v":0},{"$f":"'АР  №2'!G62","v":1},{"$f":"'АР №4'!G62","v":1},{"$f":"'АР Нов'!G62","v":1},{"$f":"'АР ДДТ'!G62","v":0},{"$f":"'БР Бак'!G62","v":0},{"$f":"'БР Выс'!G62","v":1},{"$f":"'ЗР Зыр'!G62","v":1},{"$f":"'ЗР Зыр Выс'!G62","v":0},{"$f":"' КР Кож №1'!G62","v":1},{"$f":"'КР Кож №2'!G62","v":0},{"$f":"'КР Вол Крив'!G62","v":0},{"$f":"'КР Крив'!G62","v":1},{"$f":"' МР Мол'!G62","v":1},{"$f":"'ПР Пар. ДДТ'!G62","v":0},{"$f":"'ПР Куян'!G62","v":1},{"$f":"' ПР Пер'!G62","v":0},{"$f":"'ТР  Вор'!G62","v":1},{"$f":"'ТР Мал'!G62","v":0},{"$f":"'ТР Тур'!G62","v":1},{"$f":"'ТР Чер'!G62","v":1},{"$f":"' ТР Кал'!G62","v":0},{"$f":"'ТР ДДТ'!G62","v":0},{"$f":"'ТР Корн'!G62","v":0},{"$f":"'ЧР Нов'!G62","v":0},{"$f":"'ШР Поб'!G62","v":0},21,0.45652173913043476]
[40,null,null,"публичное представление результатов инновационной деятельности на научно-практических конференциях",{"$f":"'АР АПТЛ'!G63","v":0},{"$f":"'Т Ак.л'!G63","v":0},{"$f":"'Т №6'!G63","v":0},{"$f":"'Т № 55'!G63","v":0},{"$f":"'Т №14'!G63","v":0},{"$f":"'Т №16'!G63","v":0},{"$f":"'Т №33'!G63","v":0},{"$f":"'Т № 37'!G63","v":0},{"$f":"'Т ПК'!G63","v":0},{"$f":"'Стр ЦДОД'!G63","v":0},{"$f":"'ЗС Сам'!G63","v":0},{"$f":"'ЗС №86-87'!G63","v":0},{"$f":"'ЗС №80'!G63","v":0},{"$f":"'ЗС №87'!G63","v":0},{"$f":"'ЗС №196'!G63","v":0},{"$f":"'ЗС №197'!G63","v":0},{"$f":"'АР  №2'!G63","v":0},{"$f":"'АР №4'!G63","v":0},{"$f":"'АР Нов'!G63","v":0},{"$f":"'АР ДДТ'!G63","v":0},{"$f":"'БР Бак'!G63","v":0},{"$f":"'БР Выс'!G63","v":0},{"$f":"'ЗР Зыр'!G63","v":0},{"$f":"'ЗР Зыр Выс'!G63","v":0},{"$f":"' КР Кож №1'!G63","v":0},{"$f":"'КР Кож №2'!G63","v":0},{"$f":"'КР Вол Крив'!G63","v":0},{"$f":"'КР Крив'!G63","v":0},{"$f":"' МР Мол'!G63","v":0},{"$f":"'ПР Пар. ДДТ'!G63","v":0},{"$f":"'ПР Куян'!G63","v":0},{"$f":"' ПР Пер'!G63","v":0},{"$f":"'ТР  Вор'!G63","v":0},{"$f":"'ТР Мал'!G63","v":0},{"$f":"'ТР Тур'!G63","v":0},{"$f":"'ТР Чер'!G63","v":0},{"$f":"' ТР Кал'!G63","v":0},{"$f":"'ТР ДДТ'!G63","v":0},{"$f":"'ТР Корн'!G63","v":0},{"$f":"'ЧР Нов'!G63","v":0},{"$f":"'ШР Поб'!G63","v":0}]
[null,null,null," - на школьном уровне",{"$f":"'АР АПТЛ'!G64","v":0},{"$f":"'Т Ак.л'!G64","v":0},{"$f":"'Т №6'!G64","v":0},{"$f":"'Т № 55'!G64","v":0},{"$f":"'Т №14'!G64","v":0},{"$f":"'Т №16'!G64","v":0},{"$f":"'Т №33'!G64","v":1},{"$f":"'Т № 37'!G64","v":1},{"$f":"'Т ПК'!G64","v":0},{"$f":"'Стр ЦДОД'!G64","v":1},{"$f":"'ЗС Сам'!G64","v":0},{"$f":"'ЗС №86-87'!G64","v":1},{"$f":"'ЗС №80'!G64","v":0},{"$f":"'ЗС №87'!G64","v":0},{"$f":"'ЗС №196'!G64","v":1},{"$f":"'ЗС №197'!G64","v":1},{"$f":"'АР  №2'!G64","v":0},{"$f":"'АР №4'!G64","v":1},{"$f":"'АР Нов'!G64","v":0},{"$f":"'АР ДДТ'!G64","v":0},{"$f":"'БР Бак'!G64","v":0},{"$f":"'БР Выс'!G64","v":0},{"$f":"'ЗР Зыр'!G64","v":0},{"$f":"'ЗР Зыр Выс'!G64","v":1},{"$f":"' КР Кож №1'!G64","v":0},{"$f":"'КР Кож №2'!G64","v":0},{"$f":"'КР Вол Крив'!G64","v":0},{"$f":"'КР Крив'!G64","v":0},{"$f":"' МР Мол'!G64","v":0},{"$f":"'ПР Пар. ДДТ'!G64","v":0},{"$f":"'ПР Куян'!G64","v":0},{"$f":"' ПР Пер'!G64","v":0},{"$f":"'ТР  Вор'!G64","v":1},{"$f":"'ТР Мал'!G64","v":0},{"$f":"'ТР Тур'!G64","v":0},{"$f":"'ТР Чер'!G64","v":0},{"$f":"' ТР Кал'!G64","v":0},{"$f":"'ТР ДДТ'!G64","v":0},{"$f":"'ТР Корн'!G64","v":0},{"$f":"'ЧР Нов'!G64","v":0},{"$f":"'ШР Поб'!G64","v":0},9,0.19565217391304349]
[null,null,null," - на муниципальном уровне",{"$f":"'АР АПТЛ'!G65","v":0},{"$f":"'Т Ак.л'!G65","v":0},{"$f":"'Т №6'!G65","v":1},{"$f":"'Т № 55'!G65","v":0},{"$f":"'Т №14'!G65","v":0},{"$f":"'Т №16'!G65","v":1},{"$f":"'Т №33'!G65","v":1},{"$f":"'Т № 37'!G65","v":1},{"$f":"'Т ПК'!G65","v":1},{"$f":"'Стр ЦДОД'!G65","v":1},{"$f":"'ЗС Сам'!G65","v":1},{"$f":"'ЗС №86-87'!G65","v":1},{"$f":"'ЗС №80'!G65","v":0},{"$f":"'ЗС №87'!G65","v":0},{"$f":"'ЗС №196'!G65","v":1},{"$f":"'ЗС №197'!G65","v":0},{"$f":"'АР  №2'!G65","v":1},{"$f":"'АР №4'!G65","v":1},{"$f":"'АР Нов'!G65","v":0},{"$f":"'АР ДДТ'!G65","v":1},{"$f":"'БР Бак'!G65","v":0},{"$f":"'БР Выс'!G65","v":1},{"$f":"'ЗР Зыр'!G65","v":1},{"$f":"'ЗР Зыр Выс'!G65","v":0},{"$f":"' КР Кож №1'!G65","v":0},{"$f":"'КР Кож №2'!G65","v":0},{"$f":"'КР Вол Крив'!G65","v":0},{"$f":"'КР Крив'!G65","v":0},{"$f":"' МР Мол'!G65","v":1},{"$f":"'ПР Пар. ДДТ'!G65","v":0},{"$f":"'ПР Куян'!G65","v":0},{"$f":"' ПР Пер'!G65","v":0},{"$f":"'ТР  Вор'!G65","v":0},{"$f":"'ТР Мал'!G65","v":0},{"$f":"'ТР Тур'!G65","v":0},{"$f":"'ТР Чер'!G65","v":1},{"$f":"' ТР Кал'!G65","v":0},{"$f":"'ТР ДДТ'!G65","v":0},{"$f":"'ТР Корн'!G65","v":0},{"$f":"'ЧР Нов'!G65","v":0},{"$f":"'ШР Поб'!G65","v":1},17,0.36956521739130432]
[null,null,null," - на региональном уровне",{"$f":"'АР АПТЛ'!G66","v":1},{"$f":"'Т Ак.л'!G66","v":0},{"$f":"'Т №6'!G66","v":0},{"$f":"'Т № 55'!G66","v":0},{"$f":"'Т №14'!G66","v":0},{"$f":"'Т №16'!G66","v":0},{"$f":"'Т №33'!G66","v":1},{"$f":"'Т № 37'!G66","v":0},{"$f":"'Т ПК'!G66","v":0},{"$f":"'Стр ЦДОД'!G66","v":0},{"$f":"'ЗС Сам'!G66","v":1},{"$f":"'ЗС №86-87'!G66","v":1},{"$f":"'ЗС №80'!G66","v":0},{"$f":"'ЗС №87'!G66","v":0},{"$f":"'ЗС №196'!G66","v":1},{"$f":"'ЗС №197'!G66","v":1},{"$f":"'АР  №2'!G66","v":0},{"$f":"'АР №4'!G66","v":0},{"$f":"'АР Нов'!G66","v":0},{"$f":"'АР ДДТ'!G66","v":1},{"$f":"'БР Бак'!G66","v":0},{"$f":"'БР Выс'!G66","v":0},{"$f":"'ЗР Зыр'!G66","v":1},{"$f":"'ЗР Зыр Выс'!G66","v":0},{"$f":"' КР Кож №1'!G66","v":0},{"$f":"'КР Кож №2'!G66","v":0},{"$f":"'КР Вол Крив'!G66","v":0},{"$f":"'КР Крив'!G66","v":0},{"$f":"' МР Мол'!G66","v":0},{"$f":"'ПР Пар. ДДТ'!G66","v":0},{"$f":"'ПР Куян'!G66","v":1},{"$f":"' ПР Пер'!G66","v":1},{"$f":"'ТР  Вор'!G66","v":0},{"$f":"'ТР Мал'!G66","v":1},{"$f":"'ТР Тур'!G66","v":0},{"$f":"'ТР Чер'!G66","v":1},{"$f":"' ТР Кал'!G66","v":0},{"$f":"'ТР ДДТ'!G66","v":0},{"$f":"'ТР Корн'!G66","v":0},{"$f":"'ЧР Нов'!G66","v":0},{"$f":"'ШР Поб'!G66","v":1},13,0.28260869565217389]
[null,null,null," - на федеральном  и международном уровнях",{"$f":"'АР АПТЛ'!G67","v":0},{"$f":"'Т Ак.л'!G67","v":1},{"$f":"'Т №6'!G67","v":1},{"$f":"'Т № 55'!G67","v":0},{"$f":"'Т №14'!G67","v":0},{"$f":"'Т №16'!G67","v":0},{"$f":"'Т №33'!G67","v":0},{"$f":"'Т № 37'!G67","v":1},{"$f":"'Т ПК'!G67","v":1},{"$f":"'Стр ЦДОД'!G67","v":0},{"$f":"'ЗС Сам'!G67","v":0},{"$f":"'ЗС №86-87'!G67","v":1},{"$f":"'ЗС №80'!G67","v":0},{"$f":"'ЗС №87'!G67","v":1},{"$f":"'ЗС №196'!G67","v":1},{"$f":"'ЗС №197'!G67","v":0},{"$f":"'АР  №2'!G67","v":0},{"$f":"'АР №4'!G67","v":1},{"$f":"'АР Нов'!G67","v":0},{"$f":"'АР ДДТ'!G67","v":0},{"$f":"'БР Бак'!G67","v":0},{"$f":"'БР Выс'!G67","v":0},{"$f":"'ЗР Зыр'!G67","v":0},{"$f":"'ЗР Зыр Выс'!G67","v":0},{"$f":"' КР Кож №1'!G67","v":1},{"$f":"'КР Кож №2'!G67","v":0},{"$f":"'КР Вол Крив'!G67","v":0},{"$f":"'КР Крив'!G67","v":0},{"$f":"' МР Мол'!G67","v":0},{"$f":"'ПР Пар. ДДТ'!G67","v":0},{"$f":"'ПР Куян'!G67","v":1},{"$f":"' ПР Пер'!G67","v":0},{"$f":"'ТР  Вор'!G67","v":0},{"$f":"'ТР Мал'!G67","v":0},{"$f":"'ТР Тур'!G67","v":0},{"$f":"'ТР Чер'!G67","v":0},{"$f":"' ТР Кал'!G67","v":0},{"$f":"'ТР ДДТ'!G67","v":0},{"$f":"'ТР Корн'!G67","v":0},{"$f":"'ЧР Нов'!G67","v":0},{"$f":"'ШР Поб'!G67","v":0},10,0.21739130434782608]
["Общее рейтинговое значение "]